BEGIN:VCALENDAR
VERSION:2.0
PRODID:-//Wasaga Beach Public Library - ECPv6.15.20//NONSGML v1.0//EN
CALSCALE:GREGORIAN
METHOD:PUBLISH
X-WR-CALNAME:Wasaga Beach Public Library
X-ORIGINAL-URL:https://wasagabeachpubliclibrary.ca
X-WR-CALDESC:Events for Wasaga Beach Public Library
REFRESH-INTERVAL;VALUE=DURATION:PT1H
X-Robots-Tag:noindex
X-PUBLISHED-TTL:PT1H
BEGIN:VTIMEZONE
TZID:America/Toronto
BEGIN:DAYLIGHT
TZOFFSETFROM:-0500
TZOFFSETTO:-0400
TZNAME:EDT
DTSTART:20230312T070000
END:DAYLIGHT
BEGIN:STANDARD
TZOFFSETFROM:-0400
TZOFFSETTO:-0500
TZNAME:EST
DTSTART:20231105T060000
END:STANDARD
BEGIN:DAYLIGHT
TZOFFSETFROM:-0500
TZOFFSETTO:-0400
TZNAME:EDT
DTSTART:20240310T070000
END:DAYLIGHT
BEGIN:STANDARD
TZOFFSETFROM:-0400
TZOFFSETTO:-0500
TZNAME:EST
DTSTART:20241103T060000
END:STANDARD
BEGIN:DAYLIGHT
TZOFFSETFROM:-0500
TZOFFSETTO:-0400
TZNAME:EDT
DTSTART:20250309T070000
END:DAYLIGHT
BEGIN:STANDARD
TZOFFSETFROM:-0400
TZOFFSETTO:-0500
TZNAME:EST
DTSTART:20251102T060000
END:STANDARD
END:VTIMEZONE
BEGIN:VEVENT
DTSTART;TZID=America/Toronto:20240910T100000
DTEND;TZID=America/Toronto:20240910T104500
DTSTAMP:20260421T040551
CREATED:20240123T084009Z
LAST-MODIFIED:20240910T105127Z
UID:10000428-1725962400-1725965100@wasagabeachpubliclibrary.ca
SUMMARY:Music & Storytime
DESCRIPTION:Listen to your favourite books\, sing tunes and play along with instruments.
URL:https://wasagabeachpubliclibrary.ca/events/music-storytime-60/
LOCATION:Wasaga Beach Public Library\, 544 River Road West\, Wasaga Beach\, ON\, L9Z 2P1\, Canada
CATEGORIES:Child & Youth
ATTACH;FMTTYPE=image/jpeg:https://wasagabeachpubliclibrary.ca/wp-content/uploads/2024/01/5ef3b0e54af8aee0a2e04c07223db1cb.jpg
END:VEVENT
BEGIN:VEVENT
DTSTART;TZID=America/Toronto:20240910T100000
DTEND;TZID=America/Toronto:20240910T130000
DTSTAMP:20260421T040551
CREATED:20240828T185304Z
LAST-MODIFIED:20240828T185305Z
UID:10002584-1725962400-1725973200@wasagabeachpubliclibrary.ca
SUMMARY:Georgian College Academic and Career Preparation
DESCRIPTION:Georgian College is set to return their Communications and Keys to Success classes to the Wasaga Beach Public Library every Tuesday from September 3 until December 10. Additionally\, every Wednesday from September 4 until December 11 will be the Mathematics Program for Core\, Business\, Tech\, and Apprenticeship Math. \nThe program requires pre-registration through Georgian College’s ACP program. For more information\, please contact ACPSouthGeorgianBay@georgiancollege.ca or 249-882-0018
URL:https://wasagabeachpubliclibrary.ca/events/georgian-collegeacademic-and-career-preparation-2/2024-09-10/
LOCATION:Wasaga Beach Public Library\, 544 River Road West\, Wasaga Beach\, ON\, L9Z 2P1\, Canada
CATEGORIES:Community Partners
ATTACH;FMTTYPE=image/jpeg:https://wasagabeachpubliclibrary.ca/wp-content/uploads/2024/03/WEB-19-548_ACPHeaderImage_1700by500-1.jpg
END:VEVENT
BEGIN:VEVENT
DTSTART;TZID=America/Toronto:20240910T110000
DTEND;TZID=America/Toronto:20240910T120000
DTSTAMP:20260421T040551
CREATED:20240325T173733Z
LAST-MODIFIED:20240910T105142Z
UID:10001045-1725966000-1725969600@wasagabeachpubliclibrary.ca
SUMMARY:Rhythm of the Beach Drum Circle
DESCRIPTION:Drumming with your hands and getting into the rhythm with the group can be therapeutic\, hypnotic or just plain fun!
URL:https://wasagabeachpubliclibrary.ca/events/rhythm-of-the-beach-drum-circle-32/
LOCATION:Wasaga Beach Public Library\, 544 River Road West\, Wasaga Beach\, ON\, L9Z 2P1\, Canada
CATEGORIES:Adult
ATTACH;FMTTYPE=image/jpeg:https://wasagabeachpubliclibrary.ca/wp-content/uploads/2024/01/8ff99475de3de8b6573bcfdfc5136eff.jpg
END:VEVENT
BEGIN:VEVENT
DTSTART;TZID=America/Toronto:20240910T130000
DTEND;TZID=America/Toronto:20240910T140000
DTSTAMP:20260421T040551
CREATED:20240404T000833Z
LAST-MODIFIED:20240910T105309Z
UID:10001151-1725973200-1725976800@wasagabeachpubliclibrary.ca
SUMMARY:Travel Series: Western Mediterranean
DESCRIPTION:Welcome aboard an unforgettable cruise as we sail from Portugal to Spain\, Morocco\, Gibraltar and Monaco.\n\n\nBe entertained by the elegant choreography of Cadiz’s Royal Andalusian dancing Horses. Visit the impressive Granada’s Alhambra Palace and Barcelona’s unique architecture by Gaudi.  \nIf the walls could talk…what would they say about Ibiza’s Walled City and Mallorca’s 13th Century Monastery where Chopin stayed. Come “Walk the Rock” with me in Gibraltar where magnificent views & monkeys await.  \nThe “Jewel of the Mediterranean” is Monaco with its Royal Palace overlooking the small harbour’s expensive yachts and real estate compacted into this tiny Municipality.
URL:https://wasagabeachpubliclibrary.ca/events/travel-series-western-mediterranean/
LOCATION:Wasaga Beach Public Library\, 544 River Road West\, Wasaga Beach\, ON\, L9Z 2P1\, Canada
CATEGORIES:Adult
ATTACH;FMTTYPE=image/jpeg:https://wasagabeachpubliclibrary.ca/wp-content/uploads/2024/04/dfe7f89c053d54f693bab62cee3beeb8.jpg
END:VEVENT
BEGIN:VEVENT
DTSTART;TZID=America/Toronto:20240910T163000
DTEND;TZID=America/Toronto:20240910T173000
DTSTAMP:20260421T040551
CREATED:20240723T190633Z
LAST-MODIFIED:20240909T235139Z
UID:10002434-1725985800-1725989400@wasagabeachpubliclibrary.ca
SUMMARY:Creative Kids: 3D Print Your Own Keychain!
DESCRIPTION:Unlock the world of 3D printing with our fun and hands-on workshop designed especially for kids!
URL:https://wasagabeachpubliclibrary.ca/events/creative-kids-3d-print-your-own-keychain-9/
LOCATION:Wasaga Beach Public Library\, 544 River Road West\, Wasaga Beach\, ON\, L9Z 2P1\, Canada
CATEGORIES:Makerspace
ATTACH;FMTTYPE=image/jpeg:https://wasagabeachpubliclibrary.ca/wp-content/uploads/2024/06/12e9ae1c7e7453d335bd1eee77458eb6.jpg
END:VEVENT
BEGIN:VEVENT
DTSTART;TZID=America/Toronto:20240910T163000
DTEND;TZID=America/Toronto:20240910T183000
DTSTAMP:20260421T040551
CREATED:20240730T220825Z
LAST-MODIFIED:20240910T105240Z
UID:10002456-1725985800-1725993000@wasagabeachpubliclibrary.ca
SUMMARY:Chess Club
DESCRIPTION:Join us for the Library Chess Club! Whether you’re a seasoned player or just starting out\, all skill levels are welcome.
URL:https://wasagabeachpubliclibrary.ca/events/chess-club-8/
LOCATION:Wasaga Beach Public Library\, 544 River Road West\, Wasaga Beach\, ON\, L9Z 2P1\, Canada
CATEGORIES:Child & Youth
ATTACH;FMTTYPE=image/jpeg:https://wasagabeachpubliclibrary.ca/wp-content/uploads/2024/03/e719d84633cedf4d7c27a02a9898c024.jpg
END:VEVENT
BEGIN:VEVENT
DTSTART;TZID=America/Toronto:20240910T170000
DTEND;TZID=America/Toronto:20240910T180000
DTSTAMP:20260421T040551
CREATED:20240731T045149Z
LAST-MODIFIED:20240910T235118Z
UID:10002460-1725987600-1725991200@wasagabeachpubliclibrary.ca
SUMMARY:Youth Art Workshop: Repurposing Jewelry
DESCRIPTION:Join us for a three-week series of repurposing jewelry.  Each week\, we will dive into creative projects using upcycled jewelry.\n\n\nRegistration required. Must commit to all three weeks. \nSeptember 10: Week 1 – Jewelry ArtTurn old jewelry into artistic creations using pieces of salvaged jewelry.  \nSeptember 17: Week 2 – Bling BottlesAdd some bling to some upcycled bottles using decorative items like lace\, ribbon and jewelry. \nSeptember 24: Week 3 – Second Life JewelryUpdate old pieces into something new.
URL:https://wasagabeachpubliclibrary.ca/events/youth-art-workshop-repurposing-jewelry/
LOCATION:Wasaga Beach Public Library\, 544 River Road West\, Wasaga Beach\, ON\, L9Z 2P1\, Canada
CATEGORIES:Child & Youth
ATTACH;FMTTYPE=image/jpeg:https://wasagabeachpubliclibrary.ca/wp-content/uploads/2024/07/7ae7c23a6cc00e21073de078fceeac67.jpg
END:VEVENT
BEGIN:VEVENT
DTSTART;TZID=America/Toronto:20240910T180000
DTEND;TZID=America/Toronto:20240910T200000
DTSTAMP:20260421T040551
CREATED:20231212T160043Z
LAST-MODIFIED:20240910T235106Z
UID:10000307-1725991200-1725998400@wasagabeachpubliclibrary.ca
SUMMARY:Wasaga Beach Writers Club
DESCRIPTION:Experienced and amateur writers are welcome to join meetings to share writing\, seek critiques and enjoy the creative process.
URL:https://wasagabeachpubliclibrary.ca/events/wasaga-beach-writers-club-18/
LOCATION:Wasaga Beach Public Library\, 544 River Road West\, Wasaga Beach\, ON\, L9Z 2P1\, Canada
CATEGORIES:Adult
ATTACH;FMTTYPE=image/jpeg:https://wasagabeachpubliclibrary.ca/wp-content/uploads/2023/09/99c428eb2ced61b5f9dfb34d911b9daa.jpg
END:VEVENT
END:VCALENDAR