BEGIN:VCALENDAR
VERSION:2.0
PRODID:-//Wasaga Beach Public Library - ECPv6.15.20//NONSGML v1.0//EN
CALSCALE:GREGORIAN
METHOD:PUBLISH
X-WR-CALNAME:Wasaga Beach Public Library
X-ORIGINAL-URL:https://wasagabeachpubliclibrary.ca
X-WR-CALDESC:Events for Wasaga Beach Public Library
REFRESH-INTERVAL;VALUE=DURATION:PT1H
X-Robots-Tag:noindex
X-PUBLISHED-TTL:PT1H
BEGIN:VTIMEZONE
TZID:America/Toronto
BEGIN:DAYLIGHT
TZOFFSETFROM:-0500
TZOFFSETTO:-0400
TZNAME:EDT
DTSTART:20230312T070000
END:DAYLIGHT
BEGIN:STANDARD
TZOFFSETFROM:-0400
TZOFFSETTO:-0500
TZNAME:EST
DTSTART:20231105T060000
END:STANDARD
BEGIN:DAYLIGHT
TZOFFSETFROM:-0500
TZOFFSETTO:-0400
TZNAME:EDT
DTSTART:20240310T070000
END:DAYLIGHT
BEGIN:STANDARD
TZOFFSETFROM:-0400
TZOFFSETTO:-0500
TZNAME:EST
DTSTART:20241103T060000
END:STANDARD
BEGIN:DAYLIGHT
TZOFFSETFROM:-0500
TZOFFSETTO:-0400
TZNAME:EDT
DTSTART:20250309T070000
END:DAYLIGHT
BEGIN:STANDARD
TZOFFSETFROM:-0400
TZOFFSETTO:-0500
TZNAME:EST
DTSTART:20251102T060000
END:STANDARD
END:VTIMEZONE
BEGIN:VEVENT
DTSTART;TZID=America/Toronto:20240911T100000
DTEND;TZID=America/Toronto:20240911T120000
DTSTAMP:20260419T124148
CREATED:20240703T134304Z
LAST-MODIFIED:20240909T182438Z
UID:10002578-1726048800-1726056000@wasagabeachpubliclibrary.ca
SUMMARY:Georgian College Information/Open Onboarding
DESCRIPTION:Marg Thibideau serves as the Academic Upgrading Officer at Georgian College’s John DiPoce South Georgian Bay Campus\, where she warmly welcomes inquiries about the Academic and Career Preparation Program. This program offers an array of FREE courses\, including Core Upgrading\, Career and College Preparation\, and Employment Readiness courses. Additionally\, comprehensive support is available for individuals preparing to write their General Education Development (GED) test. \nWith classes currently offered in both Collingwood and Wasaga Beach\, learners can opt for either in-class or remote delivery. Funded by the Ministry of Labour\, Immigration\, Training and Skills Development\, this program offers free upgrading to eligible learners aged 19 or older residing in Ontario\, with some applicants aged 16 to 18 also potentially eligible. \nClasses are Wednesdays 10am-12pm. Registration required.
URL:https://wasagabeachpubliclibrary.ca/events/georgian-college-information-open-onboarding-2/2024-09-11/
LOCATION:Wasaga Beach Public Library\, 544 River Road West\, Wasaga Beach\, ON\, L9Z 2P1\, Canada
CATEGORIES:Community Partners
ATTACH;FMTTYPE=image/jpeg:https://wasagabeachpubliclibrary.ca/wp-content/uploads/2024/03/WEB-19-548_ACPHeaderImage_1700by500.jpg
END:VEVENT
BEGIN:VEVENT
DTSTART;TZID=America/Toronto:20240911T100000
DTEND;TZID=America/Toronto:20240911T130000
DTSTAMP:20260419T124148
CREATED:20240828T185304Z
LAST-MODIFIED:20240828T185305Z
UID:10002585-1726048800-1726059600@wasagabeachpubliclibrary.ca
SUMMARY:Georgian College Academic and Career Preparation
DESCRIPTION:Georgian College is set to return their Communications and Keys to Success classes to the Wasaga Beach Public Library every Tuesday from September 3 until December 10. Additionally\, every Wednesday from September 4 until December 11 will be the Mathematics Program for Core\, Business\, Tech\, and Apprenticeship Math. \nThe program requires pre-registration through Georgian College’s ACP program. For more information\, please contact ACPSouthGeorgianBay@georgiancollege.ca or 249-882-0018
URL:https://wasagabeachpubliclibrary.ca/events/georgian-collegeacademic-and-career-preparation-2/2024-09-11/
LOCATION:Wasaga Beach Public Library\, 544 River Road West\, Wasaga Beach\, ON\, L9Z 2P1\, Canada
CATEGORIES:Community Partners
ATTACH;FMTTYPE=image/jpeg:https://wasagabeachpubliclibrary.ca/wp-content/uploads/2024/03/WEB-19-548_ACPHeaderImage_1700by500-1.jpg
END:VEVENT
BEGIN:VEVENT
DTSTART;TZID=America/Toronto:20240911T110000
DTEND;TZID=America/Toronto:20240911T130000
DTSTAMP:20260419T124148
CREATED:20240814T165957Z
LAST-MODIFIED:20240814T165958Z
UID:10002525-1726052400-1726059600@wasagabeachpubliclibrary.ca
SUMMARY:Mental Health Services Drop-in - CGMH
DESCRIPTION:Meet with a Mental Health Therapist from Collingwood General and Marine Hospital for a drop-in session at the library. Get support\, information\, and resources for mental health in a welcoming environment.
URL:https://wasagabeachpubliclibrary.ca/events/mental-health-services-drop-in-cgmh-2/2024-09-11/
LOCATION:Wasaga Beach Public Library\, 544 River Road West\, Wasaga Beach\, ON\, L9Z 2P1\, Canada
CATEGORIES:Community Partners
ATTACH;FMTTYPE=image/jpeg:https://wasagabeachpubliclibrary.ca/wp-content/uploads/2024/06/mental-health-CGMH-scaled.jpg
END:VEVENT
BEGIN:VEVENT
DTSTART;TZID=America/Toronto:20240911T140000
DTEND;TZID=America/Toronto:20240911T150000
DTSTAMP:20260419T124148
CREATED:20231204T184645Z
LAST-MODIFIED:20250108T174350Z
UID:10000292-1726063200-1726066800@wasagabeachpubliclibrary.ca
SUMMARY:Friends Of The Library Meeting
DESCRIPTION:Whether you’re a book enthusiast\, a community advocate\, or someone simply looking to make a positive impact\, joining the Friends Of The Library is the perfect opportunity to connect with like-minded individuals who share a passion for literature and learning. \nDiscover how you can contribute to the growth of our library\, promote literacy initiatives\, and foster a sense of community spirit. Join us as we help shape the future of our library and create a vibrant hub for knowledge and cultural exchange.
URL:https://wasagabeachpubliclibrary.ca/events/friends-of-the-library-meeting/2024-09-11/
LOCATION:Wasaga Beach Public Library | Remax Room South\, 544 River Road West\, Wasaga Beach\, Ontario\, L9Z 2X2\, Canada
CATEGORIES:Adult,Community Partners
END:VEVENT
BEGIN:VEVENT
DTSTART;TZID=America/Toronto:20240911T163000
DTEND;TZID=America/Toronto:20240911T173000
DTSTAMP:20260419T124148
CREATED:20240723T190634Z
LAST-MODIFIED:20240911T110816Z
UID:10002438-1726072200-1726075800@wasagabeachpubliclibrary.ca
SUMMARY:Sticker Art: Kids' Workshop
DESCRIPTION:Let your creativity shine at our fun and interactive sticker design workshop!
URL:https://wasagabeachpubliclibrary.ca/events/sticker-art-kids-workshop-10/
LOCATION:Wasaga Beach Public Library\, 544 River Road West\, Wasaga Beach\, ON\, L9Z 2P1\, Canada
CATEGORIES:Makerspace
ATTACH;FMTTYPE=image/jpeg:https://wasagabeachpubliclibrary.ca/wp-content/uploads/2024/06/d736c266c76cbd7c1972f078ac73d415.jpg
END:VEVENT
BEGIN:VEVENT
DTSTART;TZID=America/Toronto:20240911T180000
DTEND;TZID=America/Toronto:20240911T194500
DTSTAMP:20260419T124148
CREATED:20240731T222332Z
LAST-MODIFIED:20240911T110801Z
UID:10002480-1726077600-1726083900@wasagabeachpubliclibrary.ca
SUMMARY:Sew Savvy Adults: Machine Basics for Beginners
DESCRIPTION:Designed for adult learners with little to no sewing machine experience\, this workshop will lay the groundwork for future sewing projects.
URL:https://wasagabeachpubliclibrary.ca/events/sew-savvy-adults-machine-basics-for-beginners/
LOCATION:Wasaga Beach Public Library\, 544 River Road West\, Wasaga Beach\, ON\, L9Z 2P1\, Canada
CATEGORIES:Adult
ATTACH;FMTTYPE=image/jpeg:https://wasagabeachpubliclibrary.ca/wp-content/uploads/2024/04/ccd8b3d480dac93589b73931e53800b2.jpg
END:VEVENT
END:VCALENDAR