BEGIN:VCALENDAR
VERSION:2.0
PRODID:-//Wasaga Beach Public Library - ECPv6.15.20//NONSGML v1.0//EN
CALSCALE:GREGORIAN
METHOD:PUBLISH
X-WR-CALNAME:Wasaga Beach Public Library
X-ORIGINAL-URL:https://wasagabeachpubliclibrary.ca
X-WR-CALDESC:Events for Wasaga Beach Public Library
REFRESH-INTERVAL;VALUE=DURATION:PT1H
X-Robots-Tag:noindex
X-PUBLISHED-TTL:PT1H
BEGIN:VTIMEZONE
TZID:America/Toronto
BEGIN:DAYLIGHT
TZOFFSETFROM:-0500
TZOFFSETTO:-0400
TZNAME:EDT
DTSTART:20230312T070000
END:DAYLIGHT
BEGIN:STANDARD
TZOFFSETFROM:-0400
TZOFFSETTO:-0500
TZNAME:EST
DTSTART:20231105T060000
END:STANDARD
BEGIN:DAYLIGHT
TZOFFSETFROM:-0500
TZOFFSETTO:-0400
TZNAME:EDT
DTSTART:20240310T070000
END:DAYLIGHT
BEGIN:STANDARD
TZOFFSETFROM:-0400
TZOFFSETTO:-0500
TZNAME:EST
DTSTART:20241103T060000
END:STANDARD
BEGIN:DAYLIGHT
TZOFFSETFROM:-0500
TZOFFSETTO:-0400
TZNAME:EDT
DTSTART:20250309T070000
END:DAYLIGHT
BEGIN:STANDARD
TZOFFSETFROM:-0400
TZOFFSETTO:-0500
TZNAME:EST
DTSTART:20251102T060000
END:STANDARD
END:VTIMEZONE
BEGIN:VEVENT
DTSTART;TZID=America/Toronto:20240919T100000
DTEND;TZID=America/Toronto:20240919T103000
DTSTAMP:20260421T040555
CREATED:20240123T084048Z
LAST-MODIFIED:20240918T235156Z
UID:10000489-1726740000-1726741800@wasagabeachpubliclibrary.ca
SUMMARY:Yoga Storytime
DESCRIPTION:Yoga Storytime is a family program aimed to meet the physical and learning needs of young children\, through movement and literacy.
URL:https://wasagabeachpubliclibrary.ca/events/yoga-storytime-7/
LOCATION:Wasaga Beach Public Library\, 544 River Road West\, Wasaga Beach\, ON\, L9Z 2P1\, Canada
CATEGORIES:Child & Youth
ATTACH;FMTTYPE=image/jpeg:https://wasagabeachpubliclibrary.ca/wp-content/uploads/2024/01/560cd967ce1297fb7cfc32f0c7aaf234.jpg
END:VEVENT
BEGIN:VEVENT
DTSTART;TZID=America/Toronto:20240919T110000
DTEND;TZID=America/Toronto:20240919T123000
DTSTAMP:20260421T040555
CREATED:20240813T133636Z
LAST-MODIFIED:20240918T235250Z
UID:10002518-1726743600-1726749000@wasagabeachpubliclibrary.ca
SUMMARY:Unlock Your Creativity: 3D Print a Keychain for Adults
DESCRIPTION:Discover the fascinating world of 3D printing with our hands-on workshop designed specifically for adults!
URL:https://wasagabeachpubliclibrary.ca/events/unlock-your-creativity-3d-print-a-keychain-for-adults-11/
LOCATION:Wasaga Beach Public Library\, 544 River Road West\, Wasaga Beach\, ON\, L9Z 2P1\, Canada
CATEGORIES:Adult,Makerspace
ATTACH;FMTTYPE=image/jpeg:https://wasagabeachpubliclibrary.ca/wp-content/uploads/2024/07/0bbe6e7f7719b36ab0a84bb2827cafff.jpg
END:VEVENT
BEGIN:VEVENT
DTSTART;TZID=America/Toronto:20240919T140000
DTEND;TZID=America/Toronto:20240919T160000
DTSTAMP:20260421T040555
CREATED:20240731T045154Z
LAST-MODIFIED:20240918T235303Z
UID:10002463-1726754400-1726761600@wasagabeachpubliclibrary.ca
SUMMARY:The Life of a Canadian Spy in the Age of Terrorism
DESCRIPTION:Learn first-hand what goes on behind the scenes in Canada’s intelligence community through the eyes of a former CSIS spy.\n\n\nWasaga Beach Lifelong Learning and Wasaga Beach Public Library are thrilled to announce an exciting new Lecture Series designed for adult lifelong learners eager to delve into intellectually stimulating topics with academics and experts. Our Fall 2024 two-part series\, offered free for its inaugural year\, promises to ignite informed and meaningful discussions. \nFormer Canadian Spy Andrew Kirsch gives a rarely-seen peek behind the curtain of Canada’s intelligence agency. He explains what the Canadian Security Intelligence Service (CSIS) is\, what it’s really like to work there\, and why it’s important that you know more about it! \nIn this lecture Andrew will share some entertaining stories from his national bestselling memoir I Was Never Here to explain the threats Canada faces\, the challenges to come and the role we all must play to keep each other safe. \nAbout the Speaker: \nAndrew Kirsch served as an intelligence officer with the Canadian Security Intelligence Service (CSIS) for a decade. His memoir\, I Was Never Here was an instant national bestseller. Most recently\, Andrew founded Kirsch Group\, a boutique Risk Consultancy serving government\, corporate and private clients.  \nhttps://kirschgroup.ca/speaking/ \nAndrew is a public speaker\, author and consultant on physical\, national\, and cyber security issues. Drawing on lessons from his career; Andrew wants to lift the curtain on what Canada’s intelligence community does\, the threats we face\, and the challenges to come so we are all better prepared to protect ourselves\, our communities\, our companies\, and our country.
URL:https://wasagabeachpubliclibrary.ca/events/the-life-of-a-canadian-spy-in-the-age-of-terrorism/
LOCATION:Wasaga Beach Public Library\, 544 River Road West\, Wasaga Beach\, ON\, L9Z 2P1\, Canada
CATEGORIES:Adult
ATTACH;FMTTYPE=image/jpeg:https://wasagabeachpubliclibrary.ca/wp-content/uploads/2024/08/5c57cb9ee7304e224cb62774526eca68.jpg
END:VEVENT
BEGIN:VEVENT
DTSTART;TZID=America/Toronto:20240919T163000
DTEND;TZID=America/Toronto:20240919T173000
DTSTAMP:20260421T040555
CREATED:20240404T000836Z
LAST-MODIFIED:20240918T235303Z
UID:10001152-1726763400-1726767000@wasagabeachpubliclibrary.ca
SUMMARY:Creation Club: Clay Pencil Toppers
DESCRIPTION:Bring your imagination to our monthly after school program for those who like to create.\n\n\nJoin us for a hands-on workshop where you’ll learn the art of clay sculpting to craft your very own unique pencil toppers. From adorable animals to whimsical shapes\, let your imagination take flight as you mold\, shape\, and decorate your creations. Come unleash your creativity and add a personalized touch to your school supplies with these charming clay pencil toppers! \nAges 5 to 12.
URL:https://wasagabeachpubliclibrary.ca/events/creation-club-clay-pencil-toppers/
LOCATION:Wasaga Beach Public Library\, 544 River Road West\, Wasaga Beach\, ON\, L9Z 2P1\, Canada
CATEGORIES:Child & Youth
ATTACH;FMTTYPE=image/jpeg:https://wasagabeachpubliclibrary.ca/wp-content/uploads/2024/04/9cbcf901aeaa74c9a3bad13bdbd4bc56.jpg
END:VEVENT
BEGIN:VEVENT
DTSTART;TZID=America/Toronto:20240919T180000
DTEND;TZID=America/Toronto:20240919T190000
DTSTAMP:20260421T040555
CREATED:20240501T205342Z
LAST-MODIFIED:20250904T210014Z
UID:10004850-1726768800-1726772400@wasagabeachpubliclibrary.ca
SUMMARY:English Conversation Circle With Welcome Centre Immigrant Services
DESCRIPTION:English Conversational Circle for Newcomers\nImprove your English skills in a friendly setting hosted by Welcome Centre Immigrant Services. \n\n\nService Coordination by Ian Cowie \n\n\nDirect Line: 289-338-5140\nToll-Free: 1-877-761-1155\nEmail: mobileunit@welcomecentre.ca
URL:https://wasagabeachpubliclibrary.ca/events/english-conversation-circle-with-welcome-centre-immigrant-services/2024-09-19/
LOCATION:Wasaga Beach Public Library\, 544 River Road West\, Wasaga Beach\, ON\, L9Z 2P1\, Canada
CATEGORIES:Community Partners
ATTACH;FMTTYPE=image/jpeg:https://wasagabeachpubliclibrary.ca/wp-content/uploads/2024/05/immigrant-welome-centre-scaled.jpg
END:VEVENT
END:VCALENDAR