BEGIN:VCALENDAR
VERSION:2.0
PRODID:-//Wasaga Beach Public Library - ECPv6.15.20//NONSGML v1.0//EN
CALSCALE:GREGORIAN
METHOD:PUBLISH
X-WR-CALNAME:Wasaga Beach Public Library
X-ORIGINAL-URL:https://wasagabeachpubliclibrary.ca
X-WR-CALDESC:Events for Wasaga Beach Public Library
REFRESH-INTERVAL;VALUE=DURATION:PT1H
X-Robots-Tag:noindex
X-PUBLISHED-TTL:PT1H
BEGIN:VTIMEZONE
TZID:America/Toronto
BEGIN:DAYLIGHT
TZOFFSETFROM:-0500
TZOFFSETTO:-0400
TZNAME:EDT
DTSTART:20230312T070000
END:DAYLIGHT
BEGIN:STANDARD
TZOFFSETFROM:-0400
TZOFFSETTO:-0500
TZNAME:EST
DTSTART:20231105T060000
END:STANDARD
BEGIN:DAYLIGHT
TZOFFSETFROM:-0500
TZOFFSETTO:-0400
TZNAME:EDT
DTSTART:20240310T070000
END:DAYLIGHT
BEGIN:STANDARD
TZOFFSETFROM:-0400
TZOFFSETTO:-0500
TZNAME:EST
DTSTART:20241103T060000
END:STANDARD
BEGIN:DAYLIGHT
TZOFFSETFROM:-0500
TZOFFSETTO:-0400
TZNAME:EDT
DTSTART:20250309T070000
END:DAYLIGHT
BEGIN:STANDARD
TZOFFSETFROM:-0400
TZOFFSETTO:-0500
TZNAME:EST
DTSTART:20251102T060000
END:STANDARD
END:VTIMEZONE
BEGIN:VEVENT
DTSTART;TZID=America/Toronto:20240923T100000
DTEND;TZID=America/Toronto:20240923T110000
DTSTAMP:20260423T095013
CREATED:20240604T184556Z
LAST-MODIFIED:20240604T184621Z
UID:10002004-1727085600-1727089200@wasagabeachpubliclibrary.ca
SUMMARY:Home Horizon Youth Outreach
DESCRIPTION:Our Your S.A.F.E. outreach program works with additional vulnerable youth to identify safe living spaces and provides direction to assist them in regaining control of their lives. Our S.A.F.E. outreach programs serve youth aged 16-29. Since the launch of this program in July 2020\,we have served 127 youth\, with over 1085 service interactions (referrals\, goalsetting\, supplies\, workshops\, etc.)\, many in the Wasaga Beach area. \nThrough our outreach services\, we supply important items such as tents\, sleeping bags\, food\, hygiene products\, grocery gift cards\, masks & sanitizers\, jackets\, hand warmers\, clothes\, and much more. \nThe program also provides support and advocacy for mental health\, physical health (new family doctor)\, legal matters\, financial aid\, rental/tenant advocacy as well as referrals to other housing agencies. \nThe program has been an incredible success to date. It helps one of our most vulnerable populations to avoid falling through the cracks\, providing every individual who come in contact with our outreach worker the chance to feel safe and heard. We work with all marginalized youth regardless of their race\, gender\, sexual orientation\, family situations and socio-economic background. \nOur programs are designed to assist youth struggling with social inequalities with tools that will help them to cope and grow stronger to manage and address any bias they face in life.
URL:https://wasagabeachpubliclibrary.ca/events/home-horizon-youth-outreach/2024-09-23/
LOCATION:Wasaga Beach Public Library\, 544 River Road West\, Wasaga Beach\, ON\, L9Z 2P1\, Canada
CATEGORIES:Community Partners
ATTACH;FMTTYPE=image/jpeg:https://wasagabeachpubliclibrary.ca/wp-content/uploads/2024/06/home-horizon-scaled.jpg
ORGANIZER;CN="Home Horizon":MAILTO:jessica@homehorizon.ca
END:VEVENT
BEGIN:VEVENT
DTSTART;TZID=America/Toronto:20240923T103000
DTEND;TZID=America/Toronto:20240923T113000
DTSTAMP:20260423T095013
CREATED:20240923T142312Z
LAST-MODIFIED:20240923T142312Z
UID:10002676-1727087400-1727091000@wasagabeachpubliclibrary.ca
SUMMARY:EarlyON Stay\, Play\, and Learn
DESCRIPTION:Adults and children together – Stay\, Play\, and Learn – drop-in allow opportunities for caregivers and families to participate with their children in a wide range of early learning inquiry-based activities which enhance children’s developmental skills. \nRegistration is encouraged. \nYou can either create a FREE account or register if you already have an account. \nhttps://www.missioninc.com/cso/simcoe/en-ca/earlyon/events/4718_20240607T100000Z \n**Pre-screening is also required for each participating member visiting our programs (infants included).
URL:https://wasagabeachpubliclibrary.ca/events/earlyon-stay-play-and-learn-9/
LOCATION:Wasaga Beach Public Library\, 544 River Road West\, Wasaga Beach\, ON\, L9Z 2P1\, Canada
CATEGORIES:Child & Youth,Community Partners
ORGANIZER;CN="EarlyON":MAILTO:jmoore@e3.ca
END:VEVENT
BEGIN:VEVENT
DTSTART;TZID=America/Toronto:20240923T133000
DTEND;TZID=America/Toronto:20240923T143000
DTSTAMP:20260423T095013
CREATED:20240809T132848Z
LAST-MODIFIED:20240923T105254Z
UID:10002488-1727098200-1727101800@wasagabeachpubliclibrary.ca
SUMMARY:Back to Basics French
DESCRIPTION:Basic French instruction for adults!\n\n\nHas it been some time since you used your elementary and secondary school French? Are you interested to circle back and pick up your French once again? Join Rina weekly on Mondays for this 10-session class as you review some basic French in a new and innovative way and renew your French-language learning journey. Let’s start by getting back to the basics! \nA weekly commitment until Dec is required. Course content will build class-to-class. Please take note of the dates that no classes will be held: (Sept 30\, Oct 14 and Nov 11)
URL:https://wasagabeachpubliclibrary.ca/events/back-to-basics-french-11/
LOCATION:Wasaga Beach Public Library\, 544 River Road West\, Wasaga Beach\, ON\, L9Z 2P1\, Canada
CATEGORIES:Adult
ATTACH;FMTTYPE=image/jpeg:https://wasagabeachpubliclibrary.ca/wp-content/uploads/2024/07/593b3bd1c6ef55c49accca61665dd5cb.jpg
END:VEVENT
BEGIN:VEVENT
DTSTART;TZID=America/Toronto:20240923T133000
DTEND;TZID=America/Toronto:20240923T150000
DTSTAMP:20260423T095013
CREATED:20240223T015339Z
LAST-MODIFIED:20240923T105158Z
UID:10000860-1727098200-1727103600@wasagabeachpubliclibrary.ca
SUMMARY:Stitch-Talk-Walk
DESCRIPTION:Join us every Monday for a cozy knitting and crochet circle at the library! Get creative\, enjoy conversation\, and take a walk on the track.
URL:https://wasagabeachpubliclibrary.ca/events/stitch-talk-walk-30/
LOCATION:Wasaga Beach Public Library\, 544 River Road West\, Wasaga Beach\, ON\, L9Z 2P1\, Canada
CATEGORIES:Adult
ATTACH;FMTTYPE=image/jpeg:https://wasagabeachpubliclibrary.ca/wp-content/uploads/2024/02/7a403526ce149b2f0c6357b04583705e.jpg
END:VEVENT
BEGIN:VEVENT
DTSTART;TZID=America/Toronto:20240923T160000
DTEND;TZID=America/Toronto:20240923T180000
DTSTAMP:20260423T095013
CREATED:20240813T125206Z
LAST-MODIFIED:20240813T125206Z
UID:10002497-1727107200-1727114400@wasagabeachpubliclibrary.ca
SUMMARY:WBPL Board Meeting
DESCRIPTION:Join us for the upcoming Wasaga Beach Public Library Board Meeting. Our meetings are an opportunity for community members to hear about the latest developments\, initiatives\, and plans for our library. The Board will discuss important matters concerning library operations\, programming\, and future projects. \nPublic attendance is encouraged. This is your chance to stay informed and be involved in the decisions that shape our library’s services.
URL:https://wasagabeachpubliclibrary.ca/events/wbpl-board-meeting/2024-09-23/
LOCATION:ON
CATEGORIES:Community Partners
ATTACH;FMTTYPE=image/png:https://wasagabeachpubliclibrary.ca/wp-content/uploads/2024/08/board-meeting.png
END:VEVENT
BEGIN:VEVENT
DTSTART;TZID=America/Toronto:20240923T163000
DTEND;TZID=America/Toronto:20240923T173000
DTSTAMP:20260423T095013
CREATED:20240711T172406Z
LAST-MODIFIED:20240923T105240Z
UID:10002403-1727109000-1727112600@wasagabeachpubliclibrary.ca
SUMMARY:Intro to 3D Printing for Families
DESCRIPTION:Families can learn together how a 3D printer functions with step-by-step instructions that will help you master your own projects.
URL:https://wasagabeachpubliclibrary.ca/events/intro-to-3d-printing-for-families-16/
LOCATION:Wasaga Beach Public Library\, 544 River Road West\, Wasaga Beach\, ON\, L9Z 2P1\, Canada
CATEGORIES:Child & Youth,Makerspace
ATTACH;FMTTYPE=image/jpeg:https://wasagabeachpubliclibrary.ca/wp-content/uploads/2024/05/ae72fc871523d61937b5b8b910537f71.jpg
END:VEVENT
BEGIN:VEVENT
DTSTART;TZID=America/Toronto:20240923T183000
DTEND;TZID=America/Toronto:20240923T193000
DTSTAMP:20260423T095013
CREATED:20240723T190635Z
LAST-MODIFIED:20240923T105254Z
UID:10002447-1727116200-1727119800@wasagabeachpubliclibrary.ca
SUMMARY:Intro to Vinyl Printing & Cutting for Adults
DESCRIPTION:Learn how to use the Roland machine to print and cut custom vinyl designs for walls\, windows or clothing.
URL:https://wasagabeachpubliclibrary.ca/events/intro-to-vinyl-printing-cutting-for-adults-9/
LOCATION:Wasaga Beach Public Library\, 544 River Road West\, Wasaga Beach\, ON\, L9Z 2P1\, Canada
CATEGORIES:Makerspace
ATTACH;FMTTYPE=image/jpeg:https://wasagabeachpubliclibrary.ca/wp-content/uploads/2024/05/4955f465f422330698476c47011abcf3.jpg
END:VEVENT
END:VCALENDAR