BEGIN:VCALENDAR
VERSION:2.0
PRODID:-//Wasaga Beach Public Library - ECPv6.15.20//NONSGML v1.0//EN
CALSCALE:GREGORIAN
METHOD:PUBLISH
X-ORIGINAL-URL:https://wasagabeachpubliclibrary.ca
X-WR-CALDESC:Events for Wasaga Beach Public Library
REFRESH-INTERVAL;VALUE=DURATION:PT1H
X-Robots-Tag:noindex
X-PUBLISHED-TTL:PT1H
BEGIN:VTIMEZONE
TZID:America/Toronto
BEGIN:DAYLIGHT
TZOFFSETFROM:-0500
TZOFFSETTO:-0400
TZNAME:EDT
DTSTART:20230312T070000
END:DAYLIGHT
BEGIN:STANDARD
TZOFFSETFROM:-0400
TZOFFSETTO:-0500
TZNAME:EST
DTSTART:20231105T060000
END:STANDARD
BEGIN:DAYLIGHT
TZOFFSETFROM:-0500
TZOFFSETTO:-0400
TZNAME:EDT
DTSTART:20240310T070000
END:DAYLIGHT
BEGIN:STANDARD
TZOFFSETFROM:-0400
TZOFFSETTO:-0500
TZNAME:EST
DTSTART:20241103T060000
END:STANDARD
BEGIN:DAYLIGHT
TZOFFSETFROM:-0500
TZOFFSETTO:-0400
TZNAME:EDT
DTSTART:20250309T070000
END:DAYLIGHT
BEGIN:STANDARD
TZOFFSETFROM:-0400
TZOFFSETTO:-0500
TZNAME:EST
DTSTART:20251102T060000
END:STANDARD
END:VTIMEZONE
BEGIN:VEVENT
DTSTART;TZID=America/Toronto:20240927T100000
DTEND;TZID=America/Toronto:20240927T110000
DTSTAMP:20260425T095240
CREATED:20240605T161106Z
LAST-MODIFIED:20240920T134803Z
UID:10002502-1727431200-1727434800@wasagabeachpubliclibrary.ca
SUMMARY:EarlyON Baby and Me
DESCRIPTION:Baby and Me \nJoin other parents and their babies to meet in an informal\, supportive environment. Each week a topic of interest is presented along with songs and stories. \nPre-Registration is recommended for this program: https://www.missioninc.com/cso/simcoe/en-ca/earlyon/options
URL:https://wasagabeachpubliclibrary.ca/events/earlyon-baby-and-me-9/2024-09-27/
LOCATION:Wasaga Beach Public Library\, 544 River Road West\, Wasaga Beach\, ON\, L9Z 2P1\, Canada
CATEGORIES:Child & Youth,Community Partners
ATTACH;FMTTYPE=image/png:https://wasagabeachpubliclibrary.ca/wp-content/uploads/2024/06/e3logo-1.png
ORGANIZER;CN="EarlyON":MAILTO:jmoore@e3.ca
END:VEVENT
BEGIN:VEVENT
DTSTART;TZID=America/Toronto:20240927T100000
DTEND;TZID=America/Toronto:20240927T110000
DTSTAMP:20260425T095240
CREATED:20240731T045202Z
LAST-MODIFIED:20240927T115238Z
UID:10002476-1727431200-1727434800@wasagabeachpubliclibrary.ca
SUMMARY:Hands On Exotics: Explore Africa
DESCRIPTION:Join us for a PA Day adventure with Hands On Exotics!\n\n\nDive into the wonders of Africa as you learn about and meet fascinating animals such as the African Hornbill\, Hedgehog\, and Tortoise. This educational and interactive experience is perfect for children ages 4 to 12 years.  \nDon’t miss this opportunity to explore the animal kingdom up close.  \nRegistration is required for all attendees.
URL:https://wasagabeachpubliclibrary.ca/events/hands-on-exotics-explore-africa/
LOCATION:Wasaga Beach Public Library\, 544 River Road West\, Wasaga Beach\, ON\, L9Z 2P1\, Canada
CATEGORIES:Child & Youth
ATTACH;FMTTYPE=image/jpeg:https://wasagabeachpubliclibrary.ca/wp-content/uploads/2024/07/61086a62b13fac609b547e55292992d4.jpg
END:VEVENT
END:VCALENDAR