BEGIN:VCALENDAR
VERSION:2.0
PRODID:-//Wasaga Beach Public Library - ECPv6.15.20//NONSGML v1.0//EN
CALSCALE:GREGORIAN
METHOD:PUBLISH
X-WR-CALNAME:Wasaga Beach Public Library
X-ORIGINAL-URL:https://wasagabeachpubliclibrary.ca
X-WR-CALDESC:Events for Wasaga Beach Public Library
REFRESH-INTERVAL;VALUE=DURATION:PT1H
X-Robots-Tag:noindex
X-PUBLISHED-TTL:PT1H
BEGIN:VTIMEZONE
TZID:America/Toronto
BEGIN:DAYLIGHT
TZOFFSETFROM:-0500
TZOFFSETTO:-0400
TZNAME:EDT
DTSTART:20230312T070000
END:DAYLIGHT
BEGIN:STANDARD
TZOFFSETFROM:-0400
TZOFFSETTO:-0500
TZNAME:EST
DTSTART:20231105T060000
END:STANDARD
BEGIN:DAYLIGHT
TZOFFSETFROM:-0500
TZOFFSETTO:-0400
TZNAME:EDT
DTSTART:20240310T070000
END:DAYLIGHT
BEGIN:STANDARD
TZOFFSETFROM:-0400
TZOFFSETTO:-0500
TZNAME:EST
DTSTART:20241103T060000
END:STANDARD
BEGIN:DAYLIGHT
TZOFFSETFROM:-0500
TZOFFSETTO:-0400
TZNAME:EDT
DTSTART:20250309T070000
END:DAYLIGHT
BEGIN:STANDARD
TZOFFSETFROM:-0400
TZOFFSETTO:-0500
TZNAME:EST
DTSTART:20251102T060000
END:STANDARD
END:VTIMEZONE
BEGIN:VEVENT
DTSTART;TZID=America/Toronto:20241008T100000
DTEND;TZID=America/Toronto:20241008T104500
DTSTAMP:20260421T074750
CREATED:20240123T084014Z
LAST-MODIFIED:20241008T143550Z
UID:10000432-1728381600-1728384300@wasagabeachpubliclibrary.ca
SUMMARY:Music & Storytime
DESCRIPTION:Listen to your favourite books\, sing tunes and play along with instruments.
URL:https://wasagabeachpubliclibrary.ca/events/music-storytime-64/
LOCATION:Wasaga Beach Public Library\, 544 River Road West\, Wasaga Beach\, ON\, L9Z 2P1\, Canada
CATEGORIES:Child & Youth
ATTACH;FMTTYPE=image/jpeg:https://wasagabeachpubliclibrary.ca/wp-content/uploads/2024/01/5ef3b0e54af8aee0a2e04c07223db1cb.jpg
END:VEVENT
BEGIN:VEVENT
DTSTART;TZID=America/Toronto:20241008T100000
DTEND;TZID=America/Toronto:20241008T130000
DTSTAMP:20260421T074750
CREATED:20240828T185304Z
LAST-MODIFIED:20240828T185305Z
UID:10002592-1728381600-1728392400@wasagabeachpubliclibrary.ca
SUMMARY:Georgian College Academic and Career Preparation
DESCRIPTION:Georgian College is set to return their Communications and Keys to Success classes to the Wasaga Beach Public Library every Tuesday from September 3 until December 10. Additionally\, every Wednesday from September 4 until December 11 will be the Mathematics Program for Core\, Business\, Tech\, and Apprenticeship Math. \nThe program requires pre-registration through Georgian College’s ACP program. For more information\, please contact ACPSouthGeorgianBay@georgiancollege.ca or 249-882-0018
URL:https://wasagabeachpubliclibrary.ca/events/georgian-collegeacademic-and-career-preparation-2/2024-10-08/
LOCATION:Wasaga Beach Public Library\, 544 River Road West\, Wasaga Beach\, ON\, L9Z 2P1\, Canada
CATEGORIES:Community Partners
ATTACH;FMTTYPE=image/jpeg:https://wasagabeachpubliclibrary.ca/wp-content/uploads/2024/03/WEB-19-548_ACPHeaderImage_1700by500-1.jpg
END:VEVENT
BEGIN:VEVENT
DTSTART;TZID=America/Toronto:20241008T110000
DTEND;TZID=America/Toronto:20241008T120000
DTSTAMP:20260421T074750
CREATED:20240325T173734Z
LAST-MODIFIED:20241008T143605Z
UID:10001049-1728385200-1728388800@wasagabeachpubliclibrary.ca
SUMMARY:Rhythm of the Beach Drum Circle
DESCRIPTION:Drumming with your hands and getting into the rhythm with the group can be therapeutic\, hypnotic or just plain fun!
URL:https://wasagabeachpubliclibrary.ca/events/rhythm-of-the-beach-drum-circle-36/
LOCATION:Wasaga Beach Public Library\, 544 River Road West\, Wasaga Beach\, ON\, L9Z 2P1\, Canada
CATEGORIES:Adult
ATTACH;FMTTYPE=image/jpeg:https://wasagabeachpubliclibrary.ca/wp-content/uploads/2024/01/8ff99475de3de8b6573bcfdfc5136eff.jpg
END:VEVENT
BEGIN:VEVENT
DTSTART;TZID=America/Toronto:20241008T163000
DTEND;TZID=America/Toronto:20241008T173000
DTSTAMP:20260421T074750
CREATED:20240827T233654Z
LAST-MODIFIED:20241008T143714Z
UID:10002573-1728405000-1728408600@wasagabeachpubliclibrary.ca
SUMMARY:3D Printed Croc Jibbitz: Kids Workshop
DESCRIPTION:Got Crocs?! Join us in the Digital Lab for a fun hands on workshop where kids design and 3D print their own Croc jibbitz! (Croc Charms)
URL:https://wasagabeachpubliclibrary.ca/events/3d-printed-croc-jibbitz-kids-workshop/
LOCATION:Wasaga Beach Public Library\, 544 River Road West\, Wasaga Beach\, ON\, L9Z 2P1\, Canada
CATEGORIES:Child & Youth,Makerspace
ATTACH;FMTTYPE=image/jpeg:https://wasagabeachpubliclibrary.ca/wp-content/uploads/2024/08/3bc7616dd38e17d310dfae768718ceb9.jpg
END:VEVENT
BEGIN:VEVENT
DTSTART;TZID=America/Toronto:20241008T163000
DTEND;TZID=America/Toronto:20241008T183000
DTSTAMP:20260421T074750
CREATED:20240730T220825Z
LAST-MODIFIED:20241008T143647Z
UID:10002457-1728405000-1728412200@wasagabeachpubliclibrary.ca
SUMMARY:Chess Club
DESCRIPTION:Join us for the Library Chess Club! Whether you’re a seasoned player or just starting out\, all skill levels are welcome.
URL:https://wasagabeachpubliclibrary.ca/events/chess-club-9/
LOCATION:Wasaga Beach Public Library\, 544 River Road West\, Wasaga Beach\, ON\, L9Z 2P1\, Canada
CATEGORIES:Child & Youth
ATTACH;FMTTYPE=image/jpeg:https://wasagabeachpubliclibrary.ca/wp-content/uploads/2024/03/e719d84633cedf4d7c27a02a9898c024.jpg
END:VEVENT
BEGIN:VEVENT
DTSTART;TZID=America/Toronto:20241008T190000
DTEND;TZID=America/Toronto:20241008T210000
DTSTAMP:20260421T074750
CREATED:20231212T160043Z
LAST-MODIFIED:20241008T143536Z
UID:10000309-1728414000-1728421200@wasagabeachpubliclibrary.ca
SUMMARY:Wasaga Beach Writers Club
DESCRIPTION:Experienced and amateur writers are welcome to join meetings to share writing\, seek critiques and enjoy the creative process.
URL:https://wasagabeachpubliclibrary.ca/events/wasaga-beach-writers-club-20/
LOCATION:Wasaga Beach Public Library\, 544 River Road West\, Wasaga Beach\, ON\, L9Z 2P1\, Canada
CATEGORIES:Adult
ATTACH;FMTTYPE=image/jpeg:https://wasagabeachpubliclibrary.ca/wp-content/uploads/2023/09/99c428eb2ced61b5f9dfb34d911b9daa.jpg
END:VEVENT
END:VCALENDAR