BEGIN:VCALENDAR
VERSION:2.0
PRODID:-//Wasaga Beach Public Library - ECPv6.15.20//NONSGML v1.0//EN
CALSCALE:GREGORIAN
METHOD:PUBLISH
X-ORIGINAL-URL:https://wasagabeachpubliclibrary.ca
X-WR-CALDESC:Events for Wasaga Beach Public Library
REFRESH-INTERVAL;VALUE=DURATION:PT1H
X-Robots-Tag:noindex
X-PUBLISHED-TTL:PT1H
BEGIN:VTIMEZONE
TZID:America/Toronto
BEGIN:DAYLIGHT
TZOFFSETFROM:-0500
TZOFFSETTO:-0400
TZNAME:EDT
DTSTART:20230312T070000
END:DAYLIGHT
BEGIN:STANDARD
TZOFFSETFROM:-0400
TZOFFSETTO:-0500
TZNAME:EST
DTSTART:20231105T060000
END:STANDARD
BEGIN:DAYLIGHT
TZOFFSETFROM:-0500
TZOFFSETTO:-0400
TZNAME:EDT
DTSTART:20240310T070000
END:DAYLIGHT
BEGIN:STANDARD
TZOFFSETFROM:-0400
TZOFFSETTO:-0500
TZNAME:EST
DTSTART:20241103T060000
END:STANDARD
BEGIN:DAYLIGHT
TZOFFSETFROM:-0500
TZOFFSETTO:-0400
TZNAME:EDT
DTSTART:20250309T070000
END:DAYLIGHT
BEGIN:STANDARD
TZOFFSETFROM:-0400
TZOFFSETTO:-0500
TZNAME:EST
DTSTART:20251102T060000
END:STANDARD
END:VTIMEZONE
BEGIN:VEVENT
DTSTART;TZID=America/Toronto:20241105T100000
DTEND;TZID=America/Toronto:20241105T104500
DTSTAMP:20260423T095330
CREATED:20240123T084015Z
LAST-MODIFIED:20241105T125049Z
UID:10000436-1730800800-1730803500@wasagabeachpubliclibrary.ca
SUMMARY:Music & Storytime
DESCRIPTION:Listen to your favourite books\, sing tunes and play along with instruments.
URL:https://wasagabeachpubliclibrary.ca/events/music-storytime-68/
LOCATION:Wasaga Beach Public Library\, 544 River Road West\, Wasaga Beach\, ON\, L9Z 2P1\, Canada
CATEGORIES:Child & Youth
ATTACH;FMTTYPE=image/jpeg:https://wasagabeachpubliclibrary.ca/wp-content/uploads/2024/01/5ef3b0e54af8aee0a2e04c07223db1cb.jpg
END:VEVENT
BEGIN:VEVENT
DTSTART;TZID=America/Toronto:20241105T100000
DTEND;TZID=America/Toronto:20241105T130000
DTSTAMP:20260423T095330
CREATED:20240828T185304Z
LAST-MODIFIED:20240828T185305Z
UID:10002598-1730800800-1730811600@wasagabeachpubliclibrary.ca
SUMMARY:Georgian College Academic and Career Preparation
DESCRIPTION:Georgian College is set to return their Communications and Keys to Success classes to the Wasaga Beach Public Library every Tuesday from September 3 until December 10. Additionally\, every Wednesday from September 4 until December 11 will be the Mathematics Program for Core\, Business\, Tech\, and Apprenticeship Math. \nThe program requires pre-registration through Georgian College’s ACP program. For more information\, please contact ACPSouthGeorgianBay@georgiancollege.ca or 249-882-0018
URL:https://wasagabeachpubliclibrary.ca/events/georgian-collegeacademic-and-career-preparation-2/2024-11-05/
LOCATION:Wasaga Beach Public Library\, 544 River Road West\, Wasaga Beach\, ON\, L9Z 2P1\, Canada
CATEGORIES:Community Partners
ATTACH;FMTTYPE=image/jpeg:https://wasagabeachpubliclibrary.ca/wp-content/uploads/2024/03/WEB-19-548_ACPHeaderImage_1700by500-1.jpg
END:VEVENT
BEGIN:VEVENT
DTSTART;TZID=America/Toronto:20241105T110000
DTEND;TZID=America/Toronto:20241105T120000
DTSTAMP:20260423T095330
CREATED:20240325T173735Z
LAST-MODIFIED:20241105T125050Z
UID:10001053-1730804400-1730808000@wasagabeachpubliclibrary.ca
SUMMARY:Rhythm of the Beach Drum Circle
DESCRIPTION:Drumming with your hands and getting into the rhythm with the group can be therapeutic\, hypnotic or just plain fun!
URL:https://wasagabeachpubliclibrary.ca/events/rhythm-of-the-beach-drum-circle-40/
LOCATION:Wasaga Beach Public Library\, 544 River Road West\, Wasaga Beach\, ON\, L9Z 2P1\, Canada
CATEGORIES:Adult
ATTACH;FMTTYPE=image/jpeg:https://wasagabeachpubliclibrary.ca/wp-content/uploads/2024/01/8ff99475de3de8b6573bcfdfc5136eff.jpg
END:VEVENT
BEGIN:VEVENT
DTSTART;TZID=America/Toronto:20241105T133000
DTEND;TZID=America/Toronto:20241105T143000
DTSTAMP:20260423T095330
CREATED:20241008T140628Z
LAST-MODIFIED:20241105T125146Z
UID:10002701-1730813400-1730817000@wasagabeachpubliclibrary.ca
SUMMARY:Wings of Legacy: A Century of the Royal Canadian Air Force
DESCRIPTION:Learn about the RCAF past and present as we acknowledge its centennial year!\n\n\nLearn about the RCAF past and present as we acknowledge its centennial year!\nJoin us with special guest Colonel Gabriel Doré\, 16 Wing Commander of the Royal Canadian Air Force for an engaging presentation exploring the rich history and evolution of the Royal Canadian Air Force (RCAF) through a captivating collection of aircraft images\, showcasing both vintage and modern planes. This visual journey will highlight the RCAF’s capabilities across the decades and the diverse missions it has undertaken\, from humanitarian efforts to defense operations. Colonel Dore will provide insight on current day world events and threats to the RCAF’s future capabilities \nAs we delve into the past and present of the RCAF\, we’ll also commemorate a significant milestone: the RCAF’s 100th anniversary celebrated at Base Borden\, reflecting on a century of service and dedication. Don’t miss this opportunity to learn about the proud legacy of the RCAF and its pivotal role in Canada’s history\, both past and present. \nAbout the speaker:\nColonel Doré assumed command of 16 Wing in June 2023. Colonel Dore is a former resident of Wasaga Beach\, has occupied several positions in Borden such as Squadron Commander at the Canadian Forces School of Aerospace Technology and Engineering\, Deputy Commanding Officer at 400 Squadron\, and Commanding Officer at the Regional Cadet Support Unit for Central Region. He has experience with cadet operations\, RCAF maintenance operations\, and RCAF technical training operations. He is a former executive on the Wasaga Beach Minor Hockey Association
URL:https://wasagabeachpubliclibrary.ca/events/wings-of-legacy-a-century-of-the-royal-canadian-air-force/
LOCATION:Wasaga Beach Public Library\, 544 River Road West\, Wasaga Beach\, ON\, L9Z 2P1\, Canada
CATEGORIES:Adult
ATTACH;FMTTYPE=image/jpeg:https://wasagabeachpubliclibrary.ca/wp-content/uploads/2024/10/30ef2f437151c5ee6001f596c13ed7e3.jpg
END:VEVENT
BEGIN:VEVENT
DTSTART;TZID=America/Toronto:20241105T163000
DTEND;TZID=America/Toronto:20241105T173000
DTSTAMP:20260423T095330
CREATED:20241003T212100Z
LAST-MODIFIED:20241105T125133Z
UID:10002689-1730824200-1730827800@wasagabeachpubliclibrary.ca
SUMMARY:3D Printed Croc Jibbitz: Kids Workshop
DESCRIPTION:Got Crocs?! Join us in the Digital Lab for a fun hands on workshop where kids design and 3D print their own Croc jibbitz! (Croc Charms)
URL:https://wasagabeachpubliclibrary.ca/events/3d-printed-croc-jibbitz-kids-workshop-5/
LOCATION:Wasaga Beach Public Library\, 544 River Road West\, Wasaga Beach\, ON\, L9Z 2P1\, Canada
ATTACH;FMTTYPE=image/jpeg:https://wasagabeachpubliclibrary.ca/wp-content/uploads/2024/08/3bc7616dd38e17d310dfae768718ceb9.jpg
END:VEVENT
BEGIN:VEVENT
DTSTART;TZID=America/Toronto:20241105T163000
DTEND;TZID=America/Toronto:20241105T183000
DTSTAMP:20260423T095330
CREATED:20240730T220826Z
LAST-MODIFIED:20241105T125120Z
UID:10002458-1730824200-1730831400@wasagabeachpubliclibrary.ca
SUMMARY:Chess Club
DESCRIPTION:Join us for the Library Chess Club! Whether you’re a seasoned player or just starting out\, all skill levels are welcome.
URL:https://wasagabeachpubliclibrary.ca/events/chess-club-10/
LOCATION:Wasaga Beach Public Library\, 544 River Road West\, Wasaga Beach\, ON\, L9Z 2P1\, Canada
CATEGORIES:Child & Youth
ATTACH;FMTTYPE=image/jpeg:https://wasagabeachpubliclibrary.ca/wp-content/uploads/2024/03/e719d84633cedf4d7c27a02a9898c024.jpg
END:VEVENT
BEGIN:VEVENT
DTSTART;TZID=America/Toronto:20241105T170000
DTEND;TZID=America/Toronto:20241105T183000
DTSTAMP:20260423T095330
CREATED:20241009T140606Z
LAST-MODIFIED:20241105T125146Z
UID:10002707-1730826000-1730831400@wasagabeachpubliclibrary.ca
SUMMARY:Youth Art Workshop - Paper Art Series
DESCRIPTION:Join us for a three-week series\, as we turn scraps of paper into works of art! Ideal for ages 10 to 18 years.\n\n\nAdults. Must commit to all sessions. Class runs Tuesdays: Nov 5th \, Nov 12th and Nov 19th. \nJoin us for a three-week series where we transform scraps of paper into stunning works of art! Explore your creativity with Scrap Paper Mosaics\, Art with Strips of Paper\, and Mini Paper Mobiles. This program is perfect for ages 10 to 18. \nFree to participate. Supplies provided. Must have a WBPL library card. \nSpace is limited to 20 registrants.
URL:https://wasagabeachpubliclibrary.ca/events/youth-art-workshop-paper-art-series/
LOCATION:Wasaga Beach Public Library\, 544 River Road West\, Wasaga Beach\, ON\, L9Z 2P1\, Canada
CATEGORIES:Child & Youth
ATTACH;FMTTYPE=image/jpeg:https://wasagabeachpubliclibrary.ca/wp-content/uploads/2024/10/b9746b53e33e7601ca30827b5781aff0.jpg
END:VEVENT
END:VCALENDAR