BEGIN:VCALENDAR
VERSION:2.0
PRODID:-//Wasaga Beach Public Library - ECPv6.15.20//NONSGML v1.0//EN
CALSCALE:GREGORIAN
METHOD:PUBLISH
X-WR-CALNAME:Wasaga Beach Public Library
X-ORIGINAL-URL:https://wasagabeachpubliclibrary.ca
X-WR-CALDESC:Events for Wasaga Beach Public Library
REFRESH-INTERVAL;VALUE=DURATION:PT1H
X-Robots-Tag:noindex
X-PUBLISHED-TTL:PT1H
BEGIN:VTIMEZONE
TZID:America/Toronto
BEGIN:DAYLIGHT
TZOFFSETFROM:-0500
TZOFFSETTO:-0400
TZNAME:EDT
DTSTART:20230312T070000
END:DAYLIGHT
BEGIN:STANDARD
TZOFFSETFROM:-0400
TZOFFSETTO:-0500
TZNAME:EST
DTSTART:20231105T060000
END:STANDARD
BEGIN:DAYLIGHT
TZOFFSETFROM:-0500
TZOFFSETTO:-0400
TZNAME:EDT
DTSTART:20240310T070000
END:DAYLIGHT
BEGIN:STANDARD
TZOFFSETFROM:-0400
TZOFFSETTO:-0500
TZNAME:EST
DTSTART:20241103T060000
END:STANDARD
BEGIN:DAYLIGHT
TZOFFSETFROM:-0500
TZOFFSETTO:-0400
TZNAME:EDT
DTSTART:20250309T070000
END:DAYLIGHT
BEGIN:STANDARD
TZOFFSETFROM:-0400
TZOFFSETTO:-0500
TZNAME:EST
DTSTART:20251102T060000
END:STANDARD
END:VTIMEZONE
BEGIN:VEVENT
DTSTART;TZID=America/Toronto:20241106T100000
DTEND;TZID=America/Toronto:20241106T120000
DTSTAMP:20260423T093755
CREATED:20240703T134304Z
LAST-MODIFIED:20240909T182438Z
UID:10002580-1730887200-1730894400@wasagabeachpubliclibrary.ca
SUMMARY:Georgian College Information/Open Onboarding
DESCRIPTION:Marg Thibideau serves as the Academic Upgrading Officer at Georgian College’s John DiPoce South Georgian Bay Campus\, where she warmly welcomes inquiries about the Academic and Career Preparation Program. This program offers an array of FREE courses\, including Core Upgrading\, Career and College Preparation\, and Employment Readiness courses. Additionally\, comprehensive support is available for individuals preparing to write their General Education Development (GED) test. \nWith classes currently offered in both Collingwood and Wasaga Beach\, learners can opt for either in-class or remote delivery. Funded by the Ministry of Labour\, Immigration\, Training and Skills Development\, this program offers free upgrading to eligible learners aged 19 or older residing in Ontario\, with some applicants aged 16 to 18 also potentially eligible. \nClasses are Wednesdays 10am-12pm. Registration required.
URL:https://wasagabeachpubliclibrary.ca/events/georgian-college-information-open-onboarding-2/2024-11-06/
LOCATION:Wasaga Beach Public Library\, 544 River Road West\, Wasaga Beach\, ON\, L9Z 2P1\, Canada
CATEGORIES:Community Partners
ATTACH;FMTTYPE=image/jpeg:https://wasagabeachpubliclibrary.ca/wp-content/uploads/2024/03/WEB-19-548_ACPHeaderImage_1700by500.jpg
END:VEVENT
BEGIN:VEVENT
DTSTART;TZID=America/Toronto:20241106T100000
DTEND;TZID=America/Toronto:20241106T130000
DTSTAMP:20260423T093755
CREATED:20240828T185304Z
LAST-MODIFIED:20240828T185305Z
UID:10002599-1730887200-1730898000@wasagabeachpubliclibrary.ca
SUMMARY:Georgian College Academic and Career Preparation
DESCRIPTION:Georgian College is set to return their Communications and Keys to Success classes to the Wasaga Beach Public Library every Tuesday from September 3 until December 10. Additionally\, every Wednesday from September 4 until December 11 will be the Mathematics Program for Core\, Business\, Tech\, and Apprenticeship Math. \nThe program requires pre-registration through Georgian College’s ACP program. For more information\, please contact ACPSouthGeorgianBay@georgiancollege.ca or 249-882-0018
URL:https://wasagabeachpubliclibrary.ca/events/georgian-collegeacademic-and-career-preparation-2/2024-11-06/
LOCATION:Wasaga Beach Public Library\, 544 River Road West\, Wasaga Beach\, ON\, L9Z 2P1\, Canada
CATEGORIES:Community Partners
ATTACH;FMTTYPE=image/jpeg:https://wasagabeachpubliclibrary.ca/wp-content/uploads/2024/03/WEB-19-548_ACPHeaderImage_1700by500-1.jpg
END:VEVENT
BEGIN:VEVENT
DTSTART;TZID=America/Toronto:20241106T163000
DTEND;TZID=America/Toronto:20241106T173000
DTSTAMP:20260423T093755
CREATED:20240320T003824Z
LAST-MODIFIED:20241106T130623Z
UID:10000985-1730910600-1730914200@wasagabeachpubliclibrary.ca
SUMMARY:Family Crochet
DESCRIPTION:Interested in learning some basic crochet stitches? Come to the library and give it a try! We provide the materials needed.
URL:https://wasagabeachpubliclibrary.ca/events/family-crochet-7/
LOCATION:Wasaga Beach Public Library\, 544 River Road West\, Wasaga Beach\, ON\, L9Z 2P1\, Canada
CATEGORIES:Child & Youth
ATTACH;FMTTYPE=image/jpeg:https://wasagabeachpubliclibrary.ca/wp-content/uploads/2024/03/76961088a51935a086d9520f4e3b21f5.jpg
END:VEVENT
BEGIN:VEVENT
DTSTART;TZID=America/Toronto:20241106T163000
DTEND;TZID=America/Toronto:20241106T173000
DTSTAMP:20260423T093755
CREATED:20241003T212058Z
LAST-MODIFIED:20241106T130624Z
UID:10002684-1730910600-1730914200@wasagabeachpubliclibrary.ca
SUMMARY:Sticker Art: Kids' Workshop
DESCRIPTION:Let your creativity shine at our fun and interactive sticker design workshop!
URL:https://wasagabeachpubliclibrary.ca/events/sticker-art-kids-workshop-13/
LOCATION:Wasaga Beach Public Library\, 544 River Road West\, Wasaga Beach\, ON\, L9Z 2P1\, Canada
ATTACH;FMTTYPE=image/jpeg:https://wasagabeachpubliclibrary.ca/wp-content/uploads/2024/06/d736c266c76cbd7c1972f078ac73d415.jpg
END:VEVENT
END:VCALENDAR