BEGIN:VCALENDAR
VERSION:2.0
PRODID:-//Wasaga Beach Public Library - ECPv6.15.20//NONSGML v1.0//EN
CALSCALE:GREGORIAN
METHOD:PUBLISH
X-WR-CALNAME:Wasaga Beach Public Library
X-ORIGINAL-URL:https://wasagabeachpubliclibrary.ca
X-WR-CALDESC:Events for Wasaga Beach Public Library
REFRESH-INTERVAL;VALUE=DURATION:PT1H
X-Robots-Tag:noindex
X-PUBLISHED-TTL:PT1H
BEGIN:VTIMEZONE
TZID:America/Toronto
BEGIN:DAYLIGHT
TZOFFSETFROM:-0500
TZOFFSETTO:-0400
TZNAME:EDT
DTSTART:20240310T070000
END:DAYLIGHT
BEGIN:STANDARD
TZOFFSETFROM:-0400
TZOFFSETTO:-0500
TZNAME:EST
DTSTART:20241103T060000
END:STANDARD
BEGIN:DAYLIGHT
TZOFFSETFROM:-0500
TZOFFSETTO:-0400
TZNAME:EDT
DTSTART:20250309T070000
END:DAYLIGHT
BEGIN:STANDARD
TZOFFSETFROM:-0400
TZOFFSETTO:-0500
TZNAME:EST
DTSTART:20251102T060000
END:STANDARD
BEGIN:DAYLIGHT
TZOFFSETFROM:-0500
TZOFFSETTO:-0400
TZNAME:EDT
DTSTART:20260308T070000
END:DAYLIGHT
BEGIN:STANDARD
TZOFFSETFROM:-0400
TZOFFSETTO:-0500
TZNAME:EST
DTSTART:20261101T060000
END:STANDARD
END:VTIMEZONE
BEGIN:VEVENT
DTSTART;TZID=America/Toronto:20250211T100000
DTEND;TZID=America/Toronto:20250211T104500
DTSTAMP:20260424T084639
CREATED:20241207T052046Z
LAST-MODIFIED:20250210T215255Z
UID:10002889-1739268000-1739270700@wasagabeachpubliclibrary.ca
SUMMARY:Music & Storytime
DESCRIPTION:Listen\, sing\, and play! Kids (ages 2-6) pick picture books to share\, then join Miss Lesley for music fun with percussion instruments.
URL:https://wasagabeachpubliclibrary.ca/events/music-storytime-80/
LOCATION:Wasaga Beach Public Library\, 544 River Road West\, Wasaga Beach\, ON\, L9Z 2P1\, Canada
CATEGORIES:Child & Youth
ATTACH;FMTTYPE=image/jpeg:https://wasagabeachpubliclibrary.ca/wp-content/uploads/2024/01/5ef3b0e54af8aee0a2e04c07223db1cb.jpg
END:VEVENT
BEGIN:VEVENT
DTSTART;TZID=America/Toronto:20250211T110000
DTEND;TZID=America/Toronto:20250211T120000
DTSTAMP:20260424T084639
CREATED:20240123T161458Z
LAST-MODIFIED:20250114T143603Z
UID:10000564-1739271600-1739275200@wasagabeachpubliclibrary.ca
SUMMARY:Groupe De Conversation
DESCRIPTION:ONLINE – Venez pratiquer et améliorer votre français avec nous et le Centre de formation aux adultes de La Clé! Nos groupes de conversation sont gratuits\, se déroulent en français et sont ouverts à tous les 19 ans et plus ! Pour joindre le groupe de conversation hebdomadaire sur Zoom\, veuillez envoyer un courriel à coordinationafb@lacle.ca. \nPlease be aware that this program is offered entirely in the French language as conversational practice for adults 19 years+ who already know French. This is not a beginner instructional language class and is for intermediate to advanced learners wanting to practice their conversational French. \nRegister once by email with La Cle at coordinationafb@lacle.ca and drop in by Zoom each week (or as able). A La Cle facilitator who will send weekly reminder emails and the Zoom link. Free to participate. Library membership is not required.
URL:https://wasagabeachpubliclibrary.ca/events/group-de-coversation/2025-02-11/
LOCATION:ON
CATEGORIES:Community Partners
ATTACH;FMTTYPE=image/jpeg:https://wasagabeachpubliclibrary.ca/wp-content/uploads/2024/01/pexels-anna-shvets-4226140-scaled.jpg
END:VEVENT
BEGIN:VEVENT
DTSTART;TZID=America/Toronto:20250211T110000
DTEND;TZID=America/Toronto:20250211T120000
DTSTAMP:20260424T084639
CREATED:20241107T095135Z
LAST-MODIFIED:20250210T215352Z
UID:10002764-1739271600-1739275200@wasagabeachpubliclibrary.ca
SUMMARY:Rhythm of the Beach Drum Circle
DESCRIPTION:Drumming with your hands and getting into the rhythm with the group can be therapeutic\, hypnotic or just plain fun!
URL:https://wasagabeachpubliclibrary.ca/events/rhythm-of-the-beach-drum-circle-53/
LOCATION:Wasaga Beach Public Library\, 544 River Road West\, Wasaga Beach\, ON\, L9Z 2P1\, Canada
CATEGORIES:Adult
ATTACH;FMTTYPE=image/jpeg:https://wasagabeachpubliclibrary.ca/wp-content/uploads/2024/01/8ff99475de3de8b6573bcfdfc5136eff.jpg
END:VEVENT
BEGIN:VEVENT
DTSTART;TZID=America/Toronto:20250211T160000
DTEND;TZID=America/Toronto:20250211T170000
DTSTAMP:20260424T084639
CREATED:20250115T102321Z
LAST-MODIFIED:20250210T173742Z
UID:10003496-1739289600-1739293200@wasagabeachpubliclibrary.ca
SUMMARY:Math and Science Support: Grades 7 to 9
DESCRIPTION:Extra help for Grades 7–9 Math & Science! Join Mr. Enio for small-group sessions on homework\, concepts\, & test prep. Registration required.
URL:https://wasagabeachpubliclibrary.ca/events/math-and-science-support-grade-7-to-9-3/
LOCATION:Wasaga Beach Public Library\, 544 River Road West\, Wasaga Beach\, ON\, L9Z 2P1\, Canada
CATEGORIES:Child & Youth
ATTACH;FMTTYPE=image/jpeg:https://wasagabeachpubliclibrary.ca/wp-content/uploads/2025/01/475e7e2f755017922bdce53f08886c1f.jpg
END:VEVENT
BEGIN:VEVENT
DTSTART;TZID=America/Toronto:20250211T170000
DTEND;TZID=America/Toronto:20250211T180000
DTSTAMP:20260424T084639
CREATED:20250107T220805Z
LAST-MODIFIED:20250210T173756Z
UID:10003392-1739293200-1739296800@wasagabeachpubliclibrary.ca
SUMMARY:Creation Club: Valentines Bracelets
DESCRIPTION:Feeling creative? Come and join us for Valentine’s bracelet making!\n\n\n📅 Ages: 5-12\n📌 Wasaga Beach Public Library card required for registration. \nJoin us for a fun evening of bracelet-making with charming Valentine’s beads. Create one for yourself or make a heartfelt gift for someone special! \nDon’t miss this chance to show off your artistic talents and celebrate the season! ❤️ \n🎨 All materials provided.
URL:https://wasagabeachpubliclibrary.ca/events/creation-club-valentines-bracelets/
LOCATION:Wasaga Beach Public Library\, 544 River Road West\, Wasaga Beach\, ON\, L9Z 2P1\, Canada
CATEGORIES:Child & Youth
ATTACH;FMTTYPE=image/jpeg:https://wasagabeachpubliclibrary.ca/wp-content/uploads/2025/01/56d8d81cfcf85c0698a4bf23865cbc86.jpg
END:VEVENT
BEGIN:VEVENT
DTSTART;TZID=America/Toronto:20250211T170000
DTEND;TZID=America/Toronto:20250211T180000
DTSTAMP:20260424T084639
CREATED:20250115T102337Z
LAST-MODIFIED:20250210T173748Z
UID:10003538-1739293200-1739296800@wasagabeachpubliclibrary.ca
SUMMARY:Math and Physics Support: Grades 10 to 12
DESCRIPTION:⚛️ Need Math or Physics help? Grades 10–12 students can join Mr. Enio for small-group homework support\, concept review\, & test prep.
URL:https://wasagabeachpubliclibrary.ca/events/math-and-physics-support-grade-10-to-12-3/
LOCATION:Wasaga Beach Public Library\, 544 River Road West\, Wasaga Beach\, ON\, L9Z 2P1\, Canada
CATEGORIES:Child & Youth
ATTACH;FMTTYPE=image/jpeg:https://wasagabeachpubliclibrary.ca/wp-content/uploads/2025/01/cf7d96c995ab7363f6575a12022ec5bb.jpg
END:VEVENT
BEGIN:VEVENT
DTSTART;TZID=America/Toronto:20250211T190000
DTEND;TZID=America/Toronto:20250211T210000
DTSTAMP:20260424T084639
CREATED:20241227T213610Z
LAST-MODIFIED:20250211T220718Z
UID:10003338-1739300400-1739307600@wasagabeachpubliclibrary.ca
SUMMARY:Wasaga Writers Club
DESCRIPTION:Experienced and amateur writers are welcome to join meetings to share writing\, seek critiques and enjoy the creative process.
URL:https://wasagabeachpubliclibrary.ca/events/wasaga-writers-club-3/
LOCATION:Wasaga Beach Public Library\, 544 River Road West\, Wasaga Beach\, ON\, L9Z 2P1\, Canada
CATEGORIES:Adult
ATTACH;FMTTYPE=image/jpeg:https://wasagabeachpubliclibrary.ca/wp-content/uploads/2024/11/933ead4be812ad5e0c2a5f70678e439f.jpg
END:VEVENT
END:VCALENDAR