BEGIN:VCALENDAR
VERSION:2.0
PRODID:-//Wasaga Beach Public Library - ECPv6.15.20//NONSGML v1.0//EN
CALSCALE:GREGORIAN
METHOD:PUBLISH
X-WR-CALNAME:Wasaga Beach Public Library
X-ORIGINAL-URL:https://wasagabeachpubliclibrary.ca
X-WR-CALDESC:Events for Wasaga Beach Public Library
REFRESH-INTERVAL;VALUE=DURATION:PT1H
X-Robots-Tag:noindex
X-PUBLISHED-TTL:PT1H
BEGIN:VTIMEZONE
TZID:America/Toronto
BEGIN:DAYLIGHT
TZOFFSETFROM:-0500
TZOFFSETTO:-0400
TZNAME:EDT
DTSTART:20240310T070000
END:DAYLIGHT
BEGIN:STANDARD
TZOFFSETFROM:-0400
TZOFFSETTO:-0500
TZNAME:EST
DTSTART:20241103T060000
END:STANDARD
BEGIN:DAYLIGHT
TZOFFSETFROM:-0500
TZOFFSETTO:-0400
TZNAME:EDT
DTSTART:20250309T070000
END:DAYLIGHT
BEGIN:STANDARD
TZOFFSETFROM:-0400
TZOFFSETTO:-0500
TZNAME:EST
DTSTART:20251102T060000
END:STANDARD
BEGIN:DAYLIGHT
TZOFFSETFROM:-0500
TZOFFSETTO:-0400
TZNAME:EDT
DTSTART:20260308T070000
END:DAYLIGHT
BEGIN:STANDARD
TZOFFSETFROM:-0400
TZOFFSETTO:-0500
TZNAME:EST
DTSTART:20261101T060000
END:STANDARD
END:VTIMEZONE
BEGIN:VEVENT
DTSTART;TZID=America/Toronto:20250212T100000
DTEND;TZID=America/Toronto:20250212T110000
DTSTAMP:20260424T084545
CREATED:20250107T220806Z
LAST-MODIFIED:20250212T062314Z
UID:10003393-1739354400-1739358000@wasagabeachpubliclibrary.ca
SUMMARY:Humane Society Storytime
DESCRIPTION:A special guest from the Georgian Triangle Humane Society is coming to visit with a furry friend!\n\n\n📌  Ages: Baby – Preschool \nJoin us for a delightful storytime experience that combines heartwarming tales and the magic of furry friends! The Georgian Triangle Humane Society Storytime is perfect for young animal lovers. Gather with us as we share stories\, all while connecting with the amazing work of the Humane Society. \nThis engaging program is more than just storytime—it’s an opportunity to celebrate the bond between humans and animals\, learn about the Humane Society’s mission\, and enjoy the presence of some adorable furry companions. \nCome for the stories\, stay for the paws-itively wonderful company\, and leave with your heart full!
URL:https://wasagabeachpubliclibrary.ca/events/humane-society-storytime-12/
LOCATION:Wasaga Beach Public Library\, 544 River Road West\, Wasaga Beach\, ON\, L9Z 2P1\, Canada
CATEGORIES:Child & Youth
ATTACH;FMTTYPE=image/jpeg:https://wasagabeachpubliclibrary.ca/wp-content/uploads/2024/12/bb7726319260b00ff28230f5aa82459f.jpg
END:VEVENT
BEGIN:VEVENT
DTSTART;TZID=America/Toronto:20250212T100000
DTEND;TZID=America/Toronto:20250212T130000
DTSTAMP:20260424T084546
CREATED:20241227T201526Z
LAST-MODIFIED:20250423T193142Z
UID:10003282-1739354400-1739365200@wasagabeachpubliclibrary.ca
SUMMARY:Georgian College Academic and Career Preparation
DESCRIPTION:Georgian College delivers this program at the Wasaga Beach Public Library every Wednesday: Communications and Math \nThe program requires pre-registration through Georgian College’s ACP program. For more information\, please contact ACPSouthGeorgianBay@georgiancollege.ca or 249-882-0018
URL:https://wasagabeachpubliclibrary.ca/events/georgian-collegeacademic-and-career-preparation-2-2/2025-02-12/
LOCATION:Wasaga Beach Public Library\, 544 River Road West\, Wasaga Beach\, ON\, L9Z 2P1\, Canada
CATEGORIES:Community Partners
ATTACH;FMTTYPE=image/jpeg:https://wasagabeachpubliclibrary.ca/wp-content/uploads/2024/03/WEB-19-548_ACPHeaderImage_1700by500-1.jpg
END:VEVENT
BEGIN:VEVENT
DTSTART;TZID=America/Toronto:20250212T130000
DTEND;TZID=America/Toronto:20250212T143000
DTSTAMP:20260424T084546
CREATED:20250205T065312Z
LAST-MODIFIED:20250212T062255Z
UID:10003687-1739365200-1739370600@wasagabeachpubliclibrary.ca
SUMMARY:3D Printing For Seniors
DESCRIPTION:Discover the fascinating world of 3D printing with our hands-on workshop designed specifically for seniors!
URL:https://wasagabeachpubliclibrary.ca/events/3d-printing-for-seniors-4/
LOCATION:Wasaga Beach Public Library\, 544 River Road West\, Wasaga Beach\, ON\, L9Z 2P1\, Canada
CATEGORIES:Makerspace
ATTACH;FMTTYPE=image/jpeg:https://wasagabeachpubliclibrary.ca/wp-content/uploads/2024/10/4e4440c43d6ce51a353c3c89d6b761c4.jpg
END:VEVENT
BEGIN:VEVENT
DTSTART;TZID=America/Toronto:20250212T130000
DTEND;TZID=America/Toronto:20250212T150000
DTSTAMP:20260424T084546
CREATED:20250115T102359Z
LAST-MODIFIED:20250212T222820Z
UID:10003578-1739365200-1739372400@wasagabeachpubliclibrary.ca
SUMMARY:Adults Sew Savvy: Book Bag
DESCRIPTION:Learn to sew a stylish library book bag in our step-by-step workshop (Feb 12 & 19)! Supplies provided. WBPL card required.\n\n\nLearn to sew a stylish and functional book bag perfect for carrying your winter library reads—or doubling as a summer beach tote! 🌟 With lined pockets and sturdy handles\, this project is both practical and fun. \nOur expert sewing volunteer will guide you step-by-step through the process\, ensuring you gain confidence with your sewing skills. \nSupplies provided. Max: 6 participants. \n📋 Requirements: \n\nValid WBPL library card\nMachine sewing knowledge or prior attendance at the WBPL “Learn Machine Basics” class\nCommitment to attend both sessions: Feb 12 & 19\n\nPlease note: Due to limited space and high demand\, we kindly ask registrants to provide advance notice if they can no longer attend. Repeated “no-shows” may result in restrictions on future program participation.
URL:https://wasagabeachpubliclibrary.ca/events/adults-sew-savvy-book-bag/
LOCATION:Wasaga Beach Public Library\, 544 River Road West\, Wasaga Beach\, ON\, L9Z 2P1\, Canada
CATEGORIES:Adult
ATTACH;FMTTYPE=image/jpeg:https://wasagabeachpubliclibrary.ca/wp-content/uploads/2025/01/567395d452aad7d470ad4fdae64f1797.jpg
END:VEVENT
BEGIN:VEVENT
DTSTART;TZID=America/Toronto:20250212T140000
DTEND;TZID=America/Toronto:20250212T150000
DTSTAMP:20260424T084546
CREATED:20231204T184645Z
LAST-MODIFIED:20250108T174350Z
UID:10003399-1739368800-1739372400@wasagabeachpubliclibrary.ca
SUMMARY:Friends Of The Library Meeting
DESCRIPTION:Whether you’re a book enthusiast\, a community advocate\, or someone simply looking to make a positive impact\, joining the Friends Of The Library is the perfect opportunity to connect with like-minded individuals who share a passion for literature and learning. \nDiscover how you can contribute to the growth of our library\, promote literacy initiatives\, and foster a sense of community spirit. Join us as we help shape the future of our library and create a vibrant hub for knowledge and cultural exchange.
URL:https://wasagabeachpubliclibrary.ca/events/friends-of-the-library-meeting/2025-02-12/
LOCATION:Wasaga Beach Public Library | Remax Room South\, 544 River Road West\, Wasaga Beach\, Ontario\, L9Z 2X2\, Canada
CATEGORIES:Adult,Community Partners
END:VEVENT
BEGIN:VEVENT
DTSTART;TZID=America/Toronto:20250212T140000
DTEND;TZID=America/Toronto:20250212T150000
DTSTAMP:20260424T084546
CREATED:20260111T022157Z
LAST-MODIFIED:20260111T022157Z
UID:10006433-1739368800-1739372400@wasagabeachpubliclibrary.ca
SUMMARY:Friends Of The Library Meeting
DESCRIPTION:Whether you’re a book enthusiast\, a community advocate\, or someone simply looking to make a positive impact\, joining the Friends Of The Library is the perfect opportunity to connect with like-minded individuals who share a passion for literature and learning. \nDiscover how you can contribute to the growth of our library\, promote literacy initiatives\, and foster a sense of community spirit. Join us as we help shape the future of our library and create a vibrant hub for knowledge and cultural exchange.
URL:https://wasagabeachpubliclibrary.ca/events/friends-of-the-library-meeting-4/2025-02-12/
LOCATION:Wasaga Beach Public Library | Remax Room South\, 544 River Road West\, Wasaga Beach\, Ontario\, L9Z 2X2\, Canada
CATEGORIES:Community Partners
END:VEVENT
END:VCALENDAR