BEGIN:VCALENDAR
VERSION:2.0
PRODID:-//Wasaga Beach Public Library - ECPv6.15.20//NONSGML v1.0//EN
CALSCALE:GREGORIAN
METHOD:PUBLISH
X-WR-CALNAME:Wasaga Beach Public Library
X-ORIGINAL-URL:https://wasagabeachpubliclibrary.ca
X-WR-CALDESC:Events for Wasaga Beach Public Library
REFRESH-INTERVAL;VALUE=DURATION:PT1H
X-Robots-Tag:noindex
X-PUBLISHED-TTL:PT1H
BEGIN:VTIMEZONE
TZID:America/Toronto
BEGIN:DAYLIGHT
TZOFFSETFROM:-0500
TZOFFSETTO:-0400
TZNAME:EDT
DTSTART:20240310T070000
END:DAYLIGHT
BEGIN:STANDARD
TZOFFSETFROM:-0400
TZOFFSETTO:-0500
TZNAME:EST
DTSTART:20241103T060000
END:STANDARD
BEGIN:DAYLIGHT
TZOFFSETFROM:-0500
TZOFFSETTO:-0400
TZNAME:EDT
DTSTART:20250309T070000
END:DAYLIGHT
BEGIN:STANDARD
TZOFFSETFROM:-0400
TZOFFSETTO:-0500
TZNAME:EST
DTSTART:20251102T060000
END:STANDARD
BEGIN:DAYLIGHT
TZOFFSETFROM:-0500
TZOFFSETTO:-0400
TZNAME:EDT
DTSTART:20260308T070000
END:DAYLIGHT
BEGIN:STANDARD
TZOFFSETFROM:-0400
TZOFFSETTO:-0500
TZNAME:EST
DTSTART:20261101T060000
END:STANDARD
END:VTIMEZONE
BEGIN:VEVENT
DTSTART;TZID=America/Toronto:20250213T100000
DTEND;TZID=America/Toronto:20250213T113000
DTSTAMP:20260424T084022
CREATED:20250116T103813Z
LAST-MODIFIED:20250213T153818Z
UID:10003579-1739440800-1739446200@wasagabeachpubliclibrary.ca
SUMMARY:Intergenerational Valentine's Day Party
DESCRIPTION:Join us at Gardens of Wasaga for a fun-filled morning of Valentine’s Day-themed activities. Ages 3-12.\n\n\nJoin Wasaga Beach Public Library at Gardens of Wasaga Beach Retirement Home for a special intergenerational program\, where children\, families and seniors come together to share meaningful connections through fun Valentine-themed activities. \n  \nActivities Include: \n❤️ Heart Hunt: Follow clues to find hidden Valentine hearts! \n🎨 Craft Stations: Make special Valentine’s keepsakes to share or take home. \n🧁 Cupcake Decorating: Design delicious treats to enjoy and share! \n🎁 Treasure Prizes: Collect hearts and earn fun Valentine-themed rewards! \n  \nRegistration Required \nFor Children Ages 3-12 \n 
URL:https://wasagabeachpubliclibrary.ca/events/intergenerational-valentines-day-party/
LOCATION:Gardens Of Wasaga Beach Retirement Home\, 705 River Road West\, Wasaga Beach\, ON\, L9Z 0R6\, Canada
CATEGORIES:Child & Youth
ATTACH;FMTTYPE=image/jpeg:https://wasagabeachpubliclibrary.ca/wp-content/uploads/2025/01/0abec649b531900839d2d92cd7ea3cd9.jpg
END:VEVENT
BEGIN:VEVENT
DTSTART;TZID=America/Toronto:20250213T100000
DTEND;TZID=America/Toronto:20250213T163000
DTSTAMP:20260424T084022
CREATED:20250213T163400Z
LAST-MODIFIED:20250213T163400Z
UID:10002188-1739440800-1739464200@wasagabeachpubliclibrary.ca
SUMMARY:South Georgian Bay Small Business Enterprise Centre - In-person Consultations
DESCRIPTION:Offers entrepreneurs the assistance they need to start and grow their businesses\, and to meet their entrepreneurial aspirations. The Centre provides support to new and existing businesses with start-up\, development\, retention and operation. \nTo book an in-person consultation\, email sbec@collingwood.ca or call 705-351-3309.
URL:https://wasagabeachpubliclibrary.ca/events/south-georgian-bay-small-business-enterprise-centre-in-person-consultations-2-2/
LOCATION:Wasaga Beach Public Library\, 544 River Road West\, Wasaga Beach\, ON\, L9Z 2P1\, Canada
CATEGORIES:Community Partners
ATTACH;FMTTYPE=image/jpeg:https://wasagabeachpubliclibrary.ca/wp-content/uploads/2024/06/SBEC-scaled.jpg
ORGANIZER;CN="South Georgian Bay Small Business Enterprise Centre":MAILTO:sbec@collingwood.ca
END:VEVENT
BEGIN:VEVENT
DTSTART;TZID=America/Toronto:20250213T160000
DTEND;TZID=America/Toronto:20250213T170000
DTSTAMP:20260424T084022
CREATED:20250115T102322Z
LAST-MODIFIED:20250213T163430Z
UID:10003497-1739462400-1739466000@wasagabeachpubliclibrary.ca
SUMMARY:Math and Science Support: Grades 7 to 9
DESCRIPTION:Extra help for Grades 7–9 Math & Science! Join Mr. Enio for small-group sessions on homework\, concepts\, & test prep. Registration required.
URL:https://wasagabeachpubliclibrary.ca/events/math-and-science-support-grade-7-to-9-4/
LOCATION:Wasaga Beach Public Library\, 544 River Road West\, Wasaga Beach\, ON\, L9Z 2P1\, Canada
CATEGORIES:Child & Youth
ATTACH;FMTTYPE=image/jpeg:https://wasagabeachpubliclibrary.ca/wp-content/uploads/2025/01/475e7e2f755017922bdce53f08886c1f.jpg
END:VEVENT
BEGIN:VEVENT
DTSTART;TZID=America/Toronto:20250213T160000
DTEND;TZID=America/Toronto:20250213T180000
DTSTAMP:20260424T084022
CREATED:20250205T065312Z
LAST-MODIFIED:20250213T163502Z
UID:10003689-1739462400-1739469600@wasagabeachpubliclibrary.ca
SUMMARY:Open Access: Digital Lab
DESCRIPTION:Open Access provides access to the 3D printer and vinyl printer to patrons who have taken the prerequisite course.
URL:https://wasagabeachpubliclibrary.ca/events/open-access-digital-lab-5/
LOCATION:Wasaga Beach Public Library\, 544 River Road West\, Wasaga Beach\, ON\, L9Z 2P1\, Canada
CATEGORIES:Makerspace
ATTACH;FMTTYPE=image/jpeg:https://wasagabeachpubliclibrary.ca/wp-content/uploads/2025/01/d086438b03da688e10d8f10afcfb07b0.jpg
END:VEVENT
BEGIN:VEVENT
DTSTART;TZID=America/Toronto:20250213T170000
DTEND;TZID=America/Toronto:20250213T180000
DTSTAMP:20260424T084022
CREATED:20250115T102337Z
LAST-MODIFIED:20250213T163531Z
UID:10003539-1739466000-1739469600@wasagabeachpubliclibrary.ca
SUMMARY:Math and Physics Support: Grades 10 to 12
DESCRIPTION:⚛️ Need Math or Physics help? Grades 10–12 students can join Mr. Enio for small-group homework support\, concept review\, & test prep.
URL:https://wasagabeachpubliclibrary.ca/events/math-and-physics-support-grade-10-to-12-4/
LOCATION:Wasaga Beach Public Library\, 544 River Road West\, Wasaga Beach\, ON\, L9Z 2P1\, Canada
CATEGORIES:Child & Youth
ATTACH;FMTTYPE=image/jpeg:https://wasagabeachpubliclibrary.ca/wp-content/uploads/2025/01/cf7d96c995ab7363f6575a12022ec5bb.jpg
END:VEVENT
BEGIN:VEVENT
DTSTART;TZID=America/Toronto:20250213T183000
DTEND;TZID=America/Toronto:20250213T193000
DTSTAMP:20260424T084022
CREATED:20250213T164801Z
LAST-MODIFIED:20250213T164802Z
UID:10001597-1739471400-1739475000@wasagabeachpubliclibrary.ca
SUMMARY:English Conversation Circle With Welcome Centre Immigrant Services
DESCRIPTION:English Conversational Circle for Newcomers\nImprove your English skills in a friendly setting at the English Conversational Circle for Newcomers\, hosted by Welcome Centre Immigrant Services. \n\n\nWinter Update:\nFrom January to March\, sessions will take place online via Zoom. Contact Ian for Zoom links using the information below. \n\n\nNeed help connecting?\nPatrons can visit the library to use a computer or borrow a tablet to join the sessions. \n\n\nService Coordination by Ian Cowie \n\n\nDirect Line: 289-338-5140\nToll-Free: 1-877-761-1155\nEmail: mobileunit@welcomecentre.ca
URL:https://wasagabeachpubliclibrary.ca/events/english-conversation-circle-with-welcome-centre-immigrant-services-10/
LOCATION:Wasaga Beach Public Library\, 544 River Road West\, Wasaga Beach\, ON\, L9Z 2P1\, Canada
CATEGORIES:Community Partners
ATTACH;FMTTYPE=image/jpeg:https://wasagabeachpubliclibrary.ca/wp-content/uploads/2024/05/immigrant-welome-centre-scaled.jpg
END:VEVENT
END:VCALENDAR