BEGIN:VCALENDAR
VERSION:2.0
PRODID:-//Wasaga Beach Public Library - ECPv6.15.20//NONSGML v1.0//EN
CALSCALE:GREGORIAN
METHOD:PUBLISH
X-WR-CALNAME:Wasaga Beach Public Library
X-ORIGINAL-URL:https://wasagabeachpubliclibrary.ca
X-WR-CALDESC:Events for Wasaga Beach Public Library
REFRESH-INTERVAL;VALUE=DURATION:PT1H
X-Robots-Tag:noindex
X-PUBLISHED-TTL:PT1H
BEGIN:VTIMEZONE
TZID:America/Toronto
BEGIN:DAYLIGHT
TZOFFSETFROM:-0500
TZOFFSETTO:-0400
TZNAME:EDT
DTSTART:20240310T070000
END:DAYLIGHT
BEGIN:STANDARD
TZOFFSETFROM:-0400
TZOFFSETTO:-0500
TZNAME:EST
DTSTART:20241103T060000
END:STANDARD
BEGIN:DAYLIGHT
TZOFFSETFROM:-0500
TZOFFSETTO:-0400
TZNAME:EDT
DTSTART:20250309T070000
END:DAYLIGHT
BEGIN:STANDARD
TZOFFSETFROM:-0400
TZOFFSETTO:-0500
TZNAME:EST
DTSTART:20251102T060000
END:STANDARD
BEGIN:DAYLIGHT
TZOFFSETFROM:-0500
TZOFFSETTO:-0400
TZNAME:EDT
DTSTART:20260308T070000
END:DAYLIGHT
BEGIN:STANDARD
TZOFFSETFROM:-0400
TZOFFSETTO:-0500
TZNAME:EST
DTSTART:20261101T060000
END:STANDARD
END:VTIMEZONE
BEGIN:VEVENT
DTSTART;TZID=America/Toronto:20250214T100000
DTEND;TZID=America/Toronto:20250214T110000
DTSTAMP:20260424T084125
CREATED:20250113T180926Z
LAST-MODIFIED:20250214T134915Z
UID:10003486-1739527200-1739530800@wasagabeachpubliclibrary.ca
SUMMARY:EarlyON Baby and Me
DESCRIPTION:Join other parents and their babies (birth to 1 year) to meet in an informal\, supportive environment. Each week a topic of interest is presented along with songs and stories. \nPre-Registration is recommended for this program: https://www.missioninc.com/cso/simcoe/en-ca/earlyon/options
URL:https://wasagabeachpubliclibrary.ca/events/earlyon-baby-and-me-10/
LOCATION:Wasaga Beach Public Library\, 544 River Road West\, Wasaga Beach\, ON\, L9Z 2P1\, Canada
CATEGORIES:Child & Youth,Community Partners
ATTACH;FMTTYPE=image/png:https://wasagabeachpubliclibrary.ca/wp-content/uploads/2025/01/e3logo-1-4.png
END:VEVENT
BEGIN:VEVENT
DTSTART;TZID=America/Toronto:20250214T190000
DTEND;TZID=America/Toronto:20250214T200000
DTSTAMP:20260424T084125
CREATED:20250107T220807Z
LAST-MODIFIED:20250213T153819Z
UID:10003394-1739559600-1739563200@wasagabeachpubliclibrary.ca
SUMMARY:Community Planet Party
DESCRIPTION:Calling all aspiring astronomers!\n\n\n🌌 All Ages Event \nExperience the wonders of the winter sky with local astronomer Chris Vaughan in Wasaga Beach! If the weather cooperates\, Chris will set up professional telescopes for stunning close-up views of Jupiter\, Mars\, beautiful double stars\, star clusters\, and ethereal nebulae. You’ll also be guided through the bright winter constellations with captivating star stories. \nIn the case of cloudy skies\, the event will move indoors\, and Chris will use astronomy apps to explore the night sky and answer your questions about the universe. \nThis all-ages event is perfect for curious minds of any age. Dress warmly\, and feel free to bring binoculars or telescopes if you have them! \nRegistration is recommended.
URL:https://wasagabeachpubliclibrary.ca/events/community-planet-party/
LOCATION:Wasaga Beach Public Library\, 544 River Road West\, Wasaga Beach\, ON\, L9Z 2P1\, Canada
CATEGORIES:Child & Youth
ATTACH;FMTTYPE=image/jpeg:https://wasagabeachpubliclibrary.ca/wp-content/uploads/2025/01/4130939ef5b63e8ccae4df72db8fc0aa.jpg
END:VEVENT
END:VCALENDAR