BEGIN:VCALENDAR
VERSION:2.0
PRODID:-//Wasaga Beach Public Library - ECPv6.15.20//NONSGML v1.0//EN
CALSCALE:GREGORIAN
METHOD:PUBLISH
X-WR-CALNAME:Wasaga Beach Public Library
X-ORIGINAL-URL:https://wasagabeachpubliclibrary.ca
X-WR-CALDESC:Events for Wasaga Beach Public Library
REFRESH-INTERVAL;VALUE=DURATION:PT1H
X-Robots-Tag:noindex
X-PUBLISHED-TTL:PT1H
BEGIN:VTIMEZONE
TZID:America/Toronto
BEGIN:DAYLIGHT
TZOFFSETFROM:-0500
TZOFFSETTO:-0400
TZNAME:EDT
DTSTART:20240310T070000
END:DAYLIGHT
BEGIN:STANDARD
TZOFFSETFROM:-0400
TZOFFSETTO:-0500
TZNAME:EST
DTSTART:20241103T060000
END:STANDARD
BEGIN:DAYLIGHT
TZOFFSETFROM:-0500
TZOFFSETTO:-0400
TZNAME:EDT
DTSTART:20250309T070000
END:DAYLIGHT
BEGIN:STANDARD
TZOFFSETFROM:-0400
TZOFFSETTO:-0500
TZNAME:EST
DTSTART:20251102T060000
END:STANDARD
BEGIN:DAYLIGHT
TZOFFSETFROM:-0500
TZOFFSETTO:-0400
TZNAME:EDT
DTSTART:20260308T070000
END:DAYLIGHT
BEGIN:STANDARD
TZOFFSETFROM:-0400
TZOFFSETTO:-0500
TZNAME:EST
DTSTART:20261101T060000
END:STANDARD
END:VTIMEZONE
BEGIN:VEVENT
DTSTART;TZID=America/Toronto:20250226T100000
DTEND;TZID=America/Toronto:20250226T130000
DTSTAMP:20260424T084048
CREATED:20241227T201526Z
LAST-MODIFIED:20250423T193142Z
UID:10003284-1740564000-1740574800@wasagabeachpubliclibrary.ca
SUMMARY:Georgian College Academic and Career Preparation
DESCRIPTION:Georgian College delivers this program at the Wasaga Beach Public Library every Wednesday: Communications and Math \nThe program requires pre-registration through Georgian College’s ACP program. For more information\, please contact ACPSouthGeorgianBay@georgiancollege.ca or 249-882-0018
URL:https://wasagabeachpubliclibrary.ca/events/georgian-collegeacademic-and-career-preparation-2-2/2025-02-26/
LOCATION:Wasaga Beach Public Library\, 544 River Road West\, Wasaga Beach\, ON\, L9Z 2P1\, Canada
CATEGORIES:Community Partners
ATTACH;FMTTYPE=image/jpeg:https://wasagabeachpubliclibrary.ca/wp-content/uploads/2024/03/WEB-19-548_ACPHeaderImage_1700by500-1.jpg
END:VEVENT
BEGIN:VEVENT
DTSTART;TZID=America/Toronto:20250226T130000
DTEND;TZID=America/Toronto:20250226T150000
DTSTAMP:20260424T084048
CREATED:20250107T220811Z
LAST-MODIFIED:20250226T073750Z
UID:10003396-1740574800-1740582000@wasagabeachpubliclibrary.ca
SUMMARY:Home School Meet Up: Enviroscape Program
DESCRIPTION:Connect with homeschooled families.\n\n\n📅 Ages: 8–13 \nConnect with homeschool families during a fun afternoon of fun and learning. \nJoin Wasaga Beach Public Library and our special guest Katie\, from Nottawasaga Valley Conservation Authority to learn about water pollution through a hands-on and interactive water pollution model for ages 8 to 13.
URL:https://wasagabeachpubliclibrary.ca/events/home-school-meet-up-enviroscape-program/
LOCATION:Wasaga Beach Public Library\, 544 River Road West\, Wasaga Beach\, ON\, L9Z 2P1\, Canada
CATEGORIES:Child & Youth
ATTACH;FMTTYPE=image/jpeg:https://wasagabeachpubliclibrary.ca/wp-content/uploads/2025/01/e2f2a0a2d0c5571537542ffbd61131a4.jpg
END:VEVENT
BEGIN:VEVENT
DTSTART;TZID=America/Toronto:20250226T160000
DTEND;TZID=America/Toronto:20250226T180000
DTSTAMP:20260424T084048
CREATED:20250205T065312Z
LAST-MODIFIED:20250226T073735Z
UID:10003690-1740585600-1740592800@wasagabeachpubliclibrary.ca
SUMMARY:Open Access: Digital Lab
DESCRIPTION:Open Access provides access to the 3D printer and vinyl printer to patrons who have taken the prerequisite course.
URL:https://wasagabeachpubliclibrary.ca/events/open-access-digital-lab-6/
LOCATION:Wasaga Beach Public Library\, 544 River Road West\, Wasaga Beach\, ON\, L9Z 2P1\, Canada
CATEGORIES:Makerspace
ATTACH;FMTTYPE=image/jpeg:https://wasagabeachpubliclibrary.ca/wp-content/uploads/2025/01/d086438b03da688e10d8f10afcfb07b0.jpg
END:VEVENT
END:VCALENDAR