BEGIN:VCALENDAR
VERSION:2.0
PRODID:-//Wasaga Beach Public Library - ECPv6.15.20//NONSGML v1.0//EN
CALSCALE:GREGORIAN
METHOD:PUBLISH
X-WR-CALNAME:Wasaga Beach Public Library
X-ORIGINAL-URL:https://wasagabeachpubliclibrary.ca
X-WR-CALDESC:Events for Wasaga Beach Public Library
REFRESH-INTERVAL;VALUE=DURATION:PT1H
X-Robots-Tag:noindex
X-PUBLISHED-TTL:PT1H
BEGIN:VTIMEZONE
TZID:America/Toronto
BEGIN:DAYLIGHT
TZOFFSETFROM:-0500
TZOFFSETTO:-0400
TZNAME:EDT
DTSTART:20240310T070000
END:DAYLIGHT
BEGIN:STANDARD
TZOFFSETFROM:-0400
TZOFFSETTO:-0500
TZNAME:EST
DTSTART:20241103T060000
END:STANDARD
BEGIN:DAYLIGHT
TZOFFSETFROM:-0500
TZOFFSETTO:-0400
TZNAME:EDT
DTSTART:20250309T070000
END:DAYLIGHT
BEGIN:STANDARD
TZOFFSETFROM:-0400
TZOFFSETTO:-0500
TZNAME:EST
DTSTART:20251102T060000
END:STANDARD
BEGIN:DAYLIGHT
TZOFFSETFROM:-0500
TZOFFSETTO:-0400
TZNAME:EDT
DTSTART:20260308T070000
END:DAYLIGHT
BEGIN:STANDARD
TZOFFSETFROM:-0400
TZOFFSETTO:-0500
TZNAME:EST
DTSTART:20261101T060000
END:STANDARD
END:VTIMEZONE
BEGIN:VEVENT
DTSTART;TZID=America/Toronto:20250313T093000
DTEND;TZID=America/Toronto:20250313T103000
DTSTAMP:20260420T121016
CREATED:20250202T062243Z
LAST-MODIFIED:20250312T142311Z
UID:10003669-1741858200-1741861800@wasagabeachpubliclibrary.ca
SUMMARY:Zoo to You
DESCRIPTION:Come see\, learn about\, and interact with animals\, such as reptiles\, mammals and exotics. Fun for all ages!
URL:https://wasagabeachpubliclibrary.ca/events/zoo-to-you-2/
LOCATION:Wasaga Beach Public Library\, 544 River Road West\, Wasaga Beach\, ON\, L9Z 2P1\, Canada
CATEGORIES:Child & Youth
ATTACH;FMTTYPE=image/jpeg:https://wasagabeachpubliclibrary.ca/wp-content/uploads/2025/02/0492ae66d682e2ff176ad1375fd18f3f.jpg
END:VEVENT
BEGIN:VEVENT
DTSTART;TZID=America/Toronto:20250313T104500
DTEND;TZID=America/Toronto:20250313T114500
DTSTAMP:20260420T121016
CREATED:20250202T062246Z
LAST-MODIFIED:20250312T142311Z
UID:10003670-1741862700-1741866300@wasagabeachpubliclibrary.ca
SUMMARY:Zoo to You
DESCRIPTION:Come see\, learn about\, and interact with animals\, such as reptiles\, mammals and exotics. Fun for all ages!
URL:https://wasagabeachpubliclibrary.ca/events/zoo-to-you-3/
LOCATION:Wasaga Beach Public Library\, 544 River Road West\, Wasaga Beach\, ON\, L9Z 2P1\, Canada
CATEGORIES:Child & Youth
ATTACH;FMTTYPE=image/jpeg:https://wasagabeachpubliclibrary.ca/wp-content/uploads/2025/02/0492ae66d682e2ff176ad1375fd18f3f.jpg
END:VEVENT
BEGIN:VEVENT
DTSTART;TZID=America/Toronto:20250313T110000
DTEND;TZID=America/Toronto:20250313T120000
DTSTAMP:20260420T121016
CREATED:20250215T052322Z
LAST-MODIFIED:20250312T142312Z
UID:10004002-1741863600-1741867200@wasagabeachpubliclibrary.ca
SUMMARY:Tech Class: Apple iPhones and iPads
DESCRIPTION:This beginner-friendly program covers the fundamentals of using your iPhone or iPad.
URL:https://wasagabeachpubliclibrary.ca/events/tech-class-apple-iphones-and-ipads/
LOCATION:Wasaga Beach Public Library\, 544 River Road West\, Wasaga Beach\, ON\, L9Z 2P1\, Canada
ATTACH;FMTTYPE=image/jpeg:https://wasagabeachpubliclibrary.ca/wp-content/uploads/2025/02/108b616b5195dc0f5da84f0028c98686.jpg
END:VEVENT
BEGIN:VEVENT
DTSTART;TZID=America/Toronto:20250313T130000
DTEND;TZID=America/Toronto:20250313T150000
DTSTAMP:20260420T121016
CREATED:20250206T181416Z
LAST-MODIFIED:20250922T165507Z
UID:10003718-1741870800-1741878000@wasagabeachpubliclibrary.ca
SUMMARY:Regional Housing Support Services
DESCRIPTION:Regional Housing Support Services offers housing-related services to members of the community of Simcoe County. \nSupport is offered to community members at risk of homelessness\, experiencing homelessness or experiencing rental and/or utilities arrears. \nLuke Allen  Housing Access Worker\nContact: 705-739-0485
URL:https://wasagabeachpubliclibrary.ca/events/regional-housing-support-services-2-2-5/2025-03-13/
LOCATION:Wasaga Beach Public Library\, 544 River Road West\, Wasaga Beach\, ON\, L9Z 2P1\, Canada
CATEGORIES:Community Partners
ATTACH;FMTTYPE=image/jpeg:https://wasagabeachpubliclibrary.ca/wp-content/uploads/2024/03/empower-simcoe-scaled.jpg
END:VEVENT
BEGIN:VEVENT
DTSTART;TZID=America/Toronto:20250313T140000
DTEND;TZID=America/Toronto:20250313T150000
DTSTAMP:20260420T121016
CREATED:20250202T062247Z
LAST-MODIFIED:20250313T182750Z
UID:10003671-1741874400-1741878000@wasagabeachpubliclibrary.ca
SUMMARY:Magical Science with Scientist in the School
DESCRIPTION:WBPL is teaming up with Scientists in the School to deliver a fun and interactive learning experience.\n\n\n📅 Ages: 4+\n📌 Wasaga Beach Public Library card required for registration. \nDiscover the magical force of levitation as particles seemingly defy gravity. Scatter light to create mesmerizing illusions that will captivate your audience. Dive into a world of colourful teas and curious potions on this enchanting science adventure! \n🎨 All materials provided. Dress for a mess!
URL:https://wasagabeachpubliclibrary.ca/events/magical-science-with-scientist-in-the-school/
LOCATION:Wasaga Beach Public Library\, 544 River Road West\, Wasaga Beach\, ON\, L9Z 2P1\, Canada
CATEGORIES:Child & Youth
ATTACH;FMTTYPE=image/jpeg:https://wasagabeachpubliclibrary.ca/wp-content/uploads/2025/02/53c86bee151a73cb42a628cf9d46820f.jpg
END:VEVENT
BEGIN:VEVENT
DTSTART;TZID=America/Toronto:20250313T150000
DTEND;TZID=America/Toronto:20250313T190000
DTSTAMP:20260420T121016
CREATED:20250131T163015Z
LAST-MODIFIED:20250306T192032Z
UID:10004045-1741878000-1741892400@wasagabeachpubliclibrary.ca
SUMMARY:Free Tax Clinics
DESCRIPTION:Through the Community Volunteer Income Tax Program (CVITP)\, we will be hosting free tax clinics from February 27 through April 26\, 2025. Volunteers will file tax returns for individuals and couples with a modest income and a simple tax situation; see below for eligibility guidelines. \nNOTICE: Clicking the registration link below will open a form to add your name to the waiting list. A volunteer will contact you directly to schedule a date and time for your tax appointment.  \nIn order to be eligible for the CVITP\, individuals must have a modest income of $35\,000.00 for an Individual\, $ 45\,000.00 for a couple\, and a simple tax situation. \nThis may include: \n\nadults 65 years and older\nhousing-insecure individuals\nIndigenous Peoples\nmodest-income individuals\nnewcomers\npersons with disabilities\nstudents\n\nIn general\, a tax situation is simple if an individual has no income or if their income comes from these sources: \n\nemployment\npension\nbenefits\, such as the Canada Pension Plan\, Old Age Security\, disability insurance\, employment insurance\, and social assistance\nRegistered Retirement Savings Plans (RRSPs)\nscholarships\, fellowships\, bursaries\, or grants\ninterest (under $1\,000)\n\nThe CVITP does not provide training or support for complex tax situations. Volunteers will not complete returns with the following: \n\nself-employment income or employment expenses\nbusiness income and expenses\nrental income and expenses\ninterest income over $1\,000\ncapital gains or losses\nbankruptcy in the tax year (or the year before\, if that return has not yet been filed)\ndeceased person\nforeign property (T1135)\nforeign income
URL:https://wasagabeachpubliclibrary.ca/events/free-tax-clinics-2-2/2025-03-13/
LOCATION:ON
CATEGORIES:Community Partners
ATTACH;FMTTYPE=image/jpeg:https://wasagabeachpubliclibrary.ca/wp-content/uploads/2024/02/tax-clinic-scaled.jpg
END:VEVENT
BEGIN:VEVENT
DTSTART;TZID=America/Toronto:20250313T160000
DTEND;TZID=America/Toronto:20250313T170000
DTSTAMP:20260420T121016
CREATED:20250115T102324Z
LAST-MODIFIED:20250313T182552Z
UID:10003505-1741881600-1741885200@wasagabeachpubliclibrary.ca
SUMMARY:Math and Science Support: Grades 7 to 9
DESCRIPTION:Extra help for Grades 7–9 Math & Science! Join Mr. Enio for small-group sessions on homework\, concepts\, & test prep. Registration required.
URL:https://wasagabeachpubliclibrary.ca/events/math-and-science-support-grade-7-to-9-12/
LOCATION:Wasaga Beach Public Library\, 544 River Road West\, Wasaga Beach\, ON\, L9Z 2P1\, Canada
CATEGORIES:Child & Youth
ATTACH;FMTTYPE=image/jpeg:https://wasagabeachpubliclibrary.ca/wp-content/uploads/2025/01/475e7e2f755017922bdce53f08886c1f.jpg
END:VEVENT
BEGIN:VEVENT
DTSTART;TZID=America/Toronto:20250313T170000
DTEND;TZID=America/Toronto:20250313T180000
DTSTAMP:20260420T121016
CREATED:20250115T102340Z
LAST-MODIFIED:20250313T182649Z
UID:10003547-1741885200-1741888800@wasagabeachpubliclibrary.ca
SUMMARY:Math and Physics Support: Grades 10 to 12
DESCRIPTION:⚛️ Need Math or Physics help? Grades 10–12 students can join Mr. Enio for small-group homework support\, concept review\, & test prep.
URL:https://wasagabeachpubliclibrary.ca/events/math-and-physics-support-grade-10-to-12-12/
LOCATION:Wasaga Beach Public Library\, 544 River Road West\, Wasaga Beach\, ON\, L9Z 2P1\, Canada
CATEGORIES:Child & Youth
ATTACH;FMTTYPE=image/jpeg:https://wasagabeachpubliclibrary.ca/wp-content/uploads/2025/01/cf7d96c995ab7363f6575a12022ec5bb.jpg
END:VEVENT
BEGIN:VEVENT
DTSTART;TZID=America/Toronto:20250313T183000
DTEND;TZID=America/Toronto:20250313T193000
DTSTAMP:20260420T121016
CREATED:20250313T182244Z
LAST-MODIFIED:20250313T182245Z
UID:10001601-1741890600-1741894200@wasagabeachpubliclibrary.ca
SUMMARY:English Conversation Circle With Welcome Centre Immigrant Services
DESCRIPTION:English Conversational Circle for Newcomers\nImprove your English skills in a friendly setting at the English Conversational Circle for Newcomers\, hosted by Welcome Centre Immigrant Services. \n\n\nWinter Update:\nFrom January to March\, sessions will take place online via Zoom. Contact Ian for Zoom links using the information below. \n\n\nNeed help connecting?\nPatrons can visit the library to use a computer or borrow a tablet to join the sessions. \n\n\nService Coordination by Ian Cowie \n\n\nDirect Line: 289-338-5140\nToll-Free: 1-877-761-1155\nEmail: mobileunit@welcomecentre.ca
URL:https://wasagabeachpubliclibrary.ca/events/english-conversation-circle-with-welcome-centre-immigrant-services-12/
LOCATION:Wasaga Beach Public Library\, 544 River Road West\, Wasaga Beach\, ON\, L9Z 2P1\, Canada
CATEGORIES:Community Partners
ATTACH;FMTTYPE=image/jpeg:https://wasagabeachpubliclibrary.ca/wp-content/uploads/2024/05/immigrant-welome-centre-scaled.jpg
END:VEVENT
END:VCALENDAR