BEGIN:VCALENDAR
VERSION:2.0
PRODID:-//Wasaga Beach Public Library - ECPv6.15.20//NONSGML v1.0//EN
CALSCALE:GREGORIAN
METHOD:PUBLISH
X-WR-CALNAME:Wasaga Beach Public Library
X-ORIGINAL-URL:https://wasagabeachpubliclibrary.ca
X-WR-CALDESC:Events for Wasaga Beach Public Library
REFRESH-INTERVAL;VALUE=DURATION:PT1H
X-Robots-Tag:noindex
X-PUBLISHED-TTL:PT1H
BEGIN:VTIMEZONE
TZID:America/Toronto
BEGIN:DAYLIGHT
TZOFFSETFROM:-0500
TZOFFSETTO:-0400
TZNAME:EDT
DTSTART:20240310T070000
END:DAYLIGHT
BEGIN:STANDARD
TZOFFSETFROM:-0400
TZOFFSETTO:-0500
TZNAME:EST
DTSTART:20241103T060000
END:STANDARD
BEGIN:DAYLIGHT
TZOFFSETFROM:-0500
TZOFFSETTO:-0400
TZNAME:EDT
DTSTART:20250309T070000
END:DAYLIGHT
BEGIN:STANDARD
TZOFFSETFROM:-0400
TZOFFSETTO:-0500
TZNAME:EST
DTSTART:20251102T060000
END:STANDARD
BEGIN:DAYLIGHT
TZOFFSETFROM:-0500
TZOFFSETTO:-0400
TZNAME:EDT
DTSTART:20260308T070000
END:DAYLIGHT
BEGIN:STANDARD
TZOFFSETFROM:-0400
TZOFFSETTO:-0500
TZNAME:EST
DTSTART:20261101T060000
END:STANDARD
END:VTIMEZONE
BEGIN:VEVENT
DTSTART;TZID=America/Toronto:20250318T100000
DTEND;TZID=America/Toronto:20250318T104500
DTSTAMP:20260425T110044
CREATED:20241207T052048Z
LAST-MODIFIED:20250318T122246Z
UID:10002894-1742292000-1742294700@wasagabeachpubliclibrary.ca
SUMMARY:Music & Storytime
DESCRIPTION:Listen\, sing\, and play! Kids (ages 2-6) pick picture books to share\, then join Miss Lesley for music fun with percussion instruments.
URL:https://wasagabeachpubliclibrary.ca/events/music-storytime-85/
LOCATION:Wasaga Beach Public Library\, 544 River Road West\, Wasaga Beach\, ON\, L9Z 2P1\, Canada
CATEGORIES:Child & Youth
ATTACH;FMTTYPE=image/jpeg:https://wasagabeachpubliclibrary.ca/wp-content/uploads/2024/01/5ef3b0e54af8aee0a2e04c07223db1cb.jpg
END:VEVENT
BEGIN:VEVENT
DTSTART;TZID=America/Toronto:20250318T100000
DTEND;TZID=America/Toronto:20250318T120000
DTSTAMP:20260425T110044
CREATED:20250116T150727Z
LAST-MODIFIED:20250120T172140Z
UID:10003586-1742292000-1742299200@wasagabeachpubliclibrary.ca
SUMMARY:Georgian College Information & Open Onboarding
DESCRIPTION:Marg Thibideau serves as the Academic Upgrading Officer at Georgian College’s John DiPoce South Georgian Bay Campus\, where she warmly welcomes inquiries about the Academic and Career Preparation Program. This program offers an array of FREE courses\, including Core Upgrading\, Career and College Preparation\, and Employment Readiness courses. Additionally\, comprehensive support is available for individuals preparing to write their General Education Development (GED) test. \nWith classes currently offered in both Collingwood and Wasaga Beach\, learners can opt for either in-class or remote delivery. Funded by the Ministry of Labour\, Immigration\, Training and Skills Development\, this program offers free upgrading to eligible learners aged 19 or older residing in Ontario\, with some applicants aged 16 to 18 also potentially eligible. \nRegistration required. For more information\, please contact ACPSouthGeorgianBay@georgiancollege.ca or 249-882-0018.
URL:https://wasagabeachpubliclibrary.ca/events/georgian-college-information-open-onboarding-3/2025-03-18/
LOCATION:Wasaga Beach Public Library\, 544 River Road West\, Wasaga Beach\, ON\, L9Z 2P1\, Canada
CATEGORIES:Community Partners
ATTACH;FMTTYPE=image/jpeg:https://wasagabeachpubliclibrary.ca/wp-content/uploads/2024/03/WEB-19-548_ACPHeaderImage_1700by500.jpg
END:VEVENT
BEGIN:VEVENT
DTSTART;TZID=America/Toronto:20250318T110000
DTEND;TZID=America/Toronto:20250318T120000
DTSTAMP:20260425T110044
CREATED:20241107T095136Z
LAST-MODIFIED:20250318T122214Z
UID:10002769-1742295600-1742299200@wasagabeachpubliclibrary.ca
SUMMARY:Rhythm of the Beach Drum Circle
DESCRIPTION:Drumming with your hands and getting into the rhythm with the group can be therapeutic\, hypnotic or just plain fun!
URL:https://wasagabeachpubliclibrary.ca/events/rhythm-of-the-beach-drum-circle-58/
LOCATION:Wasaga Beach Public Library\, 544 River Road West\, Wasaga Beach\, ON\, L9Z 2P1\, Canada
CATEGORIES:Adult
ATTACH;FMTTYPE=image/jpeg:https://wasagabeachpubliclibrary.ca/wp-content/uploads/2024/01/8ff99475de3de8b6573bcfdfc5136eff.jpg
END:VEVENT
BEGIN:VEVENT
DTSTART;TZID=America/Toronto:20250318T110000
DTEND;TZID=America/Toronto:20250318T120000
DTSTAMP:20260425T110044
CREATED:20250211T200756Z
LAST-MODIFIED:20251127T204026Z
UID:10000569-1742295600-1742299200@wasagabeachpubliclibrary.ca
SUMMARY:Groupe De Conversation
DESCRIPTION:This program is offered in partnership with La Cle in a hybrid format: participants may continue to participate remotely by Zoom\, if preferred\, or join the group in person at the library. \nPlease be aware that this program is offered entirely in the French language as conversational practice for adults 19 years+ who already know French. This is not a beginner instructional language class and is for intermediate to advanced learners wanting to practice their conversational French. \nRegister once by email with La Cle at: formation@lacle.ca and drop in by Zoom each week or in-person to Wasaga Beach Public Library – Group Study Room. A La Cle facilitator will send weekly reminder emails and the Zoom link. Free to participate.  \nLibrary membership is required for in-person participation. \n\nCe programme est offert en partenariat avec La Clé dans un format hybride : les participants peuvent participer à distance via Zoom ou en personne à la bibliothèque.\n\nVeuillez noter que ce programme est offert entièrement en français afin que les adultes de 19 ans et plus qui connaissent déjà le français puissent pratiquer et améliorer leur communication orale français. Ce n’est pas un cours de français pour débutants et il s’adresse aux apprenants de niveau intermédiaire et avancé.\n\nInscrivez-vous simplement en écrivant un courriel à La Clé : formation@lacle.ca et participez chaque semaine via Zoom ou en personne à la bibliothèque publique de Wasaga Beach – Salle d’étude de groupe. Une formatrice de La Clé enverra des courriels de rappel hebdomadaires et le lien Zoom. La participation est gratuite. L’adhésion à la bibliothèque est requise pour la participation en personne.
URL:https://wasagabeachpubliclibrary.ca/events/group-de-coversation-3/2025-03-18/
LOCATION:ON
CATEGORIES:Community Partners
ATTACH;FMTTYPE=image/jpeg:https://wasagabeachpubliclibrary.ca/wp-content/uploads/2024/01/pexels-anna-shvets-4226140-scaled.jpg
END:VEVENT
BEGIN:VEVENT
DTSTART;TZID=America/Toronto:20250318T140000
DTEND;TZID=America/Toronto:20250318T150000
DTSTAMP:20260425T110044
CREATED:20250304T193748Z
LAST-MODIFIED:20250318T122239Z
UID:10004040-1742306400-1742310000@wasagabeachpubliclibrary.ca
SUMMARY:Seniors Sticker Design Lab: Craft Your Own Custom Creations
DESCRIPTION:Design custom stickers at WBPL’s Makerspace Digital Lab! Learn digital tools and vinyl printing in this hands-on workshop for seniors.\n\n\n📌 Ages: 55+\n💳 Wasaga Beach Public Library card required for registration. \nUnleash your creativity in this engaging\, hands-on workshop at the WBPL Makerspace Digital Lab! Learn to design and produce vibrant\, custom stickers using digital tools and our state-of-the-art vinyl printer. \n✅ No prior experience needed—just bring your imagination!\n✅ Create and take home a set of personalized stickers\n✅ Limited spaces available—register today to secure your spot \nBy the end of the session\, you’ll have the skills to continue designing and producing stickers on your own. Don’t miss this fun and interactive opportunity to explore digital creativity!
URL:https://wasagabeachpubliclibrary.ca/events/seniors-sticker-design-lab-craft-your-own-custom-creations/
LOCATION:Wasaga Beach Public Library\, 544 River Road West\, Wasaga Beach\, ON\, L9Z 2P1\, Canada
CATEGORIES:Makerspace
ATTACH;FMTTYPE=image/jpeg:https://wasagabeachpubliclibrary.ca/wp-content/uploads/2025/03/eafa883e9850c996dca7c416d7838280.jpg
END:VEVENT
BEGIN:VEVENT
DTSTART;TZID=America/Toronto:20250318T160000
DTEND;TZID=America/Toronto:20250318T170000
DTSTAMP:20260425T110044
CREATED:20250115T102324Z
LAST-MODIFIED:20250318T122228Z
UID:10003506-1742313600-1742317200@wasagabeachpubliclibrary.ca
SUMMARY:Math and Science Support: Grades 7 to 9
DESCRIPTION:Extra help for Grades 7–9 Math & Science! Join Mr. Enio for small-group sessions on homework\, concepts\, & test prep. Registration required.
URL:https://wasagabeachpubliclibrary.ca/events/math-and-science-support-grade-7-to-9-13/
LOCATION:Wasaga Beach Public Library\, 544 River Road West\, Wasaga Beach\, ON\, L9Z 2P1\, Canada
CATEGORIES:Child & Youth
ATTACH;FMTTYPE=image/jpeg:https://wasagabeachpubliclibrary.ca/wp-content/uploads/2025/01/475e7e2f755017922bdce53f08886c1f.jpg
END:VEVENT
BEGIN:VEVENT
DTSTART;TZID=America/Toronto:20250318T170000
DTEND;TZID=America/Toronto:20250318T180000
DTSTAMP:20260425T110044
CREATED:20250115T102340Z
LAST-MODIFIED:20250318T122233Z
UID:10003548-1742317200-1742320800@wasagabeachpubliclibrary.ca
SUMMARY:Math and Physics Support: Grades 10 to 12
DESCRIPTION:⚛️ Need Math or Physics help? Grades 10–12 students can join Mr. Enio for small-group homework support\, concept review\, & test prep.
URL:https://wasagabeachpubliclibrary.ca/events/math-and-physics-support-grade-10-to-12-13/
LOCATION:Wasaga Beach Public Library\, 544 River Road West\, Wasaga Beach\, ON\, L9Z 2P1\, Canada
CATEGORIES:Child & Youth
ATTACH;FMTTYPE=image/jpeg:https://wasagabeachpubliclibrary.ca/wp-content/uploads/2025/01/cf7d96c995ab7363f6575a12022ec5bb.jpg
END:VEVENT
BEGIN:VEVENT
DTSTART;TZID=America/Toronto:20250318T170000
DTEND;TZID=America/Toronto:20250318T180000
DTSTAMP:20260425T110044
CREATED:20250205T065344Z
LAST-MODIFIED:20250318T122240Z
UID:10003700-1742317200-1742320800@wasagabeachpubliclibrary.ca
SUMMARY:Creation Club: Egg Carton Bunny Portrait
DESCRIPTION:Make a portrait of a bunny!\n\n\n📅 Ages: 5-12\n📌 Wasaga Beach Public Library card required for registration. \nUsing a few recycled materials and some paint\, participants will have the opportunity to create Bunny Portraits. This is a fun way to reuse materials to celebrate Spring and Earth Day. \nAll supplies provided. Dress for a mess! \n🎨 All materials provided. Dress for a mess!
URL:https://wasagabeachpubliclibrary.ca/events/creation-club-egg-carton-bunny-portrait/
LOCATION:Wasaga Beach Public Library\, 544 River Road West\, Wasaga Beach\, ON\, L9Z 2P1\, Canada
CATEGORIES:Child & Youth
ATTACH;FMTTYPE=image/jpeg:https://wasagabeachpubliclibrary.ca/wp-content/uploads/2025/02/0b86828d172b3355a8925984cb2c70ff.jpg
END:VEVENT
END:VCALENDAR