BEGIN:VCALENDAR
VERSION:2.0
PRODID:-//Wasaga Beach Public Library - ECPv6.15.20//NONSGML v1.0//EN
CALSCALE:GREGORIAN
METHOD:PUBLISH
X-WR-CALNAME:Wasaga Beach Public Library
X-ORIGINAL-URL:https://wasagabeachpubliclibrary.ca
X-WR-CALDESC:Events for Wasaga Beach Public Library
REFRESH-INTERVAL;VALUE=DURATION:PT1H
X-Robots-Tag:noindex
X-PUBLISHED-TTL:PT1H
BEGIN:VTIMEZONE
TZID:America/Toronto
BEGIN:DAYLIGHT
TZOFFSETFROM:-0500
TZOFFSETTO:-0400
TZNAME:EDT
DTSTART:20240310T070000
END:DAYLIGHT
BEGIN:STANDARD
TZOFFSETFROM:-0400
TZOFFSETTO:-0500
TZNAME:EST
DTSTART:20241103T060000
END:STANDARD
BEGIN:DAYLIGHT
TZOFFSETFROM:-0500
TZOFFSETTO:-0400
TZNAME:EDT
DTSTART:20250309T070000
END:DAYLIGHT
BEGIN:STANDARD
TZOFFSETFROM:-0400
TZOFFSETTO:-0500
TZNAME:EST
DTSTART:20251102T060000
END:STANDARD
BEGIN:DAYLIGHT
TZOFFSETFROM:-0500
TZOFFSETTO:-0400
TZNAME:EDT
DTSTART:20260308T070000
END:DAYLIGHT
BEGIN:STANDARD
TZOFFSETFROM:-0400
TZOFFSETTO:-0500
TZNAME:EST
DTSTART:20261101T060000
END:STANDARD
END:VTIMEZONE
BEGIN:VEVENT
DTSTART;TZID=America/Toronto:20250525T140000
DTEND;TZID=America/Toronto:20250525T160000
DTSTAMP:20260420T083032
CREATED:20250324T144742Z
LAST-MODIFIED:20250324T152140Z
UID:10004069-1748181600-1748188800@wasagabeachpubliclibrary.ca
SUMMARY:Jewish Heritage Month Children's Program
DESCRIPTION:Join us for a fun-filled Children’s program celebrating Jewish Heritage Month. Storybook readings\, crafts\, and decorating edible mezuzahs to celebrate Jewish Heritage Month at the Wasaga Beach Public Library. Hosted by the Southern Georgian Bay Jewish Community. Open to children ages 3 – 12. Parents my accompany their children. All are welcome! \nTo register\, please email: shalom@sgbjc.ca
URL:https://wasagabeachpubliclibrary.ca/events/jewish-heritage-month-childrens-program/
LOCATION:Wasaga Beach Public Library\, 544 River Road West\, Wasaga Beach\, ON\, L9Z 2P1\, Canada
CATEGORIES:Community Partners
ATTACH;FMTTYPE=image/png:https://wasagabeachpubliclibrary.ca/wp-content/uploads/2025/03/SGBJC-Jewish-Heritage-Month-Kids-Program.png
END:VEVENT
END:VCALENDAR