BEGIN:VCALENDAR
VERSION:2.0
PRODID:-//Wasaga Beach Public Library - ECPv6.15.20//NONSGML v1.0//EN
CALSCALE:GREGORIAN
METHOD:PUBLISH
X-WR-CALNAME:Wasaga Beach Public Library
X-ORIGINAL-URL:https://wasagabeachpubliclibrary.ca
X-WR-CALDESC:Events for Wasaga Beach Public Library
REFRESH-INTERVAL;VALUE=DURATION:PT1H
X-Robots-Tag:noindex
X-PUBLISHED-TTL:PT1H
BEGIN:VTIMEZONE
TZID:America/Toronto
BEGIN:DAYLIGHT
TZOFFSETFROM:-0500
TZOFFSETTO:-0400
TZNAME:EDT
DTSTART:20240310T070000
END:DAYLIGHT
BEGIN:STANDARD
TZOFFSETFROM:-0400
TZOFFSETTO:-0500
TZNAME:EST
DTSTART:20241103T060000
END:STANDARD
BEGIN:DAYLIGHT
TZOFFSETFROM:-0500
TZOFFSETTO:-0400
TZNAME:EDT
DTSTART:20250309T070000
END:DAYLIGHT
BEGIN:STANDARD
TZOFFSETFROM:-0400
TZOFFSETTO:-0500
TZNAME:EST
DTSTART:20251102T060000
END:STANDARD
BEGIN:DAYLIGHT
TZOFFSETFROM:-0500
TZOFFSETTO:-0400
TZNAME:EDT
DTSTART:20260308T070000
END:DAYLIGHT
BEGIN:STANDARD
TZOFFSETFROM:-0400
TZOFFSETTO:-0500
TZNAME:EST
DTSTART:20261101T060000
END:STANDARD
END:VTIMEZONE
BEGIN:VEVENT
DTSTART;TZID=America/Toronto:20250526T100000
DTEND;TZID=America/Toronto:20250526T110000
DTSTAMP:20260422T050358
CREATED:20250411T072140Z
LAST-MODIFIED:20250526T100844Z
UID:10004120-1748253600-1748257200@wasagabeachpubliclibrary.ca
SUMMARY:Boots on the Ground: A Passion for History
DESCRIPTION:Historian Janie Cooper-Wilson shares stories from her career uncovering hidden histories across Ontario. A journey of passion and discovery.\n\n\n🎟️ Registration requires a WBPL membership card. \n📍 Adult Program \nJoin historian and genealogist Janie Cooper-Wilson for an inspiring talk that traces her journey from a curious nature-loving researcher to a trailblazing figure in Ontario’s historical landscape. With deep roots in community history and a passion for uncovering hidden stories\, Janie will share highlights from her remarkable career—including how “keeping her boots on the ground” led her to discover a treasure trove of fascinating people\, places\, and legacies. \nAbout the Speaker: \nJanie Cooper-Wilson is widely recognized as a passionate and dedicated guardian of history. Her work spans historical research\, cemetery preservation\, documentary filmmaking\, public speaking\, and community advocacy. She is highly respected across local\, Provincial\, National\, and International circles for her tireless efforts to preserve and share underrepresented histories.
URL:https://wasagabeachpubliclibrary.ca/events/boots-on-the-ground-a-passion-for-history/
LOCATION:Wasaga Beach Public Library\, 544 River Road West\, Wasaga Beach\, ON\, L9Z 2P1\, Canada
CATEGORIES:Adult
ATTACH;FMTTYPE=image/jpeg:https://wasagabeachpubliclibrary.ca/wp-content/uploads/2025/04/60bd8c5b26a1983b690f53053cbd9e43.jpg
END:VEVENT
BEGIN:VEVENT
DTSTART;TZID=America/Toronto:20250526T100000
DTEND;TZID=America/Toronto:20250526T120000
DTSTAMP:20260422T050358
CREATED:20241230T222454Z
LAST-MODIFIED:20250526T100830Z
UID:10003367-1748253600-1748260800@wasagabeachpubliclibrary.ca
SUMMARY:Genealogy Interest Group
DESCRIPTION:Join others who share your love of genealogy!
URL:https://wasagabeachpubliclibrary.ca/events/genealogy-interest-group-15/
LOCATION:Wasaga Beach Public Library\, 544 River Road West\, Wasaga Beach\, ON\, L9Z 2P1\, Canada
CATEGORIES:Adult
ATTACH;FMTTYPE=image/jpeg:https://wasagabeachpubliclibrary.ca/wp-content/uploads/2024/02/018f801511406662aa7430869da0ae67.jpg
END:VEVENT
BEGIN:VEVENT
DTSTART;TZID=America/Toronto:20250526T130000
DTEND;TZID=America/Toronto:20250526T150000
DTSTAMP:20260422T050358
CREATED:20250414T202613Z
LAST-MODIFIED:20250415T132451Z
UID:10004123-1748264400-1748271600@wasagabeachpubliclibrary.ca
SUMMARY:Getting Ready for Kindergarten
DESCRIPTION:Getting Ready for KindergartenIn partnership with EarlyON\, this three-week program helps children starting Kindergarten in September 2025 build confidence and get excited for school! \nHeld one afternoon per week\, each session is filled with engaging activities like stories\, songs\, crafts\, and games. Parents and caregivers are encouraged to join in\, ask questions\, and receive helpful information to support the transition to school. \n📅 Program Dates: May 5\, 12 & 26🕐 Please register for each session individually using the links below: \n\n\nMay 5 Registration \n\n\nMay 12 Registration \n\n\nMay 26 Registration \n\n\n📌 Requirements: \n\n\nChild must be entering Kindergarten in September 2025 \n\n\nMust have a Wasaga Beach Public Library card \n\n\nCommitment to attend all three sessions is required \n\n\nLet’s get ready for Kindergarten—together!
URL:https://wasagabeachpubliclibrary.ca/events/getting-ready-for-kindergarten/2025-05-26/
LOCATION:Wasaga Beach Public Library\, 544 River Road West\, Wasaga Beach\, ON\, L9Z 2P1\, Canada
CATEGORIES:Child & Youth,Community Partners
ATTACH;FMTTYPE=image/jpeg:https://wasagabeachpubliclibrary.ca/wp-content/uploads/2025/04/getting-ready-for-kindergarten-1.jpg
END:VEVENT
BEGIN:VEVENT
DTSTART;TZID=America/Toronto:20250526T133000
DTEND;TZID=America/Toronto:20250526T150000
DTSTAMP:20260422T050359
CREATED:20250122T115244Z
LAST-MODIFIED:20250526T100749Z
UID:10003606-1748266200-1748271600@wasagabeachpubliclibrary.ca
SUMMARY:Stitch-Talk-Walk
DESCRIPTION:Join us every Monday for a cozy knitting and crochet circle at the library! Get creative\, enjoy conversation\, and take a walk on the track.
URL:https://wasagabeachpubliclibrary.ca/events/stitch-talk-walk-61/
LOCATION:Wasaga Beach Public Library\, 544 River Road West\, Wasaga Beach\, ON\, L9Z 2P1\, Canada
CATEGORIES:Adult
ATTACH;FMTTYPE=image/jpeg:https://wasagabeachpubliclibrary.ca/wp-content/uploads/2024/02/7a403526ce149b2f0c6357b04583705e.jpg
END:VEVENT
BEGIN:VEVENT
DTSTART;TZID=America/Toronto:20250526T150000
DTEND;TZID=America/Toronto:20250526T160000
DTSTAMP:20260422T050359
CREATED:20241227T200122Z
LAST-MODIFIED:20250223T233654Z
UID:10003038-1748271600-1748275200@wasagabeachpubliclibrary.ca
SUMMARY:Home Horizon Youth Outreach
DESCRIPTION:Our Your S.A.F.E. outreach program works with additional vulnerable youth to identify safe living spaces and provides direction to assist them in regaining control of their lives. Our S.A.F.E. outreach programs serve youth aged 16-29. Since the launch of this program in July 2020\,we have served 127 youth\, with over 1085 service interactions (referrals\, goalsetting\, supplies\, workshops\, etc.)\, many in the Wasaga Beach area. \nThrough our outreach services\, we supply important items such as tents\, sleeping bags\, food\, hygiene products\, grocery gift cards\, masks & sanitizers\, jackets\, hand warmers\, clothes\, and much more. \nThe program also provides support and advocacy for mental health\, physical health (new family doctor)\, legal matters\, financial aid\, rental/tenant advocacy as well as referrals to other housing agencies. \nThe program has been an incredible success to date. It helps one of our most vulnerable populations to avoid falling through the cracks\, providing every individual who come in contact with our outreach worker the chance to feel safe and heard. We work with all marginalized youth regardless of their race\, gender\, sexual orientation\, family situations and socio-economic background. \nOur programs are designed to assist youth struggling with social inequalities with tools that will help them to cope and grow stronger to manage and address any bias they face in life.
URL:https://wasagabeachpubliclibrary.ca/events/home-horizon-youth-outreach-4/2025-05-26/
LOCATION:Wasaga Beach Public Library\, 544 River Road West\, Wasaga Beach\, ON\, L9Z 2P1\, Canada
CATEGORIES:Community Partners
ATTACH;FMTTYPE=image/jpeg:https://wasagabeachpubliclibrary.ca/wp-content/uploads/2024/06/home-horizon-scaled.jpg
ORGANIZER;CN="Home Horizon":MAILTO:jessica@homehorizon.ca
END:VEVENT
END:VCALENDAR