BEGIN:VCALENDAR
VERSION:2.0
PRODID:-//Wasaga Beach Public Library - ECPv6.15.20//NONSGML v1.0//EN
CALSCALE:GREGORIAN
METHOD:PUBLISH
X-WR-CALNAME:Wasaga Beach Public Library
X-ORIGINAL-URL:https://wasagabeachpubliclibrary.ca
X-WR-CALDESC:Events for Wasaga Beach Public Library
REFRESH-INTERVAL;VALUE=DURATION:PT1H
X-Robots-Tag:noindex
X-PUBLISHED-TTL:PT1H
BEGIN:VTIMEZONE
TZID:America/Toronto
BEGIN:DAYLIGHT
TZOFFSETFROM:-0500
TZOFFSETTO:-0400
TZNAME:EDT
DTSTART:20240310T070000
END:DAYLIGHT
BEGIN:STANDARD
TZOFFSETFROM:-0400
TZOFFSETTO:-0500
TZNAME:EST
DTSTART:20241103T060000
END:STANDARD
BEGIN:DAYLIGHT
TZOFFSETFROM:-0500
TZOFFSETTO:-0400
TZNAME:EDT
DTSTART:20250309T070000
END:DAYLIGHT
BEGIN:STANDARD
TZOFFSETFROM:-0400
TZOFFSETTO:-0500
TZNAME:EST
DTSTART:20251102T060000
END:STANDARD
BEGIN:DAYLIGHT
TZOFFSETFROM:-0500
TZOFFSETTO:-0400
TZNAME:EDT
DTSTART:20260308T070000
END:DAYLIGHT
BEGIN:STANDARD
TZOFFSETFROM:-0400
TZOFFSETTO:-0500
TZNAME:EST
DTSTART:20261101T060000
END:STANDARD
END:VTIMEZONE
BEGIN:VEVENT
DTSTART;TZID=America/Toronto:20250527T100000
DTEND;TZID=America/Toronto:20250527T104500
DTSTAMP:20260420T060725
CREATED:20241207T052050Z
LAST-MODIFIED:20250527T102131Z
UID:10002904-1748340000-1748342700@wasagabeachpubliclibrary.ca
SUMMARY:Music & Storytime
DESCRIPTION:Listen\, sing\, and play! Kids (ages 2-6) pick picture books to share\, then join Miss Lesley for music fun with percussion instruments.
URL:https://wasagabeachpubliclibrary.ca/events/music-storytime-95/
LOCATION:Wasaga Beach Public Library\, 544 River Road West\, Wasaga Beach\, ON\, L9Z 2P1\, Canada
CATEGORIES:Child & Youth
ATTACH;FMTTYPE=image/jpeg:https://wasagabeachpubliclibrary.ca/wp-content/uploads/2024/01/5ef3b0e54af8aee0a2e04c07223db1cb.jpg
END:VEVENT
BEGIN:VEVENT
DTSTART;TZID=America/Toronto:20250527T110000
DTEND;TZID=America/Toronto:20250527T120000
DTSTAMP:20260420T060725
CREATED:20241107T095138Z
LAST-MODIFIED:20250527T102215Z
UID:10002779-1748343600-1748347200@wasagabeachpubliclibrary.ca
SUMMARY:Rhythm of the Beach Drum Circle
DESCRIPTION:Drumming with your hands and getting into the rhythm with the group can be therapeutic\, hypnotic or just plain fun!
URL:https://wasagabeachpubliclibrary.ca/events/rhythm-of-the-beach-drum-circle-68/
LOCATION:Wasaga Beach Public Library\, 544 River Road West\, Wasaga Beach\, ON\, L9Z 2P1\, Canada
CATEGORIES:Adult
ATTACH;FMTTYPE=image/jpeg:https://wasagabeachpubliclibrary.ca/wp-content/uploads/2024/01/8ff99475de3de8b6573bcfdfc5136eff.jpg
END:VEVENT
BEGIN:VEVENT
DTSTART;TZID=America/Toronto:20250527T110000
DTEND;TZID=America/Toronto:20250527T120000
DTSTAMP:20260420T060725
CREATED:20250514T133603Z
LAST-MODIFIED:20250514T133603Z
UID:10000579-1748343600-1748347200@wasagabeachpubliclibrary.ca
SUMMARY:Groupe De Conversation
DESCRIPTION:Now in-person starting March 4th at WBPL! \nThis program is offered in partnership with La Cle in a hybrid format: participants may continue to participate remotely by Zoom\, if preferred\, or join the group in person at the library. \nPlease be aware that this program is offered entirely in the French language as conversational practice for adults 19 years+ who already know French. This is not a beginner instructional language class and is for intermediate to advanced learners wanting to practice their conversational French. \nRegister once by email with La Cle at coordinationafb@lacle.ca and drop in by Zoom each week or in-person to Wasaga Beach Public Library – Group Study Room. A La Cle facilitator will send weekly reminder emails and the Zoom link. Free to participate.  \nLibrary membership is required for in-person participation. \nInquire with WBPL about membership options available at 705-429-5481
URL:https://wasagabeachpubliclibrary.ca/events/group-de-coversation-3-3/
LOCATION:ON
CATEGORIES:Community Partners
ATTACH;FMTTYPE=image/jpeg:https://wasagabeachpubliclibrary.ca/wp-content/uploads/2024/01/pexels-anna-shvets-4226140-scaled.jpg
END:VEVENT
BEGIN:VEVENT
DTSTART;TZID=America/Toronto:20250527T130000
DTEND;TZID=America/Toronto:20250527T140000
DTSTAMP:20260420T060725
CREATED:20250417T032200Z
LAST-MODIFIED:20250527T102337Z
UID:10004145-1748350800-1748354400@wasagabeachpubliclibrary.ca
SUMMARY:Tech Class: Intermediate Android Devices
DESCRIPTION:Are you beyond the basics but not quite an expert when it comes to using your Android device? Then this program is perfect for you.
URL:https://wasagabeachpubliclibrary.ca/events/tech-class-intermediate-android-devices/
LOCATION:Wasaga Beach Public Library\, 544 River Road West\, Wasaga Beach\, ON\, L9Z 2P1\, Canada
CATEGORIES:Adult
ATTACH;FMTTYPE=image/jpeg:https://wasagabeachpubliclibrary.ca/wp-content/uploads/2025/02/383e54003e4cc4ee136518d31e0b7db1.jpg
END:VEVENT
BEGIN:VEVENT
DTSTART;TZID=America/Toronto:20250527T170000
DTEND;TZID=America/Toronto:20250527T180000
DTSTAMP:20260420T060725
CREATED:20250501T113637Z
LAST-MODIFIED:20250527T102338Z
UID:10004355-1748365200-1748368800@wasagabeachpubliclibrary.ca
SUMMARY:Slime Club: Fluffy Slime
DESCRIPTION:Explore the world of slime-making.\n\n\n📅 Ages: 5-12\n📌 Wasaga Beach Public Library card required for registration. \nFun monthly themes to keep young scientists mixing and measuring their way to gooey fun! Please notify us during registration if your child has any allergies. \n🎨 All materials provided. Dress for a mess!
URL:https://wasagabeachpubliclibrary.ca/events/slime-club-fluffy-slime/
LOCATION:Wasaga Beach Public Library\, 544 River Road West\, Wasaga Beach\, ON\, L9Z 2P1\, Canada
CATEGORIES:Child & Youth
ATTACH;FMTTYPE=image/jpeg:https://wasagabeachpubliclibrary.ca/wp-content/uploads/2025/05/dc7c1f15f2184780db5f23720ab20937.jpg
END:VEVENT
BEGIN:VEVENT
DTSTART;TZID=America/Toronto:20250527T170000
DTEND;TZID=America/Toronto:20250527T190000
DTSTAMP:20260420T060725
CREATED:20250521T222104Z
LAST-MODIFIED:20250527T194537Z
UID:10004363-1748365200-1748372400@wasagabeachpubliclibrary.ca
SUMMARY:High School Math\, Science and English Support
DESCRIPTION:Need extra help in Grade 9–12 Math\, Science\, or English? Join our High School Support sessions!
URL:https://wasagabeachpubliclibrary.ca/events/high-school-math-science-and-english-support/
LOCATION:Wasaga Beach Public Library\, 544 River Road West\, Wasaga Beach\, ON\, L9Z 2P1\, Canada
CATEGORIES:Child & Youth
ATTACH;FMTTYPE=image/jpeg:https://wasagabeachpubliclibrary.ca/wp-content/uploads/2025/05/283eb28b8d2aabf32a8f29d3f25999dd.jpg
END:VEVENT
BEGIN:VEVENT
DTSTART;TZID=America/Toronto:20250527T180000
DTEND;TZID=America/Toronto:20250527T210000
DTSTAMP:20260420T060725
CREATED:20241227T213628Z
LAST-MODIFIED:20250527T102103Z
UID:10003345-1748368800-1748379600@wasagabeachpubliclibrary.ca
SUMMARY:Wasaga Writers Club
DESCRIPTION:Experienced and amateur writers are welcome to join meetings to share writing\, seek critiques and enjoy the creative process.
URL:https://wasagabeachpubliclibrary.ca/events/wasaga-writers-club-10/
LOCATION:Wasaga Beach Public Library\, 544 River Road West\, Wasaga Beach\, ON\, L9Z 2P1\, Canada
CATEGORIES:Adult
ATTACH;FMTTYPE=image/jpeg:https://wasagabeachpubliclibrary.ca/wp-content/uploads/2024/11/933ead4be812ad5e0c2a5f70678e439f.jpg
END:VEVENT
END:VCALENDAR