BEGIN:VCALENDAR
VERSION:2.0
PRODID:-//Wasaga Beach Public Library - ECPv6.15.20//NONSGML v1.0//EN
CALSCALE:GREGORIAN
METHOD:PUBLISH
X-WR-CALNAME:Wasaga Beach Public Library
X-ORIGINAL-URL:https://wasagabeachpubliclibrary.ca
X-WR-CALDESC:Events for Wasaga Beach Public Library
REFRESH-INTERVAL;VALUE=DURATION:PT1H
X-Robots-Tag:noindex
X-PUBLISHED-TTL:PT1H
BEGIN:VTIMEZONE
TZID:America/Toronto
BEGIN:DAYLIGHT
TZOFFSETFROM:-0500
TZOFFSETTO:-0400
TZNAME:EDT
DTSTART:20240310T070000
END:DAYLIGHT
BEGIN:STANDARD
TZOFFSETFROM:-0400
TZOFFSETTO:-0500
TZNAME:EST
DTSTART:20241103T060000
END:STANDARD
BEGIN:DAYLIGHT
TZOFFSETFROM:-0500
TZOFFSETTO:-0400
TZNAME:EDT
DTSTART:20250309T070000
END:DAYLIGHT
BEGIN:STANDARD
TZOFFSETFROM:-0400
TZOFFSETTO:-0500
TZNAME:EST
DTSTART:20251102T060000
END:STANDARD
BEGIN:DAYLIGHT
TZOFFSETFROM:-0500
TZOFFSETTO:-0400
TZNAME:EDT
DTSTART:20260308T070000
END:DAYLIGHT
BEGIN:STANDARD
TZOFFSETFROM:-0400
TZOFFSETTO:-0500
TZNAME:EST
DTSTART:20261101T060000
END:STANDARD
END:VTIMEZONE
BEGIN:VEVENT
DTSTART;TZID=America/Toronto:20250606T130000
DTEND;TZID=America/Toronto:20250606T150000
DTSTAMP:20260423T055545
CREATED:20250416T032141Z
LAST-MODIFIED:20250606T123907Z
UID:10004135-1749214800-1749222000@wasagabeachpubliclibrary.ca
SUMMARY:PA Day: In the Making Art Workshop
DESCRIPTION:Join special guests from the MacLaren Art Centre for a PA Day afternoon of creativity and hands-on learning.\n\n\n📅 Ages: 5-10\n📌 Wasaga Beach Public Library card required for registration. \nIn the Making Workshops\, presented by the MacLaren Art Centre\, are inspired by Canadian petroglyphs—some of the earliest forms of visual storytelling. \nIn this engaging PA Day program\, MacLaren artists will explore how art has long been used to share stories and reflect community identity. Children will learn about Canadian petroglyphs and their significance\, then get hands-on by creating their own two-dimensional drawings and expressive clay vessels\, complete with carved patterns. \n🎨 Dress for a mess—art supplies are included!\n📌 Registration required \nPlease note:\nParents/guardians are asked to remain on the premises. While seats are limited in the program room\, there will be seating available nearby.
URL:https://wasagabeachpubliclibrary.ca/events/pa-day-in-the-making-art-workshop/
LOCATION:Wasaga Beach Public Library\, 544 River Road West\, Wasaga Beach\, ON\, L9Z 2P1\, Canada
CATEGORIES:Adult
ATTACH;FMTTYPE=image/jpeg:https://wasagabeachpubliclibrary.ca/wp-content/uploads/2025/04/d6fd5101494bab2954b8ebfd4e266912.jpg
END:VEVENT
BEGIN:VEVENT
DTSTART;TZID=America/Toronto:20250606T140000
DTEND;TZID=America/Toronto:20250606T153000
DTSTAMP:20260423T055545
CREATED:20250326T100648Z
LAST-MODIFIED:20250606T123607Z
UID:10004075-1749218400-1749223800@wasagabeachpubliclibrary.ca
SUMMARY:Friday Afternoon Book Club
DESCRIPTION:Join the fun! Friday Afternoon Book Club usually meets on the 1st & 3rd Fridays of each month. This group is fragrance-free.
URL:https://wasagabeachpubliclibrary.ca/events/friday-afternoon-book-club-55/
LOCATION:Wasaga Beach Public Library\, 544 River Road West\, Wasaga Beach\, ON\, L9Z 2P1\, Canada
CATEGORIES:Adult
ATTACH;FMTTYPE=image/jpeg:https://wasagabeachpubliclibrary.ca/wp-content/uploads/2024/01/34db741846911495712a19821f5b3af0-1.jpg
END:VEVENT
END:VCALENDAR