BEGIN:VCALENDAR
VERSION:2.0
PRODID:-//Wasaga Beach Public Library - ECPv6.15.20//NONSGML v1.0//EN
CALSCALE:GREGORIAN
METHOD:PUBLISH
X-ORIGINAL-URL:https://wasagabeachpubliclibrary.ca
X-WR-CALDESC:Events for Wasaga Beach Public Library
REFRESH-INTERVAL;VALUE=DURATION:PT1H
X-Robots-Tag:noindex
X-PUBLISHED-TTL:PT1H
BEGIN:VTIMEZONE
TZID:America/Toronto
BEGIN:DAYLIGHT
TZOFFSETFROM:-0500
TZOFFSETTO:-0400
TZNAME:EDT
DTSTART:20240310T070000
END:DAYLIGHT
BEGIN:STANDARD
TZOFFSETFROM:-0400
TZOFFSETTO:-0500
TZNAME:EST
DTSTART:20241103T060000
END:STANDARD
BEGIN:DAYLIGHT
TZOFFSETFROM:-0500
TZOFFSETTO:-0400
TZNAME:EDT
DTSTART:20250309T070000
END:DAYLIGHT
BEGIN:STANDARD
TZOFFSETFROM:-0400
TZOFFSETTO:-0500
TZNAME:EST
DTSTART:20251102T060000
END:STANDARD
BEGIN:DAYLIGHT
TZOFFSETFROM:-0500
TZOFFSETTO:-0400
TZNAME:EDT
DTSTART:20260308T070000
END:DAYLIGHT
BEGIN:STANDARD
TZOFFSETFROM:-0400
TZOFFSETTO:-0500
TZNAME:EST
DTSTART:20261101T060000
END:STANDARD
END:VTIMEZONE
BEGIN:VEVENT
DTSTART;TZID=America/Toronto:20250707T100000
DTEND;TZID=America/Toronto:20250707T113000
DTSTAMP:20260423T091130
CREATED:20250605T035117Z
LAST-MODIFIED:20250707T150626Z
UID:10004381-1751882400-1751887800@wasagabeachpubliclibrary.ca
SUMMARY:Microplastics Investigation Workshop
DESCRIPTION:Discover the impact of microplastics on the ecosystem and human health.\n\n\n📅 Ages: 8-13📌 Wasaga Beach Public Library card required for registration. \nPresented in partnership with Georgian Bay Forever and the Nottawasaga Valley Conservation Authority \nDive into the science of sustainability! This interactive workshop invites children to explore the impact of microplastics on our environment and discover how small changes can lead to big solutions. \nParticipants will use hands-on scientific techniques and real equipment to gather samples\, record data\, and investigate their findings. Through teamwork and creative problem-solving\, kids will develop a deeper understanding of environmental issues and how they can make a difference. \nPlease Note:Participants must arrive on time. Late arrivals may forfeit their spot to a waitlisted participant.
URL:https://wasagabeachpubliclibrary.ca/events/microplastics-investigation-workshop/
LOCATION:Wasaga Beach Public Library\, 544 River Road West\, Wasaga Beach\, ON\, L9Z 2P1\, Canada
CATEGORIES:Child & Youth
ATTACH;FMTTYPE=image/jpeg:https://wasagabeachpubliclibrary.ca/wp-content/uploads/2025/06/969678d569916ba177fbcd186a695e72.jpg
END:VEVENT
BEGIN:VEVENT
DTSTART;TZID=America/Toronto:20250707T103000
DTEND;TZID=America/Toronto:20250707T113000
DTSTAMP:20260423T091130
CREATED:20250331T194414Z
LAST-MODIFIED:20250627T184101Z
UID:10004611-1751884200-1751887800@wasagabeachpubliclibrary.ca
SUMMARY:EarlyON Little Artists - Metis Art
DESCRIPTION:We are excited to welcome Angelia as she joins us today to explores Metis Art and build community together. Angelia is from Simcoe North and is our the EarlyON Indigenous Coordinator through Simcoe North. \nPlease dress for a mess! \n2 years and up. \nPre-screening is also required for each member visiting our program. \nPre-registration is recommended for EarlyON programming as space is limited. \nSign up for your account here: https://www.missioninc.com/cso/simcoe/en-ca/sign-in
URL:https://wasagabeachpubliclibrary.ca/events/earlyon-little-artists-metis-art/2025-07-07/
LOCATION:Wasaga Beach Public Library | Remax Room South\, 544 River Road West\, Wasaga Beach\, Ontario\, L9Z 2X2\, Canada
CATEGORIES:Child & Youth,Community Partners
ORGANIZER;CN="EarlyON":MAILTO:jmoore@e3.ca
END:VEVENT
BEGIN:VEVENT
DTSTART;TZID=America/Toronto:20250707T133000
DTEND;TZID=America/Toronto:20250707T150000
DTSTAMP:20260423T091130
CREATED:20250122T115246Z
LAST-MODIFIED:20250707T150625Z
UID:10003612-1751895000-1751900400@wasagabeachpubliclibrary.ca
SUMMARY:Stitch-Talk-Walk
DESCRIPTION:Join us every Monday for a cozy knitting and crochet circle at the library! Get creative\, enjoy conversation\, and take a walk on the track.
URL:https://wasagabeachpubliclibrary.ca/events/stitch-talk-walk-67/
LOCATION:Wasaga Beach Public Library\, 544 River Road West\, Wasaga Beach\, ON\, L9Z 2P1\, Canada
CATEGORIES:Adult
ATTACH;FMTTYPE=image/jpeg:https://wasagabeachpubliclibrary.ca/wp-content/uploads/2024/02/7a403526ce149b2f0c6357b04583705e.jpg
END:VEVENT
BEGIN:VEVENT
DTSTART;TZID=America/Toronto:20250707T150000
DTEND;TZID=America/Toronto:20250707T160000
DTSTAMP:20260423T091130
CREATED:20241227T200122Z
LAST-MODIFIED:20250223T233654Z
UID:10003044-1751900400-1751904000@wasagabeachpubliclibrary.ca
SUMMARY:Home Horizon Youth Outreach
DESCRIPTION:Our Your S.A.F.E. outreach program works with additional vulnerable youth to identify safe living spaces and provides direction to assist them in regaining control of their lives. Our S.A.F.E. outreach programs serve youth aged 16-29. Since the launch of this program in July 2020\,we have served 127 youth\, with over 1085 service interactions (referrals\, goalsetting\, supplies\, workshops\, etc.)\, many in the Wasaga Beach area. \nThrough our outreach services\, we supply important items such as tents\, sleeping bags\, food\, hygiene products\, grocery gift cards\, masks & sanitizers\, jackets\, hand warmers\, clothes\, and much more. \nThe program also provides support and advocacy for mental health\, physical health (new family doctor)\, legal matters\, financial aid\, rental/tenant advocacy as well as referrals to other housing agencies. \nThe program has been an incredible success to date. It helps one of our most vulnerable populations to avoid falling through the cracks\, providing every individual who come in contact with our outreach worker the chance to feel safe and heard. We work with all marginalized youth regardless of their race\, gender\, sexual orientation\, family situations and socio-economic background. \nOur programs are designed to assist youth struggling with social inequalities with tools that will help them to cope and grow stronger to manage and address any bias they face in life.
URL:https://wasagabeachpubliclibrary.ca/events/home-horizon-youth-outreach-4/2025-07-07/
LOCATION:Wasaga Beach Public Library\, 544 River Road West\, Wasaga Beach\, ON\, L9Z 2P1\, Canada
CATEGORIES:Community Partners
ATTACH;FMTTYPE=image/jpeg:https://wasagabeachpubliclibrary.ca/wp-content/uploads/2024/06/home-horizon-scaled.jpg
ORGANIZER;CN="Home Horizon":MAILTO:jessica@homehorizon.ca
END:VEVENT
END:VCALENDAR