BEGIN:VCALENDAR
VERSION:2.0
PRODID:-//Wasaga Beach Public Library - ECPv6.15.20//NONSGML v1.0//EN
CALSCALE:GREGORIAN
METHOD:PUBLISH
X-ORIGINAL-URL:https://wasagabeachpubliclibrary.ca
X-WR-CALDESC:Events for Wasaga Beach Public Library
REFRESH-INTERVAL;VALUE=DURATION:PT1H
X-Robots-Tag:noindex
X-PUBLISHED-TTL:PT1H
BEGIN:VTIMEZONE
TZID:America/Toronto
BEGIN:DAYLIGHT
TZOFFSETFROM:-0500
TZOFFSETTO:-0400
TZNAME:EDT
DTSTART:20240310T070000
END:DAYLIGHT
BEGIN:STANDARD
TZOFFSETFROM:-0400
TZOFFSETTO:-0500
TZNAME:EST
DTSTART:20241103T060000
END:STANDARD
BEGIN:DAYLIGHT
TZOFFSETFROM:-0500
TZOFFSETTO:-0400
TZNAME:EDT
DTSTART:20250309T070000
END:DAYLIGHT
BEGIN:STANDARD
TZOFFSETFROM:-0400
TZOFFSETTO:-0500
TZNAME:EST
DTSTART:20251102T060000
END:STANDARD
BEGIN:DAYLIGHT
TZOFFSETFROM:-0500
TZOFFSETTO:-0400
TZNAME:EDT
DTSTART:20260308T070000
END:DAYLIGHT
BEGIN:STANDARD
TZOFFSETFROM:-0400
TZOFFSETTO:-0500
TZNAME:EST
DTSTART:20261101T060000
END:STANDARD
END:VTIMEZONE
BEGIN:VEVENT
DTSTART;TZID=America/Toronto:20251109T103000
DTEND;TZID=America/Toronto:20251109T120000
DTSTAMP:20260421T075533
CREATED:20251031T152220Z
LAST-MODIFIED:20251109T060559Z
UID:10005863-1762684200-1762689600@wasagabeachpubliclibrary.ca
SUMMARY:Wasaga Mosaic Mural Tile Painting: Adults
DESCRIPTION:Help contribute to a collaborative community art project!
URL:https://wasagabeachpubliclibrary.ca/events/wasaga-mosaic-mural-tile-painting-adults-7/
LOCATION:Wasaga Beach Public Library\, 544 River Road West\, Wasaga Beach\, ON\, L9Z 2P1\, Canada
CATEGORIES:Adult
ATTACH;FMTTYPE=image/jpeg:https://wasagabeachpubliclibrary.ca/wp-content/uploads/2025/02/214a101d414acee86fa5ebe62bd244d5.jpg
END:VEVENT
BEGIN:VEVENT
DTSTART;TZID=America/Toronto:20251109T140000
DTEND;TZID=America/Toronto:20251109T160000
DTSTAMP:20260421T075533
CREATED:20251030T150725Z
LAST-MODIFIED:20251109T173602Z
UID:10005862-1762696800-1762704000@wasagabeachpubliclibrary.ca
SUMMARY:Genealogy 101
DESCRIPTION:Join this 2-session beginner genealogy workshop (Nov 9 & 23). Learn how to research\, organize & record your roots.\n\n\n📅 Ages: Adults \nBegin Your Family History Journey: Intro to Genealogy (2-Part Workshop)Sundays\, November 9 & 23Participants must attend both sessions \nCurious about your family’s past but not sure where to begin? Join us for this two-session introductory workshop designed to help you start exploring your family history with confidence. \nOver the course of two sessions\, you will learn how to:• Get started with genealogy and build a research foundation• Find reliable records and resources—both online and in person• Use key family history and genealogy websites• Organize\, track\, and record your findings effectively \nThis beginner-friendly workshop is perfect for anyone looking to “dip their toes” into genealogy before diving deeper. Those who wish to continue their learning afterward will be invited to join the monthly Genealogy Interest Group at WBPL. \nPlease Bring:• Pencil\, eraser\, and notebook• Optional: a laptop\, tablet\, iPad\, or smartphone for online searching \nImportant Notes:• You must be able to attend both Sundays: November 9 & 23• WBPL membership is required to register \nStart uncovering your family story—one branch at a time!
URL:https://wasagabeachpubliclibrary.ca/events/genealogy-101-4/
LOCATION:Wasaga Beach Public Library\, 544 River Road West\, Wasaga Beach\, ON\, L9Z 2P1\, Canada
CATEGORIES:Adult
ATTACH;FMTTYPE=image/jpeg:https://wasagabeachpubliclibrary.ca/wp-content/uploads/2025/11/e27e203512ee8116f8d1cd8e1b3174e5.jpg
END:VEVENT
END:VCALENDAR