BEGIN:VCALENDAR
VERSION:2.0
PRODID:-//Wasaga Beach Public Library - ECPv6.15.20//NONSGML v1.0//EN
CALSCALE:GREGORIAN
METHOD:PUBLISH
X-ORIGINAL-URL:https://wasagabeachpubliclibrary.ca
X-WR-CALDESC:Events for Wasaga Beach Public Library
REFRESH-INTERVAL;VALUE=DURATION:PT1H
X-Robots-Tag:noindex
X-PUBLISHED-TTL:PT1H
BEGIN:VTIMEZONE
TZID:America/Toronto
BEGIN:DAYLIGHT
TZOFFSETFROM:-0500
TZOFFSETTO:-0400
TZNAME:EDT
DTSTART:20250309T070000
END:DAYLIGHT
BEGIN:STANDARD
TZOFFSETFROM:-0400
TZOFFSETTO:-0500
TZNAME:EST
DTSTART:20251102T060000
END:STANDARD
BEGIN:DAYLIGHT
TZOFFSETFROM:-0500
TZOFFSETTO:-0400
TZNAME:EDT
DTSTART:20260308T070000
END:DAYLIGHT
BEGIN:STANDARD
TZOFFSETFROM:-0400
TZOFFSETTO:-0500
TZNAME:EST
DTSTART:20261101T060000
END:STANDARD
BEGIN:DAYLIGHT
TZOFFSETFROM:-0500
TZOFFSETTO:-0400
TZNAME:EDT
DTSTART:20270314T070000
END:DAYLIGHT
BEGIN:STANDARD
TZOFFSETFROM:-0400
TZOFFSETTO:-0500
TZNAME:EST
DTSTART:20271107T060000
END:STANDARD
END:VTIMEZONE
BEGIN:VEVENT
DTSTART;TZID=America/Toronto:20260213T100000
DTEND;TZID=America/Toronto:20260213T200000
DTSTAMP:20260420T125010
CREATED:20260110T185325Z
LAST-MODIFIED:20260213T043435Z
UID:10006419-1770976800-1771012800@wasagabeachpubliclibrary.ca
SUMMARY:Drop In Family Fun Weekend
DESCRIPTION:Giant Blue Blocks\, Crafts and more!
URL:https://wasagabeachpubliclibrary.ca/events/drop-in-family-fun-weekend/
LOCATION:Wasaga Beach Public Library\, 544 River Road West\, Wasaga Beach\, ON\, L9Z 2P1\, Canada
CATEGORIES:Child & Youth
ATTACH;FMTTYPE=image/webp:https://wasagabeachpubliclibrary.ca/wp-content/uploads/2026/01/2b7c0af4e3d170505f83fe99271e5892.webp
END:VEVENT
BEGIN:VEVENT
DTSTART;TZID=America/Toronto:20260213T103000
DTEND;TZID=America/Toronto:20260213T120000
DTSTAMP:20260420T125010
CREATED:20260119T015903Z
LAST-MODIFIED:20260213T043435Z
UID:10006543-1770978600-1770984000@wasagabeachpubliclibrary.ca
SUMMARY:Intergenerational Valentine's Day Celebration
DESCRIPTION:Friendships Across the Generations: An Intergenerational Valentine’s Celebration at Gardens of Wasaga Beach.\n\n\nJoin Wasaga Beach Public Library at Gardens of Wasaga Beach Retirement Home for a special intergenerational program\, where children\, families and seniors come together to share meaningful connections through fun Valentine-themed activities. \nJoin us for a heartwarming morning of friendship at the Gardens of Wasaga Beach Retirement Home!  Enjoy a delightful Storytime\, fun crafts\, and tasty refreshments. Dress to impress in your favourite Valentine’s outfit and show off your festive spirit by wearing red or pink!
URL:https://wasagabeachpubliclibrary.ca/events/intergenerational-valentines-day-celebration/
LOCATION:Gardens Of Wasaga Beach Retirement Home\, 705 River Road West\, Wasaga Beach\, ON\, L9Z 0R6\, Canada
CATEGORIES:Child & Youth
ATTACH;FMTTYPE=image/jpeg:https://wasagabeachpubliclibrary.ca/wp-content/uploads/2026/01/7762c25d5dccd0de0b533bd11e4e60c9.jpg
END:VEVENT
END:VCALENDAR