BEGIN:VCALENDAR
VERSION:2.0
PRODID:-//Wasaga Beach Public Library - ECPv6.15.20//NONSGML v1.0//EN
CALSCALE:GREGORIAN
METHOD:PUBLISH
X-WR-CALNAME:Wasaga Beach Public Library
X-ORIGINAL-URL:https://wasagabeachpubliclibrary.ca
X-WR-CALDESC:Events for Wasaga Beach Public Library
REFRESH-INTERVAL;VALUE=DURATION:PT1H
X-Robots-Tag:noindex
X-PUBLISHED-TTL:PT1H
BEGIN:VTIMEZONE
TZID:America/Toronto
BEGIN:DAYLIGHT
TZOFFSETFROM:-0500
TZOFFSETTO:-0400
TZNAME:EDT
DTSTART:20250309T070000
END:DAYLIGHT
BEGIN:STANDARD
TZOFFSETFROM:-0400
TZOFFSETTO:-0500
TZNAME:EST
DTSTART:20251102T060000
END:STANDARD
BEGIN:DAYLIGHT
TZOFFSETFROM:-0500
TZOFFSETTO:-0400
TZNAME:EDT
DTSTART:20260308T070000
END:DAYLIGHT
BEGIN:STANDARD
TZOFFSETFROM:-0400
TZOFFSETTO:-0500
TZNAME:EST
DTSTART:20261101T060000
END:STANDARD
BEGIN:DAYLIGHT
TZOFFSETFROM:-0500
TZOFFSETTO:-0400
TZNAME:EDT
DTSTART:20270314T070000
END:DAYLIGHT
BEGIN:STANDARD
TZOFFSETFROM:-0400
TZOFFSETTO:-0500
TZNAME:EST
DTSTART:20271107T060000
END:STANDARD
END:VTIMEZONE
BEGIN:VEVENT
DTSTART;TZID=America/Toronto:20260427T103000
DTEND;TZID=America/Toronto:20260427T113000
DTSTAMP:20260420T150142
CREATED:20251203T161329Z
LAST-MODIFIED:20260107T153411Z
UID:10006151-1777285800-1777289400@wasagabeachpubliclibrary.ca
SUMMARY:Little Artists
DESCRIPTION:Ages: 2–6 years! Discover a world of art and sensory play! \nEach week\, you and your child can explore new materials and creative activities designed to spark imagination and fun. Please dress for a mess—creativity can get a little messy! \nRegistration Link:\nhttps://www.missioninc.com/cso/simcoe/en-ca/earlyon/calendar?ho_id_num=182&prov_id_num=149 \n 
URL:https://wasagabeachpubliclibrary.ca/events/little-artists-3/2026-04-27/
LOCATION:Wasaga Beach Public Library\, 544 River Road West\, Wasaga Beach\, ON\, L9Z 2P1\, Canada
CATEGORIES:Child & Youth,Community Partners
ORGANIZER;CN="EarlyON":MAILTO:jmoore@e3.ca
END:VEVENT
BEGIN:VEVENT
DTSTART;TZID=America/Toronto:20260427T133000
DTEND;TZID=America/Toronto:20260427T143000
DTSTAMP:20260420T150142
CREATED:20251203T153814Z
LAST-MODIFIED:20260107T153510Z
UID:10006108-1777296600-1777300200@wasagabeachpubliclibrary.ca
SUMMARY:Baby and Me
DESCRIPTION:Come play\, sing\, and connect with other families! \nJoin us Mondays from 1:30 PM – 2:30 PM for a fun and engaging session for babies 0–12 months and their caregivers. \nPre-register at www.e3.ca
URL:https://wasagabeachpubliclibrary.ca/events/baby-and-me-8/2026-04-27/
LOCATION:Wasaga Beach Public Library\, 544 River Road West\, Wasaga Beach\, ON\, L9Z 2P1\, Canada
CATEGORIES:Child & Youth,Community Partners
ORGANIZER;CN="EarlyON":MAILTO:jmoore@e3.ca
END:VEVENT
BEGIN:VEVENT
DTSTART;TZID=America/Toronto:20260427T133000
DTEND;TZID=America/Toronto:20260427T150000
DTSTAMP:20260420T150142
CREATED:20251217T012320Z
LAST-MODIFIED:20260420T062332Z
UID:10006302-1777296600-1777302000@wasagabeachpubliclibrary.ca
SUMMARY:Stitch & Talk
DESCRIPTION:Enjoy a cozy mix of creativity and conversation.
URL:https://wasagabeachpubliclibrary.ca/events/stitch-talk-15/
LOCATION:Wasaga Beach Public Library\, 544 River Road West\, Wasaga Beach\, ON\, L9Z 2P1\, Canada
CATEGORIES:Adult
ATTACH;FMTTYPE=image/jpeg:https://wasagabeachpubliclibrary.ca/wp-content/uploads/2024/02/7a403526ce149b2f0c6357b04583705e.jpg
END:VEVENT
BEGIN:VEVENT
DTSTART;TZID=America/Toronto:20260427T170000
DTEND;TZID=America/Toronto:20260427T180000
DTSTAMP:20260420T150142
CREATED:20260304T153531Z
LAST-MODIFIED:20260420T062307Z
UID:10006700-1777309200-1777312800@wasagabeachpubliclibrary.ca
SUMMARY:Creation Club: Make a Fridge Magnet!
DESCRIPTION:Unleash Your Creativity at Creation Club!\n\n\n📌 Ages: Grades 3 to 8.💳 Wasaga Beach Public Library card required for registration. \nKickstart your imagination with a new craft project every month! \nCreation Club is designed for youth in grades 3 to 8 who are ready to dive into fun\, hands-on challenges that spark creativity and build confidence. Discover your inner maker\, connect with friends\, and enjoy the thrill of creating something new. \nAll materials are provided—just bring your curiosity and enthusiasm!
URL:https://wasagabeachpubliclibrary.ca/events/creation-club-make-a-fridge-magnet/
LOCATION:Wasaga Beach Public Library\, 544 River Road West\, Wasaga Beach\, ON\, L9Z 2P1\, Canada
CATEGORIES:Child & Youth
ATTACH;FMTTYPE=image/jpeg:https://wasagabeachpubliclibrary.ca/wp-content/uploads/2026/03/92fa863fec1e8ccb460c6bdcfc05554a.jpg
END:VEVENT
END:VCALENDAR