BEGIN:VCALENDAR
VERSION:2.0
PRODID:-//Wasaga Beach Public Library - ECPv6.15.20//NONSGML v1.0//EN
CALSCALE:GREGORIAN
METHOD:PUBLISH
X-WR-CALNAME:Wasaga Beach Public Library
X-ORIGINAL-URL:https://wasagabeachpubliclibrary.ca
X-WR-CALDESC:Events for Wasaga Beach Public Library
REFRESH-INTERVAL;VALUE=DURATION:PT1H
X-Robots-Tag:noindex
X-PUBLISHED-TTL:PT1H
BEGIN:VTIMEZONE
TZID:America/Toronto
BEGIN:DAYLIGHT
TZOFFSETFROM:-0500
TZOFFSETTO:-0400
TZNAME:EDT
DTSTART:20250309T070000
END:DAYLIGHT
BEGIN:STANDARD
TZOFFSETFROM:-0400
TZOFFSETTO:-0500
TZNAME:EST
DTSTART:20251102T060000
END:STANDARD
BEGIN:DAYLIGHT
TZOFFSETFROM:-0500
TZOFFSETTO:-0400
TZNAME:EDT
DTSTART:20260308T070000
END:DAYLIGHT
BEGIN:STANDARD
TZOFFSETFROM:-0400
TZOFFSETTO:-0500
TZNAME:EST
DTSTART:20261101T060000
END:STANDARD
BEGIN:DAYLIGHT
TZOFFSETFROM:-0500
TZOFFSETTO:-0400
TZNAME:EDT
DTSTART:20270314T070000
END:DAYLIGHT
BEGIN:STANDARD
TZOFFSETFROM:-0400
TZOFFSETTO:-0500
TZNAME:EST
DTSTART:20271107T060000
END:STANDARD
END:VTIMEZONE
BEGIN:VEVENT
DTSTART;TZID=America/Toronto:20260501T100000
DTEND;TZID=America/Toronto:20260501T113000
DTSTAMP:20260420T134113
CREATED:20260123T165932Z
LAST-MODIFIED:20260420T062307Z
UID:10006548-1777629600-1777635000@wasagabeachpubliclibrary.ca
SUMMARY:Getting Ready For Kindergarten
DESCRIPTION:Registration includes all 4 sessions: May 1st\, 15th\, 22nd and 29th Get support as you prepare for the transition to school!\n\n\n📅 Ages: Children starting school in September 2026📌 Wasaga Beach Public Library card required for registration. \nIn partnership with EarlyON\, the Getting Ready for Kindergarten program is a four-week series designed to help children entering Kindergarten in September 2026 prepare for the big transition. \nThe program meets once a week and is filled with engaging\, age-appropriate activities. \nEach session includes stories\, songs\, crafts\, games\, and guided learning experiences. Children will become familiar with classroom routines\, expectations\, and schedules\, while practicing key skills such as listening\, taking turns\, and raising their hands. The program also supports independence\, social development\, and early friendship-building\, with a focus on kindness\, empathy\, and sharing. \nThrough play-based activities\, children will build confidence and essential skills to help them feel comfortable and ready for the classroom. \nChildren who successfully complete the program will receive a special certificate of completion. \n📅 Dates: Fridays\, May 1st\, 15th \, 22nd and 29th🕐 Time: 1 0:00– 11:30 AM📍 Location: Wasaga Beach Public Library \nCommitment to all four sessions is required.Registration required. Spaces are limited.
URL:https://wasagabeachpubliclibrary.ca/events/getting-ready-for-kindergarten-3/
LOCATION:Wasaga Beach Public Library\, 544 River Road West\, Wasaga Beach\, ON\, L9Z 2P1\, Canada
CATEGORIES:Child & Youth
ATTACH;FMTTYPE=image/jpeg:https://wasagabeachpubliclibrary.ca/wp-content/uploads/2025/04/ef6d20780de8ac2796cb06213b9acc57.jpg
END:VEVENT
BEGIN:VEVENT
DTSTART;TZID=America/Toronto:20260501T180000
DTEND;TZID=America/Toronto:20260501T194500
DTSTAMP:20260420T134113
CREATED:20260323T160926Z
LAST-MODIFIED:20260420T062350Z
UID:10006742-1777658400-1777664700@wasagabeachpubliclibrary.ca
SUMMARY:Drop In Board Games & Cards for Adults
DESCRIPTION:Love board games and cards?  Drop in for a casual Friday night out just for adults.
URL:https://wasagabeachpubliclibrary.ca/events/drop-in-board-games-cards-for-adults-4/
LOCATION:Wasaga Beach Public Library\, 544 River Road West\, Wasaga Beach\, ON\, L9Z 2P1\, Canada
CATEGORIES:Adult
ATTACH;FMTTYPE=image/jpeg:https://wasagabeachpubliclibrary.ca/wp-content/uploads/2026/03/e01b4ebe88e96b27d0c8db3b5cdfb173.jpg
END:VEVENT
END:VCALENDAR