BEGIN:VCALENDAR
VERSION:2.0
PRODID:-//Wasaga Beach Public Library - ECPv6.15.20//NONSGML v1.0//EN
CALSCALE:GREGORIAN
METHOD:PUBLISH
X-ORIGINAL-URL:https://wasagabeachpubliclibrary.ca
X-WR-CALDESC:Events for Wasaga Beach Public Library
REFRESH-INTERVAL;VALUE=DURATION:PT1H
X-Robots-Tag:noindex
X-PUBLISHED-TTL:PT1H
BEGIN:VTIMEZONE
TZID:America/Toronto
BEGIN:DAYLIGHT
TZOFFSETFROM:-0500
TZOFFSETTO:-0400
TZNAME:EDT
DTSTART:20240310T070000
END:DAYLIGHT
BEGIN:STANDARD
TZOFFSETFROM:-0400
TZOFFSETTO:-0500
TZNAME:EST
DTSTART:20241103T060000
END:STANDARD
BEGIN:DAYLIGHT
TZOFFSETFROM:-0500
TZOFFSETTO:-0400
TZNAME:EDT
DTSTART:20250309T070000
END:DAYLIGHT
BEGIN:STANDARD
TZOFFSETFROM:-0400
TZOFFSETTO:-0500
TZNAME:EST
DTSTART:20251102T060000
END:STANDARD
BEGIN:DAYLIGHT
TZOFFSETFROM:-0500
TZOFFSETTO:-0400
TZNAME:EDT
DTSTART:20260308T070000
END:DAYLIGHT
BEGIN:STANDARD
TZOFFSETFROM:-0400
TZOFFSETTO:-0500
TZNAME:EST
DTSTART:20261101T060000
END:STANDARD
END:VTIMEZONE
BEGIN:VEVENT
DTSTART;TZID=America/Toronto:20250923T110000
DTEND;TZID=America/Toronto:20250923T120000
DTSTAMP:20260425T105926
CREATED:20241107T095140Z
LAST-MODIFIED:20250922T195130Z
UID:10002794-1758625200-1758628800@wasagabeachpubliclibrary.ca
SUMMARY:Rhythm of the Beach Drum Circle
DESCRIPTION:Drumming with your hands and getting into the rhythm with the group can be therapeutic\, hypnotic or just plain fun!
URL:https://wasagabeachpubliclibrary.ca/events/rhythm-of-the-beach-drum-circle-83/
LOCATION:Wasaga Beach Public Library\, 544 River Road West\, Wasaga Beach\, ON\, L9Z 2P1\, Canada
CATEGORIES:Adult
ATTACH;FMTTYPE=image/jpeg:https://wasagabeachpubliclibrary.ca/wp-content/uploads/2024/01/8ff99475de3de8b6573bcfdfc5136eff.jpg
END:VEVENT
BEGIN:VEVENT
DTSTART;TZID=America/Toronto:20250923T110000
DTEND;TZID=America/Toronto:20250923T120000
DTSTAMP:20260425T105926
CREATED:20250906T023549Z
LAST-MODIFIED:20250922T195257Z
UID:10005162-1758625200-1758628800@wasagabeachpubliclibrary.ca
SUMMARY:Tech Class: What is Artificial Intelligence?
DESCRIPTION:You’ve heard people talking about Artificial Intelligence programs like Chat GPT\, but what is it and how can it help your day-to-day life?\n\n\n📅 Adult Program \n📌 Wasaga Beach Public Library card required for registration. \nThis class introduces the basics of artificial intelligence and explores how AI can be used in everyday life and in business to streamline processes\, gain insights\, and spark creativity. Together\, we’ll look at practical examples using Microsoft Copilot\, Google Gemini\, and ChatGPT.
URL:https://wasagabeachpubliclibrary.ca/events/tech-class-what-is-artificial-intelligence/
LOCATION:Wasaga Beach Public Library\, 544 River Road West\, Wasaga Beach\, ON\, L9Z 2P1\, Canada
CATEGORIES:Adult
ATTACH;FMTTYPE=image/jpeg:https://wasagabeachpubliclibrary.ca/wp-content/uploads/2025/09/d0cd8d047f626288f369de56f00f6ce0.jpg
END:VEVENT
BEGIN:VEVENT
DTSTART;TZID=America/Toronto:20250923T140000
DTEND;TZID=America/Toronto:20250923T150000
DTSTAMP:20260425T105926
CREATED:20250802T235137Z
LAST-MODIFIED:20250922T195228Z
UID:10004659-1758636000-1758639600@wasagabeachpubliclibrary.ca
SUMMARY:1 on 1 Tech Help
DESCRIPTION:1-on-1 appointments to help guide you through your any and all of your technology challenges.
URL:https://wasagabeachpubliclibrary.ca/events/1-on-1-tech-help-37/
LOCATION:Wasaga Beach Public Library\, 544 River Road West\, Wasaga Beach\, ON\, L9Z 2P1\, Canada
CATEGORIES:Adult
ATTACH;FMTTYPE=image/jpeg:https://wasagabeachpubliclibrary.ca/wp-content/uploads/2025/06/3e3410a8c6d2a025683138c630ab83c2.jpg
END:VEVENT
BEGIN:VEVENT
DTSTART;TZID=America/Toronto:20250923T190000
DTEND;TZID=America/Toronto:20250923T210000
DTSTAMP:20260425T105926
CREATED:20241227T213628Z
LAST-MODIFIED:20250923T200549Z
UID:10003349-1758654000-1758661200@wasagabeachpubliclibrary.ca
SUMMARY:Wasaga Writers Club
DESCRIPTION:Experienced and amateur writers are welcome to join meetings to share writing\, seek critiques and enjoy the creative process.
URL:https://wasagabeachpubliclibrary.ca/events/wasaga-writers-club-14/
LOCATION:Wasaga Beach Public Library\, 544 River Road West\, Wasaga Beach\, ON\, L9Z 2P1\, Canada
CATEGORIES:Adult
ATTACH;FMTTYPE=image/jpeg:https://wasagabeachpubliclibrary.ca/wp-content/uploads/2024/11/933ead4be812ad5e0c2a5f70678e439f.jpg
END:VEVENT
END:VCALENDAR