BEGIN:VCALENDAR
VERSION:2.0
PRODID:-//Wasaga Beach Public Library - ECPv6.15.20//NONSGML v1.0//EN
CALSCALE:GREGORIAN
METHOD:PUBLISH
X-WR-CALNAME:Wasaga Beach Public Library
X-ORIGINAL-URL:https://wasagabeachpubliclibrary.ca
X-WR-CALDESC:Events for Wasaga Beach Public Library
REFRESH-INTERVAL;VALUE=DURATION:PT1H
X-Robots-Tag:noindex
X-PUBLISHED-TTL:PT1H
BEGIN:VTIMEZONE
TZID:America/Toronto
BEGIN:DAYLIGHT
TZOFFSETFROM:-0500
TZOFFSETTO:-0400
TZNAME:EDT
DTSTART:20250309T070000
END:DAYLIGHT
BEGIN:STANDARD
TZOFFSETFROM:-0400
TZOFFSETTO:-0500
TZNAME:EST
DTSTART:20251102T060000
END:STANDARD
BEGIN:DAYLIGHT
TZOFFSETFROM:-0500
TZOFFSETTO:-0400
TZNAME:EDT
DTSTART:20260308T070000
END:DAYLIGHT
BEGIN:STANDARD
TZOFFSETFROM:-0400
TZOFFSETTO:-0500
TZNAME:EST
DTSTART:20261101T060000
END:STANDARD
BEGIN:DAYLIGHT
TZOFFSETFROM:-0500
TZOFFSETTO:-0400
TZNAME:EDT
DTSTART:20270314T070000
END:DAYLIGHT
BEGIN:STANDARD
TZOFFSETFROM:-0400
TZOFFSETTO:-0500
TZNAME:EST
DTSTART:20271107T060000
END:STANDARD
END:VTIMEZONE
BEGIN:VEVENT
DTSTART;TZID=America/Toronto:20260219T130000
DTEND;TZID=America/Toronto:20260219T140000
DTSTAMP:20260419T094454
CREATED:20251217T012212Z
LAST-MODIFIED:20260219T150426Z
UID:10006215-1771506000-1771509600@wasagabeachpubliclibrary.ca
SUMMARY:Bring Your Own Book Club
DESCRIPTION:Join this “virtual book club” via ZOOM where you BYOB – bring your own book!
URL:https://wasagabeachpubliclibrary.ca/events/bring-your-own-book-club-75/
LOCATION:ON
CATEGORIES:Adult
ATTACH;FMTTYPE=image/jpeg:https://wasagabeachpubliclibrary.ca/wp-content/uploads/2026/01/32b2cdc7667cab5b2f0d65638b25948b.jpg
END:VEVENT
BEGIN:VEVENT
DTSTART;TZID=America/Toronto:20260219T140000
DTEND;TZID=America/Toronto:20260219T160000
DTSTAMP:20260419T094454
CREATED:20260117T010051Z
LAST-MODIFIED:20260219T060459Z
UID:10006538-1771509600-1771516800@wasagabeachpubliclibrary.ca
SUMMARY:Seniors Community Grant: Intro to Digitization Workshop
DESCRIPTION:Single-session workshop. Discover the magic of digitization and explore tools to preserve your most precious memories.
URL:https://wasagabeachpubliclibrary.ca/events/seniors-community-grant-intro-to-digitization-workshop-10/
LOCATION:Wasaga Beach Public Library\, 544 River Road West\, Wasaga Beach\, ON\, L9Z 2P1\, Canada
CATEGORIES:Adult
ATTACH;FMTTYPE=image/jpeg:https://wasagabeachpubliclibrary.ca/wp-content/uploads/2025/11/6959a68f0c6f9393fabbb1d420f78201.jpg
END:VEVENT
END:VCALENDAR