BEGIN:VCALENDAR
VERSION:2.0
PRODID:-//Wasaga Beach Public Library - ECPv6.15.20//NONSGML v1.0//EN
CALSCALE:GREGORIAN
METHOD:PUBLISH
X-ORIGINAL-URL:https://wasagabeachpubliclibrary.ca
X-WR-CALDESC:Events for Wasaga Beach Public Library
REFRESH-INTERVAL;VALUE=DURATION:PT1H
X-Robots-Tag:noindex
X-PUBLISHED-TTL:PT1H
BEGIN:VTIMEZONE
TZID:America/Toronto
BEGIN:DAYLIGHT
TZOFFSETFROM:-0500
TZOFFSETTO:-0400
TZNAME:EDT
DTSTART:20250309T070000
END:DAYLIGHT
BEGIN:STANDARD
TZOFFSETFROM:-0400
TZOFFSETTO:-0500
TZNAME:EST
DTSTART:20251102T060000
END:STANDARD
BEGIN:DAYLIGHT
TZOFFSETFROM:-0500
TZOFFSETTO:-0400
TZNAME:EDT
DTSTART:20260308T070000
END:DAYLIGHT
BEGIN:STANDARD
TZOFFSETFROM:-0400
TZOFFSETTO:-0500
TZNAME:EST
DTSTART:20261101T060000
END:STANDARD
BEGIN:DAYLIGHT
TZOFFSETFROM:-0500
TZOFFSETTO:-0400
TZNAME:EDT
DTSTART:20270314T070000
END:DAYLIGHT
BEGIN:STANDARD
TZOFFSETFROM:-0400
TZOFFSETTO:-0500
TZNAME:EST
DTSTART:20271107T060000
END:STANDARD
END:VTIMEZONE
BEGIN:VEVENT
DTSTART;TZID=America/Toronto:20260311T130000
DTEND;TZID=America/Toronto:20260311T143000
DTSTAMP:20260421T065743
CREATED:20260210T034908Z
LAST-MODIFIED:20260311T000946Z
UID:10006642-1773234000-1773239400@wasagabeachpubliclibrary.ca
SUMMARY:Sew Savvy Adults: Jar Gripper
DESCRIPTION:Learn the basics of machine sewing in this one-session class for beginners.
URL:https://wasagabeachpubliclibrary.ca/events/sew-savvy-adults-jar-gripper/
LOCATION:Wasaga Beach Public Library\, 544 River Road West\, Wasaga Beach\, ON\, L9Z 2P1\, Canada
CATEGORIES:Adult
ATTACH;FMTTYPE=image/jpeg:https://wasagabeachpubliclibrary.ca/wp-content/uploads/2026/02/ee11f81dfad222d6de9a9ca95c090fe6.jpg
END:VEVENT
BEGIN:VEVENT
DTSTART;TZID=America/Toronto:20260311T180000
DTEND;TZID=America/Toronto:20260311T194500
DTSTAMP:20260421T065743
CREATED:20260218T054935Z
LAST-MODIFIED:20260311T000946Z
UID:10006658-1773252000-1773258300@wasagabeachpubliclibrary.ca
SUMMARY:Stenciled and Stitched Tote Bag
DESCRIPTION:Make a one of a kind tote bag and add your artistic flair!\n\n\n📌 Ages: Adults💳 Wasaga Beach Public Library card required for registration. \nJoin volunteer Jayne who will guide you to stencil a small tote bag and then embellish in your own way using buttons and embroidery thread for further bling.  Come for the fun and enjoy the connection with fellow crafter enthusiasts. \nFree. All supplies provided.
URL:https://wasagabeachpubliclibrary.ca/events/stenciled-and-stitched-tote-bag/
LOCATION:Wasaga Beach Public Library\, 544 River Road West\, Wasaga Beach\, ON\, L9Z 2P1\, Canada
CATEGORIES:Adult
ATTACH;FMTTYPE=image/jpeg:https://wasagabeachpubliclibrary.ca/wp-content/uploads/2026/02/e2394afc9fa7baf1955df822001d78e6.jpg
END:VEVENT
END:VCALENDAR