BEGIN:VCALENDAR
VERSION:2.0
PRODID:-//Wasaga Beach Public Library - ECPv6.15.20//NONSGML v1.0//EN
CALSCALE:GREGORIAN
METHOD:PUBLISH
X-ORIGINAL-URL:https://wasagabeachpubliclibrary.ca
X-WR-CALDESC:Events for Wasaga Beach Public Library
REFRESH-INTERVAL;VALUE=DURATION:PT1H
X-Robots-Tag:noindex
X-PUBLISHED-TTL:PT1H
BEGIN:VTIMEZONE
TZID:America/Toronto
BEGIN:DAYLIGHT
TZOFFSETFROM:-0500
TZOFFSETTO:-0400
TZNAME:EDT
DTSTART:20250309T070000
END:DAYLIGHT
BEGIN:STANDARD
TZOFFSETFROM:-0400
TZOFFSETTO:-0500
TZNAME:EST
DTSTART:20251102T060000
END:STANDARD
BEGIN:DAYLIGHT
TZOFFSETFROM:-0500
TZOFFSETTO:-0400
TZNAME:EDT
DTSTART:20260308T070000
END:DAYLIGHT
BEGIN:STANDARD
TZOFFSETFROM:-0400
TZOFFSETTO:-0500
TZNAME:EST
DTSTART:20261101T060000
END:STANDARD
BEGIN:DAYLIGHT
TZOFFSETFROM:-0500
TZOFFSETTO:-0400
TZNAME:EDT
DTSTART:20270314T070000
END:DAYLIGHT
BEGIN:STANDARD
TZOFFSETFROM:-0400
TZOFFSETTO:-0500
TZNAME:EST
DTSTART:20271107T060000
END:STANDARD
END:VTIMEZONE
BEGIN:VEVENT
DTSTART;TZID=America/Toronto:20260312T110000
DTEND;TZID=America/Toronto:20260312T120000
DTSTAMP:20260425T111705
CREATED:20260109T165542Z
LAST-MODIFIED:20260311T000941Z
UID:10006409-1773313200-1773316800@wasagabeachpubliclibrary.ca
SUMMARY:1 on 1 Tech Help
DESCRIPTION:1-on-1 appointments to help guide you through your any and all of your technology challenges.
URL:https://wasagabeachpubliclibrary.ca/events/1-on-1-tech-help-93/
LOCATION:Wasaga Beach Public Library\, 544 River Road West\, Wasaga Beach\, ON\, L9Z 2P1\, Canada
CATEGORIES:Adult
ATTACH;FMTTYPE=image/jpeg:https://wasagabeachpubliclibrary.ca/wp-content/uploads/2025/06/3e3410a8c6d2a025683138c630ab83c2.jpg
END:VEVENT
BEGIN:VEVENT
DTSTART;TZID=America/Toronto:20260312T130000
DTEND;TZID=America/Toronto:20260312T140000
DTSTAMP:20260425T111705
CREATED:20260109T165542Z
LAST-MODIFIED:20260312T160859Z
UID:10006410-1773320400-1773324000@wasagabeachpubliclibrary.ca
SUMMARY:1 on 1 Tech Help
DESCRIPTION:1-on-1 appointments to help guide you through your any and all of your technology challenges.
URL:https://wasagabeachpubliclibrary.ca/events/1-on-1-tech-help-94/
LOCATION:Wasaga Beach Public Library\, 544 River Road West\, Wasaga Beach\, ON\, L9Z 2P1\, Canada
CATEGORIES:Adult
ATTACH;FMTTYPE=image/jpeg:https://wasagabeachpubliclibrary.ca/wp-content/uploads/2025/06/3e3410a8c6d2a025683138c630ab83c2.jpg
END:VEVENT
BEGIN:VEVENT
DTSTART;TZID=America/Toronto:20260312T183000
DTEND;TZID=America/Toronto:20260312T200000
DTSTAMP:20260425T111705
CREATED:20260210T034910Z
LAST-MODIFIED:20260312T160904Z
UID:10006643-1773340200-1773345600@wasagabeachpubliclibrary.ca
SUMMARY:Intro to Salsa Dancing
DESCRIPTION:Immerse yourself in the Latin culture! Learn to Salsa!\n\n\nThis beginner-friendly introductory class is welcoming for everyone. The first hour will include guided instruction\, and anyone who would like to stay until 8:00 PM is welcome to practice in a casual\, social setting with music. \nNo dance partner or prior experience is needed. \nWhat to Wear \n\nClothing: Comfortable\, breathable clothes that allow free movement (workout attire is not required).\nShoes: Sneakers are perfect. Salsa shoes are welcome if you have them\, but not required. (Please no flip-flops.)\n\nWhat to Bring \nA water bottle \nAbout the Facilitator \nClarissa of Latin Soul Dance Simcoe is new to the community and originally from Brazil. She grew up surrounded by Latin rhythms and has been teaching dance for the past seven years\, primarily in the Kitchener–Waterloo region. \nHer specialties include Salsa (Cuban and Mambo)\, Bachata\, and Brazilian styles such as Samba\, Funk\, Forró\, and Zouk. Clarissa teaches both partner and solo formats\, and she’s passionate about sharing Latin culture while building a welcoming dance community in Wasaga Beach and across Simcoe County. \nShe looks forward to dancing with you! \nConnect with Clarissa on Instagram: @latinsouldancesimcoe
URL:https://wasagabeachpubliclibrary.ca/events/intro-to-salsa-dancing/
LOCATION:Wasaga Beach Public Library\, 544 River Road West\, Wasaga Beach\, ON\, L9Z 2P1\, Canada
CATEGORIES:Adult
ATTACH;FMTTYPE=image/jpeg:https://wasagabeachpubliclibrary.ca/wp-content/uploads/2026/02/03d839f33d859872b16fbcba5120e1e0.jpg
END:VEVENT
END:VCALENDAR