BEGIN:VCALENDAR
VERSION:2.0
PRODID:-//Wasaga Beach Public Library - ECPv6.15.20//NONSGML v1.0//EN
CALSCALE:GREGORIAN
METHOD:PUBLISH
X-ORIGINAL-URL:https://wasagabeachpubliclibrary.ca
X-WR-CALDESC:Events for Wasaga Beach Public Library
REFRESH-INTERVAL;VALUE=DURATION:PT1H
X-Robots-Tag:noindex
X-PUBLISHED-TTL:PT1H
BEGIN:VTIMEZONE
TZID:America/Toronto
BEGIN:DAYLIGHT
TZOFFSETFROM:-0500
TZOFFSETTO:-0400
TZNAME:EDT
DTSTART:20250309T070000
END:DAYLIGHT
BEGIN:STANDARD
TZOFFSETFROM:-0400
TZOFFSETTO:-0500
TZNAME:EST
DTSTART:20251102T060000
END:STANDARD
BEGIN:DAYLIGHT
TZOFFSETFROM:-0500
TZOFFSETTO:-0400
TZNAME:EDT
DTSTART:20260308T070000
END:DAYLIGHT
BEGIN:STANDARD
TZOFFSETFROM:-0400
TZOFFSETTO:-0500
TZNAME:EST
DTSTART:20261101T060000
END:STANDARD
BEGIN:DAYLIGHT
TZOFFSETFROM:-0500
TZOFFSETTO:-0400
TZNAME:EDT
DTSTART:20270314T070000
END:DAYLIGHT
BEGIN:STANDARD
TZOFFSETFROM:-0400
TZOFFSETTO:-0500
TZNAME:EST
DTSTART:20271107T060000
END:STANDARD
END:VTIMEZONE
BEGIN:VEVENT
DTSTART;TZID=America/Toronto:20260318T130000
DTEND;TZID=America/Toronto:20260318T143000
DTSTAMP:20260423T113703
CREATED:20260211T040714Z
LAST-MODIFIED:20260318T040804Z
UID:10006654-1773838800-1773844200@wasagabeachpubliclibrary.ca
SUMMARY:Sew Savvy Adults: Jar Gripper
DESCRIPTION:Learn the basics of machine sewing in this one-session class for beginners.
URL:https://wasagabeachpubliclibrary.ca/events/sew-savvy-adults-jar-gripper-2/
LOCATION:Wasaga Beach Public Library\, 544 River Road West\, Wasaga Beach\, ON\, L9Z 2P1\, Canada
CATEGORIES:Adult
ATTACH;FMTTYPE=image/jpeg:https://wasagabeachpubliclibrary.ca/wp-content/uploads/2026/02/ee11f81dfad222d6de9a9ca95c090fe6.jpg
END:VEVENT
BEGIN:VEVENT
DTSTART;TZID=America/Toronto:20260318T183000
DTEND;TZID=America/Toronto:20260318T193000
DTSTAMP:20260423T113703
CREATED:20251202T130722Z
LAST-MODIFIED:20260318T040759Z
UID:10006078-1773858600-1773862200@wasagabeachpubliclibrary.ca
SUMMARY:Adult Trivia Night at the Library
DESCRIPTION:Think you know it all? Prove it! Join our Adult Trivia Night for fun\, facts\, and friendly competition.
URL:https://wasagabeachpubliclibrary.ca/events/adult-trivia-night-at-the-library-5/
LOCATION:Wasaga Beach Public Library\, 544 River Road West\, Wasaga Beach\, ON\, L9Z 2P1\, Canada
CATEGORIES:Adult
ATTACH;FMTTYPE=image/jpeg:https://wasagabeachpubliclibrary.ca/wp-content/uploads/2025/12/d875d8b497a330e739568f947db7703d.jpg
END:VEVENT
END:VCALENDAR