BEGIN:VCALENDAR
VERSION:2.0
PRODID:-//Wasaga Beach Public Library - ECPv6.15.20//NONSGML v1.0//EN
CALSCALE:GREGORIAN
METHOD:PUBLISH
X-ORIGINAL-URL:https://wasagabeachpubliclibrary.ca
X-WR-CALDESC:Events for Wasaga Beach Public Library
REFRESH-INTERVAL;VALUE=DURATION:PT1H
X-Robots-Tag:noindex
X-PUBLISHED-TTL:PT1H
BEGIN:VTIMEZONE
TZID:America/Toronto
BEGIN:DAYLIGHT
TZOFFSETFROM:-0500
TZOFFSETTO:-0400
TZNAME:EDT
DTSTART:20250309T070000
END:DAYLIGHT
BEGIN:STANDARD
TZOFFSETFROM:-0400
TZOFFSETTO:-0500
TZNAME:EST
DTSTART:20251102T060000
END:STANDARD
BEGIN:DAYLIGHT
TZOFFSETFROM:-0500
TZOFFSETTO:-0400
TZNAME:EDT
DTSTART:20260308T070000
END:DAYLIGHT
BEGIN:STANDARD
TZOFFSETFROM:-0400
TZOFFSETTO:-0500
TZNAME:EST
DTSTART:20261101T060000
END:STANDARD
BEGIN:DAYLIGHT
TZOFFSETFROM:-0500
TZOFFSETTO:-0400
TZNAME:EDT
DTSTART:20270314T070000
END:DAYLIGHT
BEGIN:STANDARD
TZOFFSETFROM:-0400
TZOFFSETTO:-0500
TZNAME:EST
DTSTART:20271107T060000
END:STANDARD
END:VTIMEZONE
BEGIN:VEVENT
DTSTART;TZID=America/Toronto:20260428T110000
DTEND;TZID=America/Toronto:20260428T120000
DTSTAMP:20260421T080035
CREATED:20251223T030754Z
LAST-MODIFIED:20260421T063755Z
UID:10006349-1777374000-1777377600@wasagabeachpubliclibrary.ca
SUMMARY:Rhythm of the Beach Drum Circle
DESCRIPTION:Drumming with your hands and getting into the rhythm with the group can be therapeutic\, hypnotic or just plain fun!
URL:https://wasagabeachpubliclibrary.ca/events/rhythm-of-the-beach-drum-circle-111/
LOCATION:Wasaga Beach Public Library\, 544 River Road West\, Wasaga Beach\, ON\, L9Z 2P1\, Canada
CATEGORIES:Adult
ATTACH;FMTTYPE=image/jpeg:https://wasagabeachpubliclibrary.ca/wp-content/uploads/2024/01/8ff99475de3de8b6573bcfdfc5136eff.jpg
END:VEVENT
BEGIN:VEVENT
DTSTART;TZID=America/Toronto:20260428T130000
DTEND;TZID=America/Toronto:20260428T140000
DTSTAMP:20260421T080035
CREATED:20260218T055104Z
LAST-MODIFIED:20260421T063733Z
UID:10006668-1777381200-1777384800@wasagabeachpubliclibrary.ca
SUMMARY:Tech Class: Beginner Android Devices
DESCRIPTION:A beginner-friendly class for those who are new to Android devices.
URL:https://wasagabeachpubliclibrary.ca/events/tech-class-beginner-android-devices-4/
LOCATION:Wasaga Beach Public Library\, 544 River Road West\, Wasaga Beach\, ON\, L9Z 2P1\, Canada
CATEGORIES:Adult
ATTACH;FMTTYPE=image/jpeg:https://wasagabeachpubliclibrary.ca/wp-content/uploads/2025/02/383e54003e4cc4ee136518d31e0b7db1.jpg
END:VEVENT
BEGIN:VEVENT
DTSTART;TZID=America/Toronto:20260428T130000
DTEND;TZID=America/Toronto:20260428T140000
DTSTAMP:20260421T080035
CREATED:20260309T172430Z
LAST-MODIFIED:20260421T063815Z
UID:10006713-1777381200-1777384800@wasagabeachpubliclibrary.ca
SUMMARY:1 on 1 Tech Help
DESCRIPTION:1-on-1 appointments to help guide you through your any and all of your technology challenges.
URL:https://wasagabeachpubliclibrary.ca/events/1-on-1-tech-help-113/
LOCATION:Wasaga Beach Public Library\, 544 River Road West\, Wasaga Beach\, ON\, L9Z 2P1\, Canada
CATEGORIES:Adult
ATTACH;FMTTYPE=image/jpeg:https://wasagabeachpubliclibrary.ca/wp-content/uploads/2025/06/3e3410a8c6d2a025683138c630ab83c2.jpg
END:VEVENT
BEGIN:VEVENT
DTSTART;TZID=America/Toronto:20260428T180000
DTEND;TZID=America/Toronto:20260428T194500
DTSTAMP:20260421T080035
CREATED:20260401T182409Z
LAST-MODIFIED:20260421T063821Z
UID:10006766-1777399200-1777405500@wasagabeachpubliclibrary.ca
SUMMARY:Wasaga Beach Chess Club
DESCRIPTION:Teens & adults: learn chess basics with a short lesson\, then play practice games. Beginners welcome; all levels.
URL:https://wasagabeachpubliclibrary.ca/events/wasaga-beach-chess-club-13/
LOCATION:Wasaga Beach Public Library\, 544 River Road West\, Wasaga Beach\, ON\, L9Z 2P1\, Canada
CATEGORIES:Adult
ATTACH;FMTTYPE=image/jpeg:https://wasagabeachpubliclibrary.ca/wp-content/uploads/2026/01/29dbe7a838dba3af1b810a07c355e838.jpg
END:VEVENT
BEGIN:VEVENT
DTSTART;TZID=America/Toronto:20260428T190000
DTEND;TZID=America/Toronto:20260428T210000
DTSTAMP:20260421T080035
CREATED:20251010T213605Z
LAST-MODIFIED:20260421T063742Z
UID:10005555-1777402800-1777410000@wasagabeachpubliclibrary.ca
SUMMARY:Wasaga Writers Club
DESCRIPTION:Experienced and amateur writers are welcome to join meetings to share writing\, seek critiques and enjoy the creative process.
URL:https://wasagabeachpubliclibrary.ca/events/wasaga-writers-club-27/
LOCATION:Wasaga Beach Public Library\, 544 River Road West\, Wasaga Beach\, ON\, L9Z 2P1\, Canada
CATEGORIES:Adult
ATTACH;FMTTYPE=image/jpeg:https://wasagabeachpubliclibrary.ca/wp-content/uploads/2026/01/4b4d8a1beb4e122c3357839f04d9ad55.jpg
END:VEVENT
END:VCALENDAR