BEGIN:VCALENDAR
VERSION:2.0
PRODID:-//Wasaga Beach Public Library - ECPv6.15.20//NONSGML v1.0//EN
CALSCALE:GREGORIAN
METHOD:PUBLISH
X-ORIGINAL-URL:https://wasagabeachpubliclibrary.ca
X-WR-CALDESC:Events for Wasaga Beach Public Library
REFRESH-INTERVAL;VALUE=DURATION:PT1H
X-Robots-Tag:noindex
X-PUBLISHED-TTL:PT1H
BEGIN:VTIMEZONE
TZID:America/Toronto
BEGIN:DAYLIGHT
TZOFFSETFROM:-0500
TZOFFSETTO:-0400
TZNAME:EDT
DTSTART:20250309T070000
END:DAYLIGHT
BEGIN:STANDARD
TZOFFSETFROM:-0400
TZOFFSETTO:-0500
TZNAME:EST
DTSTART:20251102T060000
END:STANDARD
BEGIN:DAYLIGHT
TZOFFSETFROM:-0500
TZOFFSETTO:-0400
TZNAME:EDT
DTSTART:20260308T070000
END:DAYLIGHT
BEGIN:STANDARD
TZOFFSETFROM:-0400
TZOFFSETTO:-0500
TZNAME:EST
DTSTART:20261101T060000
END:STANDARD
BEGIN:DAYLIGHT
TZOFFSETFROM:-0500
TZOFFSETTO:-0400
TZNAME:EDT
DTSTART:20270314T070000
END:DAYLIGHT
BEGIN:STANDARD
TZOFFSETFROM:-0400
TZOFFSETTO:-0500
TZNAME:EST
DTSTART:20271107T060000
END:STANDARD
END:VTIMEZONE
BEGIN:VEVENT
DTSTART;TZID=America/Toronto:20260320T150000
DTEND;TZID=America/Toronto:20260320T163000
DTSTAMP:20260423T084946
CREATED:20251127T120615Z
LAST-MODIFIED:20260320T202301Z
UID:10005936-1774018800-1774024200@wasagabeachpubliclibrary.ca
SUMMARY:Friday Afternoon Book Club
DESCRIPTION:Join the fun! Friday Afternoon Book Club usually meets on the 1st & 3rd Fridays of each month. This group is fragrance-free.
URL:https://wasagabeachpubliclibrary.ca/events/friday-afternoon-book-club-71/
LOCATION:Wasaga Beach Public Library\, 544 River Road West\, Wasaga Beach\, ON\, L9Z 2P1\, Canada
CATEGORIES:Adult
ATTACH;FMTTYPE=image/jpeg:https://wasagabeachpubliclibrary.ca/wp-content/uploads/2024/01/34db741846911495712a19821f5b3af0-1.jpg
END:VEVENT
BEGIN:VEVENT
DTSTART;TZID=America/Toronto:20260323T133000
DTEND;TZID=America/Toronto:20260323T150000
DTSTAMP:20260423T084946
CREATED:20251217T012319Z
LAST-MODIFIED:20260323T160821Z
UID:10006298-1774272600-1774278000@wasagabeachpubliclibrary.ca
SUMMARY:Stitch & Talk
DESCRIPTION:Enjoy a cozy mix of creativity and conversation.
URL:https://wasagabeachpubliclibrary.ca/events/stitch-talk-11/
LOCATION:Wasaga Beach Public Library\, 544 River Road West\, Wasaga Beach\, ON\, L9Z 2P1\, Canada
CATEGORIES:Adult
ATTACH;FMTTYPE=image/jpeg:https://wasagabeachpubliclibrary.ca/wp-content/uploads/2024/02/7a403526ce149b2f0c6357b04583705e.jpg
END:VEVENT
BEGIN:VEVENT
DTSTART;TZID=America/Toronto:20260324T110000
DTEND;TZID=America/Toronto:20260324T120000
DTSTAMP:20260423T084946
CREATED:20251223T030752Z
LAST-MODIFIED:20260323T211016Z
UID:10006344-1774350000-1774353600@wasagabeachpubliclibrary.ca
SUMMARY:Rhythm of the Beach Drum Circle
DESCRIPTION:Drumming with your hands and getting into the rhythm with the group can be therapeutic\, hypnotic or just plain fun!
URL:https://wasagabeachpubliclibrary.ca/events/rhythm-of-the-beach-drum-circle-106/
LOCATION:Wasaga Beach Public Library\, 544 River Road West\, Wasaga Beach\, ON\, L9Z 2P1\, Canada
CATEGORIES:Adult
ATTACH;FMTTYPE=image/jpeg:https://wasagabeachpubliclibrary.ca/wp-content/uploads/2024/01/8ff99475de3de8b6573bcfdfc5136eff.jpg
END:VEVENT
BEGIN:VEVENT
DTSTART;TZID=America/Toronto:20260324T110000
DTEND;TZID=America/Toronto:20260324T120000
DTSTAMP:20260423T084946
CREATED:20260109T165544Z
LAST-MODIFIED:20260323T211225Z
UID:10006413-1774350000-1774353600@wasagabeachpubliclibrary.ca
SUMMARY:1 on 1 Tech Help
DESCRIPTION:1-on-1 appointments to help guide you through your any and all of your technology challenges.
URL:https://wasagabeachpubliclibrary.ca/events/1-on-1-tech-help-97/
LOCATION:Wasaga Beach Public Library\, 544 River Road West\, Wasaga Beach\, ON\, L9Z 2P1\, Canada
CATEGORIES:Adult
ATTACH;FMTTYPE=image/jpeg:https://wasagabeachpubliclibrary.ca/wp-content/uploads/2025/06/3e3410a8c6d2a025683138c630ab83c2.jpg
END:VEVENT
BEGIN:VEVENT
DTSTART;TZID=America/Toronto:20260324T130000
DTEND;TZID=America/Toronto:20260324T140000
DTSTAMP:20260423T084946
CREATED:20260109T165346Z
LAST-MODIFIED:20260323T211351Z
UID:10006397-1774357200-1774360800@wasagabeachpubliclibrary.ca
SUMMARY:Advance Care Planning
DESCRIPTION:It’s not too early to plan for future changes in your health care needs.\n\n\nJoin this informative presentation led by a representative from Hospice Palliative Care Ontario to learn more about planning ahead for changes in life and health circumstances. Participants will explore the values\, beliefs\, and wishes that guide future care decisions\, and learn how to make those wishes known in the event you are unable to communicate or participate in decision-making. \nTopics covered include: \n• The role of a Substitute Decision Maker and how to choose and prepare them• Key legal considerations• Power of Attorney documentation• When and how to have conversations with loved ones \nWhile registration is encouraged\, drop-ins are welcome.
URL:https://wasagabeachpubliclibrary.ca/events/advance-care-planning/
LOCATION:Wasaga Beach Public Library\, 544 River Road West\, Wasaga Beach\, ON\, L9Z 2P1\, Canada
CATEGORIES:Adult
ATTACH;FMTTYPE=image/jpeg:https://wasagabeachpubliclibrary.ca/wp-content/uploads/2026/01/53612cf34e98c4b2ca9a540645fdbb76.jpg
END:VEVENT
BEGIN:VEVENT
DTSTART;TZID=America/Toronto:20260324T130000
DTEND;TZID=America/Toronto:20260324T140000
DTSTAMP:20260423T084946
CREATED:20260109T165545Z
LAST-MODIFIED:20260323T211225Z
UID:10006414-1774357200-1774360800@wasagabeachpubliclibrary.ca
SUMMARY:1 on 1 Tech Help
DESCRIPTION:1-on-1 appointments to help guide you through your any and all of your technology challenges.
URL:https://wasagabeachpubliclibrary.ca/events/1-on-1-tech-help-98/
LOCATION:Wasaga Beach Public Library\, 544 River Road West\, Wasaga Beach\, ON\, L9Z 2P1\, Canada
CATEGORIES:Adult
ATTACH;FMTTYPE=image/jpeg:https://wasagabeachpubliclibrary.ca/wp-content/uploads/2025/06/3e3410a8c6d2a025683138c630ab83c2.jpg
END:VEVENT
BEGIN:VEVENT
DTSTART;TZID=America/Toronto:20260324T180000
DTEND;TZID=America/Toronto:20260324T194500
DTSTAMP:20260423T084946
CREATED:20260113T210110Z
LAST-MODIFIED:20260323T211351Z
UID:10006534-1774375200-1774381500@wasagabeachpubliclibrary.ca
SUMMARY:Wasaga Beach Chess Club
DESCRIPTION:Teens & adults: learn chess basics with a short lesson\, then play practice games. Beginners welcome; all levels.
URL:https://wasagabeachpubliclibrary.ca/events/wasaga-beach-chess-club-8/
LOCATION:Wasaga Beach Public Library\, 544 River Road West\, Wasaga Beach\, ON\, L9Z 2P1\, Canada
CATEGORIES:Adult
ATTACH;FMTTYPE=image/jpeg:https://wasagabeachpubliclibrary.ca/wp-content/uploads/2026/01/29dbe7a838dba3af1b810a07c355e838.jpg
END:VEVENT
BEGIN:VEVENT
DTSTART;TZID=America/Toronto:20260325T130000
DTEND;TZID=America/Toronto:20260325T150000
DTSTAMP:20260423T084946
CREATED:20260113T210038Z
LAST-MODIFIED:20260325T000900Z
UID:10006527-1774443600-1774450800@wasagabeachpubliclibrary.ca
SUMMARY:Sew Savvy Open Studio (Adults)
DESCRIPTION:Join us for Sew Savvy: Open Studio\, where you’ll have access to an on-site sewing coach ready to support you every step of the way.
URL:https://wasagabeachpubliclibrary.ca/events/sew-savvy-open-studio-adults-11/
LOCATION:Wasaga Beach Public Library\, 544 River Road West\, Wasaga Beach\, ON\, L9Z 2P1\, Canada
CATEGORIES:Adult
ATTACH;FMTTYPE=image/jpeg:https://wasagabeachpubliclibrary.ca/wp-content/uploads/2025/02/b1f291d7a92e873a719cb17ac684b384.jpg
END:VEVENT
BEGIN:VEVENT
DTSTART;TZID=America/Toronto:20260326T110000
DTEND;TZID=America/Toronto:20260326T120000
DTSTAMP:20260423T084946
CREATED:20260109T165546Z
LAST-MODIFIED:20260326T082438Z
UID:10006415-1774522800-1774526400@wasagabeachpubliclibrary.ca
SUMMARY:1 on 1 Tech Help
DESCRIPTION:1-on-1 appointments to help guide you through your any and all of your technology challenges.
URL:https://wasagabeachpubliclibrary.ca/events/1-on-1-tech-help-99/
LOCATION:Wasaga Beach Public Library\, 544 River Road West\, Wasaga Beach\, ON\, L9Z 2P1\, Canada
CATEGORIES:Adult
ATTACH;FMTTYPE=image/jpeg:https://wasagabeachpubliclibrary.ca/wp-content/uploads/2025/06/3e3410a8c6d2a025683138c630ab83c2.jpg
END:VEVENT
BEGIN:VEVENT
DTSTART;TZID=America/Toronto:20260326T130000
DTEND;TZID=America/Toronto:20260326T140000
DTSTAMP:20260423T084946
CREATED:20260109T165546Z
LAST-MODIFIED:20260326T082531Z
UID:10006416-1774530000-1774533600@wasagabeachpubliclibrary.ca
SUMMARY:1 on 1 Tech Help
DESCRIPTION:1-on-1 appointments to help guide you through your any and all of your technology challenges.
URL:https://wasagabeachpubliclibrary.ca/events/1-on-1-tech-help-100/
LOCATION:Wasaga Beach Public Library\, 544 River Road West\, Wasaga Beach\, ON\, L9Z 2P1\, Canada
CATEGORIES:Adult
ATTACH;FMTTYPE=image/jpeg:https://wasagabeachpubliclibrary.ca/wp-content/uploads/2025/06/3e3410a8c6d2a025683138c630ab83c2.jpg
END:VEVENT
BEGIN:VEVENT
DTSTART;TZID=America/Toronto:20260326T183000
DTEND;TZID=America/Toronto:20260326T193000
DTSTAMP:20260423T084946
CREATED:20260104T165538Z
LAST-MODIFIED:20260326T082440Z
UID:10006391-1774549800-1774553400@wasagabeachpubliclibrary.ca
SUMMARY:Books and Banter
DESCRIPTION:Meet up with fellow readers to talk books\, swap ideas\, and enjoy good conversation.
URL:https://wasagabeachpubliclibrary.ca/events/books-and-banter-3/
LOCATION:Wasaga Beach Public Library\, 544 River Road West\, Wasaga Beach\, ON\, L9Z 2P1\, Canada
CATEGORIES:Adult
ATTACH;FMTTYPE=image/jpeg:https://wasagabeachpubliclibrary.ca/wp-content/uploads/2026/01/b6d1f07ebb97ddcc5bd50e977741d65d.jpg
END:VEVENT
BEGIN:VEVENT
DTSTART;TZID=America/Toronto:20260330T133000
DTEND;TZID=America/Toronto:20260330T150000
DTSTAMP:20260423T084946
CREATED:20251217T012319Z
LAST-MODIFIED:20260330T092404Z
UID:10006299-1774877400-1774882800@wasagabeachpubliclibrary.ca
SUMMARY:Stitch & Talk
DESCRIPTION:Enjoy a cozy mix of creativity and conversation.
URL:https://wasagabeachpubliclibrary.ca/events/stitch-talk-12/
LOCATION:Wasaga Beach Public Library\, 544 River Road West\, Wasaga Beach\, ON\, L9Z 2P1\, Canada
CATEGORIES:Adult
ATTACH;FMTTYPE=image/jpeg:https://wasagabeachpubliclibrary.ca/wp-content/uploads/2024/02/7a403526ce149b2f0c6357b04583705e.jpg
END:VEVENT
BEGIN:VEVENT
DTSTART;TZID=America/Toronto:20260331T110000
DTEND;TZID=America/Toronto:20260331T120000
DTSTAMP:20260423T084946
CREATED:20251223T030752Z
LAST-MODIFIED:20260331T152501Z
UID:10006345-1774954800-1774958400@wasagabeachpubliclibrary.ca
SUMMARY:Rhythm of the Beach Drum Circle
DESCRIPTION:Drumming with your hands and getting into the rhythm with the group can be therapeutic\, hypnotic or just plain fun!
URL:https://wasagabeachpubliclibrary.ca/events/rhythm-of-the-beach-drum-circle-107/
LOCATION:Wasaga Beach Public Library\, 544 River Road West\, Wasaga Beach\, ON\, L9Z 2P1\, Canada
CATEGORIES:Adult
ATTACH;FMTTYPE=image/jpeg:https://wasagabeachpubliclibrary.ca/wp-content/uploads/2024/01/8ff99475de3de8b6573bcfdfc5136eff.jpg
END:VEVENT
BEGIN:VEVENT
DTSTART;TZID=America/Toronto:20260331T110000
DTEND;TZID=America/Toronto:20260331T140000
DTSTAMP:20260423T084946
CREATED:20260218T055105Z
LAST-MODIFIED:20260331T093921Z
UID:10006669-1774954800-1774965600@wasagabeachpubliclibrary.ca
SUMMARY:Tech Class: Beginner iPhones and iPads
DESCRIPTION:This beginner-friendly program covers the fundamentals of using your iPhone or iPad.
URL:https://wasagabeachpubliclibrary.ca/events/tech-class-beginner-iphones-and-ipads-3/
LOCATION:Wasaga Beach Public Library\, 544 River Road West\, Wasaga Beach\, ON\, L9Z 2P1\, Canada
CATEGORIES:Adult
ATTACH;FMTTYPE=image/jpeg:https://wasagabeachpubliclibrary.ca/wp-content/uploads/2025/02/108b616b5195dc0f5da84f0028c98686.jpg
END:VEVENT
BEGIN:VEVENT
DTSTART;TZID=America/Toronto:20260331T130000
DTEND;TZID=America/Toronto:20260331T140000
DTSTAMP:20260423T084946
CREATED:20260109T165547Z
LAST-MODIFIED:20260331T093921Z
UID:10006417-1774962000-1774965600@wasagabeachpubliclibrary.ca
SUMMARY:1 on 1 Tech Help
DESCRIPTION:1-on-1 appointments to help guide you through your any and all of your technology challenges.
URL:https://wasagabeachpubliclibrary.ca/events/1-on-1-tech-help-101/
LOCATION:Wasaga Beach Public Library\, 544 River Road West\, Wasaga Beach\, ON\, L9Z 2P1\, Canada
CATEGORIES:Adult
ATTACH;FMTTYPE=image/jpeg:https://wasagabeachpubliclibrary.ca/wp-content/uploads/2025/06/3e3410a8c6d2a025683138c630ab83c2.jpg
END:VEVENT
BEGIN:VEVENT
DTSTART;TZID=America/Toronto:20260331T180000
DTEND;TZID=America/Toronto:20260331T194500
DTSTAMP:20260423T084946
CREATED:20260113T210111Z
LAST-MODIFIED:20260331T093923Z
UID:10006535-1774980000-1774986300@wasagabeachpubliclibrary.ca
SUMMARY:Wasaga Beach Chess Club
DESCRIPTION:Teens & adults: learn chess basics with a short lesson\, then play practice games. Beginners welcome; all levels.
URL:https://wasagabeachpubliclibrary.ca/events/wasaga-beach-chess-club-9/
LOCATION:Wasaga Beach Public Library\, 544 River Road West\, Wasaga Beach\, ON\, L9Z 2P1\, Canada
CATEGORIES:Adult
ATTACH;FMTTYPE=image/jpeg:https://wasagabeachpubliclibrary.ca/wp-content/uploads/2026/01/29dbe7a838dba3af1b810a07c355e838.jpg
END:VEVENT
BEGIN:VEVENT
DTSTART;TZID=America/Toronto:20260401T130000
DTEND;TZID=America/Toronto:20260401T150000
DTSTAMP:20260423T084946
CREATED:20260113T210035Z
LAST-MODIFIED:20260401T182320Z
UID:10006525-1775048400-1775055600@wasagabeachpubliclibrary.ca
SUMMARY:Sew Savvy: Learn Machine Basics (Adults)
DESCRIPTION:Learn the basics of machine sewing in this one-session class for beginners.
URL:https://wasagabeachpubliclibrary.ca/events/sew-savvy-learn-machine-basics-adults-15/
LOCATION:Wasaga Beach Public Library\, 544 River Road West\, Wasaga Beach\, ON\, L9Z 2P1\, Canada
CATEGORIES:Adult
ATTACH;FMTTYPE=image/jpeg:https://wasagabeachpubliclibrary.ca/wp-content/uploads/2025/02/b6fdcafda62ba7e05a69812fe1bedd43.jpg
END:VEVENT
BEGIN:VEVENT
DTSTART;TZID=America/Toronto:20260402T110000
DTEND;TZID=America/Toronto:20260402T123000
DTSTAMP:20260423T084946
CREATED:20260218T054947Z
LAST-MODIFIED:20260401T182323Z
UID:10006661-1775127600-1775133000@wasagabeachpubliclibrary.ca
SUMMARY:Maximizing Your Tax Benefits for Seniors
DESCRIPTION:Join reps from the CRA and Service Canada for Tax Tips for Older Adults 65+.\n\n\nJoin government representatives from the Canada Revenue Agency and Service Canada who will review Old Age Security; the Canada Pension Plan; employer-sponsored pension plans; superannuation; retiring allowance; and personal savings and investments (to include registered retirement savings plans and tax-free savings accounts).
URL:https://wasagabeachpubliclibrary.ca/events/maximizing-your-tax-benefits-for-seniors/
LOCATION:Wasaga Beach Public Library\, 544 River Road West\, Wasaga Beach\, ON\, L9Z 2P1\, Canada
CATEGORIES:Adult
ATTACH;FMTTYPE=image/jpeg:https://wasagabeachpubliclibrary.ca/wp-content/uploads/2026/02/e6bab15915a241839a5a6f3dd986acf4.jpg
END:VEVENT
BEGIN:VEVENT
DTSTART;TZID=America/Toronto:20260402T130000
DTEND;TZID=America/Toronto:20260402T140000
DTSTAMP:20260423T084946
CREATED:20251217T012213Z
LAST-MODIFIED:20260402T153940Z
UID:10006218-1775134800-1775138400@wasagabeachpubliclibrary.ca
SUMMARY:Bring Your Own Book Club
DESCRIPTION:Join this “virtual book club” via ZOOM where you BYOB – bring your own book!
URL:https://wasagabeachpubliclibrary.ca/events/bring-your-own-book-club-78/
LOCATION:ON
CATEGORIES:Adult
ATTACH;FMTTYPE=image/jpeg:https://wasagabeachpubliclibrary.ca/wp-content/uploads/2026/01/32b2cdc7667cab5b2f0d65638b25948b.jpg
END:VEVENT
BEGIN:VEVENT
DTSTART;TZID=America/Toronto:20260402T130000
DTEND;TZID=America/Toronto:20260402T140000
DTSTAMP:20260423T084946
CREATED:20260109T165548Z
LAST-MODIFIED:20260401T182321Z
UID:10006418-1775134800-1775138400@wasagabeachpubliclibrary.ca
SUMMARY:1 on 1 Tech Help
DESCRIPTION:1-on-1 appointments to help guide you through your any and all of your technology challenges.
URL:https://wasagabeachpubliclibrary.ca/events/1-on-1-tech-help-102/
LOCATION:Wasaga Beach Public Library\, 544 River Road West\, Wasaga Beach\, ON\, L9Z 2P1\, Canada
CATEGORIES:Adult
ATTACH;FMTTYPE=image/jpeg:https://wasagabeachpubliclibrary.ca/wp-content/uploads/2025/06/3e3410a8c6d2a025683138c630ab83c2.jpg
END:VEVENT
BEGIN:VEVENT
DTSTART;TZID=America/Toronto:20260407T110000
DTEND;TZID=America/Toronto:20260407T120000
DTSTAMP:20260423T084946
CREATED:20251223T030753Z
LAST-MODIFIED:20260406T160847Z
UID:10006346-1775559600-1775563200@wasagabeachpubliclibrary.ca
SUMMARY:Rhythm of the Beach Drum Circle
DESCRIPTION:Drumming with your hands and getting into the rhythm with the group can be therapeutic\, hypnotic or just plain fun!
URL:https://wasagabeachpubliclibrary.ca/events/rhythm-of-the-beach-drum-circle-108/
LOCATION:Wasaga Beach Public Library\, 544 River Road West\, Wasaga Beach\, ON\, L9Z 2P1\, Canada
CATEGORIES:Adult
ATTACH;FMTTYPE=image/jpeg:https://wasagabeachpubliclibrary.ca/wp-content/uploads/2024/01/8ff99475de3de8b6573bcfdfc5136eff.jpg
END:VEVENT
BEGIN:VEVENT
DTSTART;TZID=America/Toronto:20260407T110000
DTEND;TZID=America/Toronto:20260407T120000
DTSTAMP:20260423T084946
CREATED:20260309T172424Z
LAST-MODIFIED:20260406T160847Z
UID:10006703-1775559600-1775563200@wasagabeachpubliclibrary.ca
SUMMARY:1 on 1 Tech Help
DESCRIPTION:1-on-1 appointments to help guide you through your any and all of your technology challenges.
URL:https://wasagabeachpubliclibrary.ca/events/1-on-1-tech-help-103/
LOCATION:Wasaga Beach Public Library\, 544 River Road West\, Wasaga Beach\, ON\, L9Z 2P1\, Canada
CATEGORIES:Adult
ATTACH;FMTTYPE=image/jpeg:https://wasagabeachpubliclibrary.ca/wp-content/uploads/2025/06/3e3410a8c6d2a025683138c630ab83c2.jpg
END:VEVENT
BEGIN:VEVENT
DTSTART;TZID=America/Toronto:20260407T130000
DTEND;TZID=America/Toronto:20260407T140000
DTSTAMP:20260423T084946
CREATED:20260309T172427Z
LAST-MODIFIED:20260407T162311Z
UID:10006704-1775566800-1775570400@wasagabeachpubliclibrary.ca
SUMMARY:1 on 1 Tech Help
DESCRIPTION:1-on-1 appointments to help guide you through your any and all of your technology challenges.
URL:https://wasagabeachpubliclibrary.ca/events/1-on-1-tech-help-104/
LOCATION:Wasaga Beach Public Library\, 544 River Road West\, Wasaga Beach\, ON\, L9Z 2P1\, Canada
CATEGORIES:Adult
ATTACH;FMTTYPE=image/jpeg:https://wasagabeachpubliclibrary.ca/wp-content/uploads/2025/06/3e3410a8c6d2a025683138c630ab83c2.jpg
END:VEVENT
BEGIN:VEVENT
DTSTART;TZID=America/Toronto:20260409T110000
DTEND;TZID=America/Toronto:20260409T120000
DTSTAMP:20260423T084946
CREATED:20260309T172427Z
LAST-MODIFIED:20260409T033836Z
UID:10006705-1775732400-1775736000@wasagabeachpubliclibrary.ca
SUMMARY:1 on 1 Tech Help
DESCRIPTION:1-on-1 appointments to help guide you through your any and all of your technology challenges.
URL:https://wasagabeachpubliclibrary.ca/events/1-on-1-tech-help-105/
LOCATION:Wasaga Beach Public Library\, 544 River Road West\, Wasaga Beach\, ON\, L9Z 2P1\, Canada
CATEGORIES:Adult
ATTACH;FMTTYPE=image/jpeg:https://wasagabeachpubliclibrary.ca/wp-content/uploads/2025/06/3e3410a8c6d2a025683138c630ab83c2.jpg
END:VEVENT
BEGIN:VEVENT
DTSTART;TZID=America/Toronto:20260409T130000
DTEND;TZID=America/Toronto:20260409T140000
DTSTAMP:20260423T084946
CREATED:20260309T172428Z
LAST-MODIFIED:20260409T033922Z
UID:10006706-1775739600-1775743200@wasagabeachpubliclibrary.ca
SUMMARY:1 on 1 Tech Help
DESCRIPTION:1-on-1 appointments to help guide you through your any and all of your technology challenges.
URL:https://wasagabeachpubliclibrary.ca/events/1-on-1-tech-help-106/
LOCATION:Wasaga Beach Public Library\, 544 River Road West\, Wasaga Beach\, ON\, L9Z 2P1\, Canada
CATEGORIES:Adult
ATTACH;FMTTYPE=image/jpeg:https://wasagabeachpubliclibrary.ca/wp-content/uploads/2025/06/3e3410a8c6d2a025683138c630ab83c2.jpg
END:VEVENT
BEGIN:VEVENT
DTSTART;TZID=America/Toronto:20260410T150000
DTEND;TZID=America/Toronto:20260410T163000
DTSTAMP:20260423T084946
CREATED:20260113T205851Z
LAST-MODIFIED:20260206T223754Z
UID:10006512-1775833200-1775838600@wasagabeachpubliclibrary.ca
SUMMARY:Friday Afternoon Book Club
DESCRIPTION:Join the fun! Friday Afternoon Book Club usually meets on the 1st & 3rd Fridays of each month. This group is fragrance-free.
URL:https://wasagabeachpubliclibrary.ca/events/friday-afternoon-book-club-89/
LOCATION:Wasaga Beach Public Library\, 544 River Road West\, Wasaga Beach\, ON\, L9Z 2P1\, Canada
CATEGORIES:Adult
ATTACH;FMTTYPE=image/jpeg:https://wasagabeachpubliclibrary.ca/wp-content/uploads/2024/01/34db741846911495712a19821f5b3af0-1.jpg
END:VEVENT
BEGIN:VEVENT
DTSTART;TZID=America/Toronto:20260410T180000
DTEND;TZID=America/Toronto:20260410T194500
DTSTAMP:20260423T084946
CREATED:20260323T160826Z
LAST-MODIFIED:20260410T035423Z
UID:10006736-1775844000-1775850300@wasagabeachpubliclibrary.ca
SUMMARY:Drop In Board Games & Cards for Adults
DESCRIPTION:Love board games and cards?  Drop in for a casual Friday night out just for adults.
URL:https://wasagabeachpubliclibrary.ca/events/drop-in-board-games-cards-for-adults/
LOCATION:Wasaga Beach Public Library\, 544 River Road West\, Wasaga Beach\, ON\, L9Z 2P1\, Canada
CATEGORIES:Adult
ATTACH;FMTTYPE=image/jpeg:https://wasagabeachpubliclibrary.ca/wp-content/uploads/2026/03/e01b4ebe88e96b27d0c8db3b5cdfb173.jpg
END:VEVENT
BEGIN:VEVENT
DTSTART;TZID=America/Toronto:20260412T103000
DTEND;TZID=America/Toronto:20260412T120000
DTSTAMP:20260423T084946
CREATED:20260317T035423Z
LAST-MODIFIED:20260412T042347Z
UID:10006715-1775989800-1775995200@wasagabeachpubliclibrary.ca
SUMMARY:The Write Connection: Style
DESCRIPTION:Calling all writers!\n\n\n📌 Ages: Adults💳 Wasaga Beach Public Library card required for registration. \nThe Write Connection welcomes writers of all levels to explore elements of writing\, partake in in-class writing exercises\, and grow their writing skills! \nFree to participate. Please bring something to write in. \nIf plans change after registration and you can no longer make it\, please let us know so others can be invited to take your spot.
URL:https://wasagabeachpubliclibrary.ca/events/the-write-connection-style/
LOCATION:Wasaga Beach Public Library\, 544 River Road West\, Wasaga Beach\, ON\, L9Z 2P1\, Canada
CATEGORIES:Adult
ATTACH;FMTTYPE=image/jpeg:https://wasagabeachpubliclibrary.ca/wp-content/uploads/2025/11/bafbe46d56ff1e4fd0d5f0be0edecda0.jpg
END:VEVENT
BEGIN:VEVENT
DTSTART;TZID=America/Toronto:20260412T130000
DTEND;TZID=America/Toronto:20260412T153000
DTSTAMP:20260423T084946
CREATED:20260304T153520Z
LAST-MODIFIED:20260412T042347Z
UID:10006697-1775998800-1776007800@wasagabeachpubliclibrary.ca
SUMMARY:Make a Wet Felted Bowl (Adults)
DESCRIPTION:Learn the basics of wet felting and turn wool into a unique\, eco-friendly bowl or plant holder.\n\n\n📌 Ages: Adults💳 Wasaga Beach Public Library card required for registration. \nJoin Shirley to discover the magic of turning wool into beautiful eco-friendly felt vessels.  You will learn the basics of wet felting techniques using an inflatable ball as a resist to create your own one-of-a kind creation.  Your finished vessel will be about 6” in height.  Awaken your creative side and find joy in the art of the handmade! \nPlease bring a dark bath or beach towel to assist you with the messy part of the process! \nFree. All supplies provided.
URL:https://wasagabeachpubliclibrary.ca/events/make-a-wet-felted-bowl-adults/
LOCATION:Wasaga Beach Public Library\, 544 River Road West\, Wasaga Beach\, ON\, L9Z 2P1\, Canada
CATEGORIES:Adult
ATTACH;FMTTYPE=image/jpeg:https://wasagabeachpubliclibrary.ca/wp-content/uploads/2026/03/93ac7d0af5dbc64ef60d92fbdfa6ad46.jpg
END:VEVENT
BEGIN:VEVENT
DTSTART;TZID=America/Toronto:20260413T133000
DTEND;TZID=America/Toronto:20260413T150000
DTSTAMP:20260423T084946
CREATED:20251217T012320Z
LAST-MODIFIED:20260413T043826Z
UID:10006300-1776087000-1776092400@wasagabeachpubliclibrary.ca
SUMMARY:Stitch & Talk
DESCRIPTION:Enjoy a cozy mix of creativity and conversation.
URL:https://wasagabeachpubliclibrary.ca/events/stitch-talk-13/
LOCATION:Wasaga Beach Public Library\, 544 River Road West\, Wasaga Beach\, ON\, L9Z 2P1\, Canada
CATEGORIES:Adult
ATTACH;FMTTYPE=image/jpeg:https://wasagabeachpubliclibrary.ca/wp-content/uploads/2024/02/7a403526ce149b2f0c6357b04583705e.jpg
END:VEVENT
END:VCALENDAR