BEGIN:VCALENDAR
VERSION:2.0
PRODID:-//Wasaga Beach Public Library - ECPv6.15.20//NONSGML v1.0//EN
CALSCALE:GREGORIAN
METHOD:PUBLISH
X-ORIGINAL-URL:https://wasagabeachpubliclibrary.ca
X-WR-CALDESC:Events for Wasaga Beach Public Library
REFRESH-INTERVAL;VALUE=DURATION:PT1H
X-Robots-Tag:noindex
X-PUBLISHED-TTL:PT1H
BEGIN:VTIMEZONE
TZID:America/Toronto
BEGIN:DAYLIGHT
TZOFFSETFROM:-0500
TZOFFSETTO:-0400
TZNAME:EDT
DTSTART:20250309T070000
END:DAYLIGHT
BEGIN:STANDARD
TZOFFSETFROM:-0400
TZOFFSETTO:-0500
TZNAME:EST
DTSTART:20251102T060000
END:STANDARD
BEGIN:DAYLIGHT
TZOFFSETFROM:-0500
TZOFFSETTO:-0400
TZNAME:EDT
DTSTART:20260308T070000
END:DAYLIGHT
BEGIN:STANDARD
TZOFFSETFROM:-0400
TZOFFSETTO:-0500
TZNAME:EST
DTSTART:20261101T060000
END:STANDARD
BEGIN:DAYLIGHT
TZOFFSETFROM:-0500
TZOFFSETTO:-0400
TZNAME:EDT
DTSTART:20270314T070000
END:DAYLIGHT
BEGIN:STANDARD
TZOFFSETFROM:-0400
TZOFFSETTO:-0500
TZNAME:EST
DTSTART:20271107T060000
END:STANDARD
END:VTIMEZONE
BEGIN:VEVENT
DTSTART;TZID=America/Toronto:20260125T130000
DTEND;TZID=America/Toronto:20260125T140000
DTSTAMP:20260421T070945
CREATED:20251128T122201Z
LAST-MODIFIED:20260125T103629Z
UID:10006047-1769346000-1769349600@wasagabeachpubliclibrary.ca
SUMMARY:Poetry Reading with Bianca Lakoseljac
DESCRIPTION:Join us for a poetry reading with local writer Bianca Lakoseljac.\n\n\nBianca Lakoseljac is an award-winning local novelist\, short story writer\, essayist\, and poet. She is pleased to celebrate the launch of her newly released second poetry collection\, Silence is Full of Sound. Following the reading\, participants will have the opportunity to purchase signed copies of her poetry book for $20. All are welcome!
URL:https://wasagabeachpubliclibrary.ca/events/poetry-reading-with-bianca-lakoseljac/
LOCATION:Wasaga Beach Public Library\, 544 River Road West\, Wasaga Beach\, ON\, L9Z 2P1\, Canada
CATEGORIES:Adult
ATTACH;FMTTYPE=image/jpeg:https://wasagabeachpubliclibrary.ca/wp-content/uploads/2025/11/a78da117529f8de923c2fe3e1a8f6dc8.jpg
END:VEVENT
BEGIN:VEVENT
DTSTART;TZID=America/Toronto:20260126T133000
DTEND;TZID=America/Toronto:20260126T150000
DTSTAMP:20260421T070945
CREATED:20251217T012317Z
LAST-MODIFIED:20260126T011755Z
UID:10006291-1769434200-1769439600@wasagabeachpubliclibrary.ca
SUMMARY:Stitch & Talk
DESCRIPTION:Enjoy a cozy mix of creativity and conversation.
URL:https://wasagabeachpubliclibrary.ca/events/stitch-talk-4/
LOCATION:Wasaga Beach Public Library\, 544 River Road West\, Wasaga Beach\, ON\, L9Z 2P1\, Canada
CATEGORIES:Adult
ATTACH;FMTTYPE=image/jpeg:https://wasagabeachpubliclibrary.ca/wp-content/uploads/2024/02/7a403526ce149b2f0c6357b04583705e.jpg
END:VEVENT
BEGIN:VEVENT
DTSTART;TZID=America/Toronto:20260127T110000
DTEND;TZID=America/Toronto:20260127T120000
DTSTAMP:20260421T070945
CREATED:20251203T142213Z
LAST-MODIFIED:20260127T012839Z
UID:10006089-1769511600-1769515200@wasagabeachpubliclibrary.ca
SUMMARY:1 on 1 Tech Help
DESCRIPTION:1-on-1 appointments to help guide you through your any and all of your technology challenges.
URL:https://wasagabeachpubliclibrary.ca/events/1-on-1-tech-help-79/
LOCATION:Wasaga Beach Public Library\, 544 River Road West\, Wasaga Beach\, ON\, L9Z 2P1\, Canada
CATEGORIES:Adult
ATTACH;FMTTYPE=image/jpeg:https://wasagabeachpubliclibrary.ca/wp-content/uploads/2025/06/3e3410a8c6d2a025683138c630ab83c2.jpg
END:VEVENT
BEGIN:VEVENT
DTSTART;TZID=America/Toronto:20260127T110000
DTEND;TZID=America/Toronto:20260127T120000
DTSTAMP:20260421T070945
CREATED:20251223T030749Z
LAST-MODIFIED:20260127T012837Z
UID:10006337-1769511600-1769515200@wasagabeachpubliclibrary.ca
SUMMARY:Rhythm of the Beach Drum Circle
DESCRIPTION:Drumming with your hands and getting into the rhythm with the group can be therapeutic\, hypnotic or just plain fun!
URL:https://wasagabeachpubliclibrary.ca/events/rhythm-of-the-beach-drum-circle-99/
LOCATION:Wasaga Beach Public Library\, 544 River Road West\, Wasaga Beach\, ON\, L9Z 2P1\, Canada
CATEGORIES:Adult
ATTACH;FMTTYPE=image/jpeg:https://wasagabeachpubliclibrary.ca/wp-content/uploads/2024/01/8ff99475de3de8b6573bcfdfc5136eff.jpg
END:VEVENT
BEGIN:VEVENT
DTSTART;TZID=America/Toronto:20260127T130000
DTEND;TZID=America/Toronto:20260127T140000
DTSTAMP:20260421T070945
CREATED:20251203T142214Z
LAST-MODIFIED:20260127T013022Z
UID:10006090-1769518800-1769522400@wasagabeachpubliclibrary.ca
SUMMARY:1 on 1 Tech Help
DESCRIPTION:1-on-1 appointments to help guide you through your any and all of your technology challenges.
URL:https://wasagabeachpubliclibrary.ca/events/1-on-1-tech-help-80/
LOCATION:Wasaga Beach Public Library\, 544 River Road West\, Wasaga Beach\, ON\, L9Z 2P1\, Canada
CATEGORIES:Adult
ATTACH;FMTTYPE=image/jpeg:https://wasagabeachpubliclibrary.ca/wp-content/uploads/2025/06/3e3410a8c6d2a025683138c630ab83c2.jpg
END:VEVENT
BEGIN:VEVENT
DTSTART;TZID=America/Toronto:20260127T190000
DTEND;TZID=America/Toronto:20260127T210000
DTSTAMP:20260421T070945
CREATED:20251010T213604Z
LAST-MODIFIED:20260127T012846Z
UID:10005549-1769540400-1769547600@wasagabeachpubliclibrary.ca
SUMMARY:Wasaga Writers Club
DESCRIPTION:Experienced and amateur writers are welcome to join meetings to share writing\, seek critiques and enjoy the creative process.
URL:https://wasagabeachpubliclibrary.ca/events/wasaga-writers-club-21/
LOCATION:Wasaga Beach Public Library\, 544 River Road West\, Wasaga Beach\, ON\, L9Z 2P1\, Canada
CATEGORIES:Adult
ATTACH;FMTTYPE=image/jpeg:https://wasagabeachpubliclibrary.ca/wp-content/uploads/2026/01/4b4d8a1beb4e122c3357839f04d9ad55.jpg
END:VEVENT
BEGIN:VEVENT
DTSTART;TZID=America/Toronto:20260129T110000
DTEND;TZID=America/Toronto:20260129T120000
DTSTAMP:20260421T070945
CREATED:20251203T142214Z
LAST-MODIFIED:20260127T013022Z
UID:10006091-1769684400-1769688000@wasagabeachpubliclibrary.ca
SUMMARY:1 on 1 Tech Help
DESCRIPTION:1-on-1 appointments to help guide you through your any and all of your technology challenges.
URL:https://wasagabeachpubliclibrary.ca/events/1-on-1-tech-help-81/
LOCATION:Wasaga Beach Public Library\, 544 River Road West\, Wasaga Beach\, ON\, L9Z 2P1\, Canada
CATEGORIES:Adult
ATTACH;FMTTYPE=image/jpeg:https://wasagabeachpubliclibrary.ca/wp-content/uploads/2025/06/3e3410a8c6d2a025683138c630ab83c2.jpg
END:VEVENT
BEGIN:VEVENT
DTSTART;TZID=America/Toronto:20260129T130000
DTEND;TZID=America/Toronto:20260129T140000
DTSTAMP:20260421T070945
CREATED:20251203T142214Z
LAST-MODIFIED:20260129T172235Z
UID:10006092-1769691600-1769695200@wasagabeachpubliclibrary.ca
SUMMARY:1 on 1 Tech Help
DESCRIPTION:1-on-1 appointments to help guide you through your any and all of your technology challenges.
URL:https://wasagabeachpubliclibrary.ca/events/1-on-1-tech-help-82/
LOCATION:Wasaga Beach Public Library\, 544 River Road West\, Wasaga Beach\, ON\, L9Z 2P1\, Canada
CATEGORIES:Adult
ATTACH;FMTTYPE=image/jpeg:https://wasagabeachpubliclibrary.ca/wp-content/uploads/2025/06/3e3410a8c6d2a025683138c630ab83c2.jpg
END:VEVENT
BEGIN:VEVENT
DTSTART;TZID=America/Toronto:20260129T183000
DTEND;TZID=America/Toronto:20260129T193000
DTSTAMP:20260421T070945
CREATED:20260104T165352Z
LAST-MODIFIED:20260129T172426Z
UID:10006388-1769711400-1769715000@wasagabeachpubliclibrary.ca
SUMMARY:Books and Banter
DESCRIPTION:Meet up with fellow readers to talk books\, swap ideas\, and enjoy good conversation.
URL:https://wasagabeachpubliclibrary.ca/events/books-and-banter/
LOCATION:Wasaga Beach Public Library\, 544 River Road West\, Wasaga Beach\, ON\, L9Z 2P1\, Canada
CATEGORIES:Adult
ATTACH;FMTTYPE=image/jpeg:https://wasagabeachpubliclibrary.ca/wp-content/uploads/2026/01/b6d1f07ebb97ddcc5bd50e977741d65d.jpg
END:VEVENT
END:VCALENDAR