BEGIN:VCALENDAR
VERSION:2.0
PRODID:-//Wasaga Beach Public Library - ECPv6.15.20//NONSGML v1.0//EN
CALSCALE:GREGORIAN
METHOD:PUBLISH
X-ORIGINAL-URL:https://wasagabeachpubliclibrary.ca
X-WR-CALDESC:Events for Wasaga Beach Public Library
REFRESH-INTERVAL;VALUE=DURATION:PT1H
X-Robots-Tag:noindex
X-PUBLISHED-TTL:PT1H
BEGIN:VTIMEZONE
TZID:America/Toronto
BEGIN:DAYLIGHT
TZOFFSETFROM:-0500
TZOFFSETTO:-0400
TZNAME:EDT
DTSTART:20250309T070000
END:DAYLIGHT
BEGIN:STANDARD
TZOFFSETFROM:-0400
TZOFFSETTO:-0500
TZNAME:EST
DTSTART:20251102T060000
END:STANDARD
BEGIN:DAYLIGHT
TZOFFSETFROM:-0500
TZOFFSETTO:-0400
TZNAME:EDT
DTSTART:20260308T070000
END:DAYLIGHT
BEGIN:STANDARD
TZOFFSETFROM:-0400
TZOFFSETTO:-0500
TZNAME:EST
DTSTART:20261101T060000
END:STANDARD
BEGIN:DAYLIGHT
TZOFFSETFROM:-0500
TZOFFSETTO:-0400
TZNAME:EDT
DTSTART:20270314T070000
END:DAYLIGHT
BEGIN:STANDARD
TZOFFSETFROM:-0400
TZOFFSETTO:-0500
TZNAME:EST
DTSTART:20271107T060000
END:STANDARD
END:VTIMEZONE
BEGIN:VEVENT
DTSTART;TZID=America/Toronto:20260323T133000
DTEND;TZID=America/Toronto:20260323T150000
DTSTAMP:20260425T111441
CREATED:20251217T012319Z
LAST-MODIFIED:20260323T160821Z
UID:10006298-1774272600-1774278000@wasagabeachpubliclibrary.ca
SUMMARY:Stitch & Talk
DESCRIPTION:Enjoy a cozy mix of creativity and conversation.
URL:https://wasagabeachpubliclibrary.ca/events/stitch-talk-11/
LOCATION:Wasaga Beach Public Library\, 544 River Road West\, Wasaga Beach\, ON\, L9Z 2P1\, Canada
CATEGORIES:Adult
ATTACH;FMTTYPE=image/jpeg:https://wasagabeachpubliclibrary.ca/wp-content/uploads/2024/02/7a403526ce149b2f0c6357b04583705e.jpg
END:VEVENT
BEGIN:VEVENT
DTSTART;TZID=America/Toronto:20260324T110000
DTEND;TZID=America/Toronto:20260324T120000
DTSTAMP:20260425T111441
CREATED:20251223T030752Z
LAST-MODIFIED:20260323T211016Z
UID:10006344-1774350000-1774353600@wasagabeachpubliclibrary.ca
SUMMARY:Rhythm of the Beach Drum Circle
DESCRIPTION:Drumming with your hands and getting into the rhythm with the group can be therapeutic\, hypnotic or just plain fun!
URL:https://wasagabeachpubliclibrary.ca/events/rhythm-of-the-beach-drum-circle-106/
LOCATION:Wasaga Beach Public Library\, 544 River Road West\, Wasaga Beach\, ON\, L9Z 2P1\, Canada
CATEGORIES:Adult
ATTACH;FMTTYPE=image/jpeg:https://wasagabeachpubliclibrary.ca/wp-content/uploads/2024/01/8ff99475de3de8b6573bcfdfc5136eff.jpg
END:VEVENT
BEGIN:VEVENT
DTSTART;TZID=America/Toronto:20260324T110000
DTEND;TZID=America/Toronto:20260324T120000
DTSTAMP:20260425T111441
CREATED:20260109T165544Z
LAST-MODIFIED:20260323T211225Z
UID:10006413-1774350000-1774353600@wasagabeachpubliclibrary.ca
SUMMARY:1 on 1 Tech Help
DESCRIPTION:1-on-1 appointments to help guide you through your any and all of your technology challenges.
URL:https://wasagabeachpubliclibrary.ca/events/1-on-1-tech-help-97/
LOCATION:Wasaga Beach Public Library\, 544 River Road West\, Wasaga Beach\, ON\, L9Z 2P1\, Canada
CATEGORIES:Adult
ATTACH;FMTTYPE=image/jpeg:https://wasagabeachpubliclibrary.ca/wp-content/uploads/2025/06/3e3410a8c6d2a025683138c630ab83c2.jpg
END:VEVENT
BEGIN:VEVENT
DTSTART;TZID=America/Toronto:20260324T130000
DTEND;TZID=America/Toronto:20260324T140000
DTSTAMP:20260425T111441
CREATED:20260109T165346Z
LAST-MODIFIED:20260323T211351Z
UID:10006397-1774357200-1774360800@wasagabeachpubliclibrary.ca
SUMMARY:Advance Care Planning
DESCRIPTION:It’s not too early to plan for future changes in your health care needs.\n\n\nJoin this informative presentation led by a representative from Hospice Palliative Care Ontario to learn more about planning ahead for changes in life and health circumstances. Participants will explore the values\, beliefs\, and wishes that guide future care decisions\, and learn how to make those wishes known in the event you are unable to communicate or participate in decision-making. \nTopics covered include: \n• The role of a Substitute Decision Maker and how to choose and prepare them• Key legal considerations• Power of Attorney documentation• When and how to have conversations with loved ones \nWhile registration is encouraged\, drop-ins are welcome.
URL:https://wasagabeachpubliclibrary.ca/events/advance-care-planning/
LOCATION:Wasaga Beach Public Library\, 544 River Road West\, Wasaga Beach\, ON\, L9Z 2P1\, Canada
CATEGORIES:Adult
ATTACH;FMTTYPE=image/jpeg:https://wasagabeachpubliclibrary.ca/wp-content/uploads/2026/01/53612cf34e98c4b2ca9a540645fdbb76.jpg
END:VEVENT
BEGIN:VEVENT
DTSTART;TZID=America/Toronto:20260324T130000
DTEND;TZID=America/Toronto:20260324T140000
DTSTAMP:20260425T111441
CREATED:20260109T165545Z
LAST-MODIFIED:20260323T211225Z
UID:10006414-1774357200-1774360800@wasagabeachpubliclibrary.ca
SUMMARY:1 on 1 Tech Help
DESCRIPTION:1-on-1 appointments to help guide you through your any and all of your technology challenges.
URL:https://wasagabeachpubliclibrary.ca/events/1-on-1-tech-help-98/
LOCATION:Wasaga Beach Public Library\, 544 River Road West\, Wasaga Beach\, ON\, L9Z 2P1\, Canada
CATEGORIES:Adult
ATTACH;FMTTYPE=image/jpeg:https://wasagabeachpubliclibrary.ca/wp-content/uploads/2025/06/3e3410a8c6d2a025683138c630ab83c2.jpg
END:VEVENT
BEGIN:VEVENT
DTSTART;TZID=America/Toronto:20260324T180000
DTEND;TZID=America/Toronto:20260324T194500
DTSTAMP:20260425T111441
CREATED:20260113T210110Z
LAST-MODIFIED:20260323T211351Z
UID:10006534-1774375200-1774381500@wasagabeachpubliclibrary.ca
SUMMARY:Wasaga Beach Chess Club
DESCRIPTION:Teens & adults: learn chess basics with a short lesson\, then play practice games. Beginners welcome; all levels.
URL:https://wasagabeachpubliclibrary.ca/events/wasaga-beach-chess-club-8/
LOCATION:Wasaga Beach Public Library\, 544 River Road West\, Wasaga Beach\, ON\, L9Z 2P1\, Canada
CATEGORIES:Adult
ATTACH;FMTTYPE=image/jpeg:https://wasagabeachpubliclibrary.ca/wp-content/uploads/2026/01/29dbe7a838dba3af1b810a07c355e838.jpg
END:VEVENT
BEGIN:VEVENT
DTSTART;TZID=America/Toronto:20260325T130000
DTEND;TZID=America/Toronto:20260325T150000
DTSTAMP:20260425T111441
CREATED:20260113T210038Z
LAST-MODIFIED:20260325T000900Z
UID:10006527-1774443600-1774450800@wasagabeachpubliclibrary.ca
SUMMARY:Sew Savvy Open Studio (Adults)
DESCRIPTION:Join us for Sew Savvy: Open Studio\, where you’ll have access to an on-site sewing coach ready to support you every step of the way.
URL:https://wasagabeachpubliclibrary.ca/events/sew-savvy-open-studio-adults-11/
LOCATION:Wasaga Beach Public Library\, 544 River Road West\, Wasaga Beach\, ON\, L9Z 2P1\, Canada
CATEGORIES:Adult
ATTACH;FMTTYPE=image/jpeg:https://wasagabeachpubliclibrary.ca/wp-content/uploads/2025/02/b1f291d7a92e873a719cb17ac684b384.jpg
END:VEVENT
BEGIN:VEVENT
DTSTART;TZID=America/Toronto:20260326T110000
DTEND;TZID=America/Toronto:20260326T120000
DTSTAMP:20260425T111441
CREATED:20260109T165546Z
LAST-MODIFIED:20260326T082438Z
UID:10006415-1774522800-1774526400@wasagabeachpubliclibrary.ca
SUMMARY:1 on 1 Tech Help
DESCRIPTION:1-on-1 appointments to help guide you through your any and all of your technology challenges.
URL:https://wasagabeachpubliclibrary.ca/events/1-on-1-tech-help-99/
LOCATION:Wasaga Beach Public Library\, 544 River Road West\, Wasaga Beach\, ON\, L9Z 2P1\, Canada
CATEGORIES:Adult
ATTACH;FMTTYPE=image/jpeg:https://wasagabeachpubliclibrary.ca/wp-content/uploads/2025/06/3e3410a8c6d2a025683138c630ab83c2.jpg
END:VEVENT
BEGIN:VEVENT
DTSTART;TZID=America/Toronto:20260326T130000
DTEND;TZID=America/Toronto:20260326T140000
DTSTAMP:20260425T111441
CREATED:20260109T165546Z
LAST-MODIFIED:20260326T082531Z
UID:10006416-1774530000-1774533600@wasagabeachpubliclibrary.ca
SUMMARY:1 on 1 Tech Help
DESCRIPTION:1-on-1 appointments to help guide you through your any and all of your technology challenges.
URL:https://wasagabeachpubliclibrary.ca/events/1-on-1-tech-help-100/
LOCATION:Wasaga Beach Public Library\, 544 River Road West\, Wasaga Beach\, ON\, L9Z 2P1\, Canada
CATEGORIES:Adult
ATTACH;FMTTYPE=image/jpeg:https://wasagabeachpubliclibrary.ca/wp-content/uploads/2025/06/3e3410a8c6d2a025683138c630ab83c2.jpg
END:VEVENT
BEGIN:VEVENT
DTSTART;TZID=America/Toronto:20260326T183000
DTEND;TZID=America/Toronto:20260326T193000
DTSTAMP:20260425T111441
CREATED:20260104T165538Z
LAST-MODIFIED:20260326T082440Z
UID:10006391-1774549800-1774553400@wasagabeachpubliclibrary.ca
SUMMARY:Books and Banter
DESCRIPTION:Meet up with fellow readers to talk books\, swap ideas\, and enjoy good conversation.
URL:https://wasagabeachpubliclibrary.ca/events/books-and-banter-3/
LOCATION:Wasaga Beach Public Library\, 544 River Road West\, Wasaga Beach\, ON\, L9Z 2P1\, Canada
CATEGORIES:Adult
ATTACH;FMTTYPE=image/jpeg:https://wasagabeachpubliclibrary.ca/wp-content/uploads/2026/01/b6d1f07ebb97ddcc5bd50e977741d65d.jpg
END:VEVENT
END:VCALENDAR