BEGIN:VCALENDAR
VERSION:2.0
PRODID:-//Wasaga Beach Public Library - ECPv6.15.20//NONSGML v1.0//EN
CALSCALE:GREGORIAN
METHOD:PUBLISH
X-ORIGINAL-URL:https://wasagabeachpubliclibrary.ca
X-WR-CALDESC:Events for Wasaga Beach Public Library
REFRESH-INTERVAL;VALUE=DURATION:PT1H
X-Robots-Tag:noindex
X-PUBLISHED-TTL:PT1H
BEGIN:VTIMEZONE
TZID:America/Toronto
BEGIN:DAYLIGHT
TZOFFSETFROM:-0500
TZOFFSETTO:-0400
TZNAME:EDT
DTSTART:20250309T070000
END:DAYLIGHT
BEGIN:STANDARD
TZOFFSETFROM:-0400
TZOFFSETTO:-0500
TZNAME:EST
DTSTART:20251102T060000
END:STANDARD
BEGIN:DAYLIGHT
TZOFFSETFROM:-0500
TZOFFSETTO:-0400
TZNAME:EDT
DTSTART:20260308T070000
END:DAYLIGHT
BEGIN:STANDARD
TZOFFSETFROM:-0400
TZOFFSETTO:-0500
TZNAME:EST
DTSTART:20261101T060000
END:STANDARD
BEGIN:DAYLIGHT
TZOFFSETFROM:-0500
TZOFFSETTO:-0400
TZNAME:EDT
DTSTART:20270314T070000
END:DAYLIGHT
BEGIN:STANDARD
TZOFFSETFROM:-0400
TZOFFSETTO:-0500
TZNAME:EST
DTSTART:20271107T060000
END:STANDARD
END:VTIMEZONE
BEGIN:VEVENT
DTSTART;TZID=America/Toronto:20260412T103000
DTEND;TZID=America/Toronto:20260412T120000
DTSTAMP:20260425T082829
CREATED:20260317T035423Z
LAST-MODIFIED:20260412T042347Z
UID:10006715-1775989800-1775995200@wasagabeachpubliclibrary.ca
SUMMARY:The Write Connection: Style
DESCRIPTION:Calling all writers!\n\n\n📌 Ages: Adults💳 Wasaga Beach Public Library card required for registration. \nThe Write Connection welcomes writers of all levels to explore elements of writing\, partake in in-class writing exercises\, and grow their writing skills! \nFree to participate. Please bring something to write in. \nIf plans change after registration and you can no longer make it\, please let us know so others can be invited to take your spot.
URL:https://wasagabeachpubliclibrary.ca/events/the-write-connection-style/
LOCATION:Wasaga Beach Public Library\, 544 River Road West\, Wasaga Beach\, ON\, L9Z 2P1\, Canada
CATEGORIES:Adult
ATTACH;FMTTYPE=image/jpeg:https://wasagabeachpubliclibrary.ca/wp-content/uploads/2025/11/bafbe46d56ff1e4fd0d5f0be0edecda0.jpg
END:VEVENT
BEGIN:VEVENT
DTSTART;TZID=America/Toronto:20260412T130000
DTEND;TZID=America/Toronto:20260412T153000
DTSTAMP:20260425T082829
CREATED:20260304T153520Z
LAST-MODIFIED:20260412T042347Z
UID:10006697-1775998800-1776007800@wasagabeachpubliclibrary.ca
SUMMARY:Make a Wet Felted Bowl (Adults)
DESCRIPTION:Learn the basics of wet felting and turn wool into a unique\, eco-friendly bowl or plant holder.\n\n\n📌 Ages: Adults💳 Wasaga Beach Public Library card required for registration. \nJoin Shirley to discover the magic of turning wool into beautiful eco-friendly felt vessels.  You will learn the basics of wet felting techniques using an inflatable ball as a resist to create your own one-of-a kind creation.  Your finished vessel will be about 6” in height.  Awaken your creative side and find joy in the art of the handmade! \nPlease bring a dark bath or beach towel to assist you with the messy part of the process! \nFree. All supplies provided.
URL:https://wasagabeachpubliclibrary.ca/events/make-a-wet-felted-bowl-adults/
LOCATION:Wasaga Beach Public Library\, 544 River Road West\, Wasaga Beach\, ON\, L9Z 2P1\, Canada
CATEGORIES:Adult
ATTACH;FMTTYPE=image/jpeg:https://wasagabeachpubliclibrary.ca/wp-content/uploads/2026/03/93ac7d0af5dbc64ef60d92fbdfa6ad46.jpg
END:VEVENT
BEGIN:VEVENT
DTSTART;TZID=America/Toronto:20260413T133000
DTEND;TZID=America/Toronto:20260413T150000
DTSTAMP:20260425T082829
CREATED:20251217T012320Z
LAST-MODIFIED:20260413T043826Z
UID:10006300-1776087000-1776092400@wasagabeachpubliclibrary.ca
SUMMARY:Stitch & Talk
DESCRIPTION:Enjoy a cozy mix of creativity and conversation.
URL:https://wasagabeachpubliclibrary.ca/events/stitch-talk-13/
LOCATION:Wasaga Beach Public Library\, 544 River Road West\, Wasaga Beach\, ON\, L9Z 2P1\, Canada
CATEGORIES:Adult
ATTACH;FMTTYPE=image/jpeg:https://wasagabeachpubliclibrary.ca/wp-content/uploads/2024/02/7a403526ce149b2f0c6357b04583705e.jpg
END:VEVENT
BEGIN:VEVENT
DTSTART;TZID=America/Toronto:20260414T110000
DTEND;TZID=America/Toronto:20260414T120000
DTSTAMP:20260425T082829
CREATED:20251223T030753Z
LAST-MODIFIED:20260414T113945Z
UID:10006347-1776164400-1776168000@wasagabeachpubliclibrary.ca
SUMMARY:Rhythm of the Beach Drum Circle
DESCRIPTION:Drumming with your hands and getting into the rhythm with the group can be therapeutic\, hypnotic or just plain fun!
URL:https://wasagabeachpubliclibrary.ca/events/rhythm-of-the-beach-drum-circle-109/
LOCATION:Wasaga Beach Public Library\, 544 River Road West\, Wasaga Beach\, ON\, L9Z 2P1\, Canada
CATEGORIES:Adult
ATTACH;FMTTYPE=image/jpeg:https://wasagabeachpubliclibrary.ca/wp-content/uploads/2024/01/8ff99475de3de8b6573bcfdfc5136eff.jpg
END:VEVENT
BEGIN:VEVENT
DTSTART;TZID=America/Toronto:20260414T110000
DTEND;TZID=America/Toronto:20260414T120000
DTSTAMP:20260425T082829
CREATED:20260218T054950Z
LAST-MODIFIED:20260223T070534Z
UID:10006662-1776164400-1776168000@wasagabeachpubliclibrary.ca
SUMMARY:Tech Q & A: iPhones and iPads
DESCRIPTION:Come ask our tech expert drew about any burning question you have about your Apple device.
URL:https://wasagabeachpubliclibrary.ca/events/tech-q-a-iphones-and-ipads-2/
LOCATION:Wasaga Beach Public Library\, 544 River Road West\, Wasaga Beach\, ON\, L9Z 2P1\, Canada
CATEGORIES:Adult
ATTACH;FMTTYPE=image/jpeg:https://wasagabeachpubliclibrary.ca/wp-content/uploads/2026/02/dc432392ed8334c68df4b1c2bee12fc5.jpg
END:VEVENT
BEGIN:VEVENT
DTSTART;TZID=America/Toronto:20260414T110000
DTEND;TZID=America/Toronto:20260414T120000
DTSTAMP:20260425T082829
CREATED:20260309T172428Z
LAST-MODIFIED:20260414T045614Z
UID:10006707-1776164400-1776168000@wasagabeachpubliclibrary.ca
SUMMARY:1 on 1 Tech Help
DESCRIPTION:1-on-1 appointments to help guide you through your any and all of your technology challenges.
URL:https://wasagabeachpubliclibrary.ca/events/1-on-1-tech-help-107/
LOCATION:Wasaga Beach Public Library\, 544 River Road West\, Wasaga Beach\, ON\, L9Z 2P1\, Canada
CATEGORIES:Adult
ATTACH;FMTTYPE=image/jpeg:https://wasagabeachpubliclibrary.ca/wp-content/uploads/2025/06/3e3410a8c6d2a025683138c630ab83c2.jpg
END:VEVENT
BEGIN:VEVENT
DTSTART;TZID=America/Toronto:20260414T180000
DTEND;TZID=America/Toronto:20260414T194500
DTSTAMP:20260425T082829
CREATED:20260401T182408Z
LAST-MODIFIED:20260414T045656Z
UID:10006764-1776189600-1776195900@wasagabeachpubliclibrary.ca
SUMMARY:Wasaga Beach Chess Club
DESCRIPTION:Teens & adults: learn chess basics with a short lesson\, then play practice games. Beginners welcome; all levels.
URL:https://wasagabeachpubliclibrary.ca/events/wasaga-beach-chess-club-11/
LOCATION:Wasaga Beach Public Library\, 544 River Road West\, Wasaga Beach\, ON\, L9Z 2P1\, Canada
CATEGORIES:Adult
ATTACH;FMTTYPE=image/jpeg:https://wasagabeachpubliclibrary.ca/wp-content/uploads/2026/01/29dbe7a838dba3af1b810a07c355e838.jpg
END:VEVENT
BEGIN:VEVENT
DTSTART;TZID=America/Toronto:20260414T190000
DTEND;TZID=America/Toronto:20260414T210000
DTSTAMP:20260425T082829
CREATED:20251010T213605Z
LAST-MODIFIED:20260414T113801Z
UID:10005554-1776193200-1776200400@wasagabeachpubliclibrary.ca
SUMMARY:Wasaga Writers Club
DESCRIPTION:Experienced and amateur writers are welcome to join meetings to share writing\, seek critiques and enjoy the creative process.
URL:https://wasagabeachpubliclibrary.ca/events/wasaga-writers-club-26/
LOCATION:Wasaga Beach Public Library\, 544 River Road West\, Wasaga Beach\, ON\, L9Z 2P1\, Canada
CATEGORIES:Adult
ATTACH;FMTTYPE=image/jpeg:https://wasagabeachpubliclibrary.ca/wp-content/uploads/2026/01/4b4d8a1beb4e122c3357839f04d9ad55.jpg
END:VEVENT
BEGIN:VEVENT
DTSTART;TZID=America/Toronto:20260415T130000
DTEND;TZID=America/Toronto:20260415T150000
DTSTAMP:20260425T082829
CREATED:20260317T035423Z
LAST-MODIFIED:20260415T050842Z
UID:10006716-1776258000-1776265200@wasagabeachpubliclibrary.ca
SUMMARY:Sew Savvy Adults: Women’s Cross Back Apron (Intermediate Level)
DESCRIPTION:For the intermediate or advanced sewer\, create a cross-back apron in this two-part workshop (April 15 & 27)\n\n\n🎟️ Registration requires a WBPL membership card. \nLooking for the perfect Mother’s Day gift? Sew a handmade cross-back apron for mom — or for yourself. \nThis class is intended for intermediate to experienced sewers with sewing machine confidence and is not recommended for beginners. Participants must be available to attend both class dates: April 15 and April 27. \nPlease note that participants are required to bring their own supplies. The pattern will be provided\, and thread is available at the library\, though you may wish to bring thread to match your fabric. Cotton or cotton-blend fabric is recommended. \nFabric requirements by size:XL (42–44” bust): 4 m of 115 cm wide fabric or 3.1 m of 150 cm wide fabricL (38–40” bust): 3.8 m of 115 cm wide fabric or 3.1 m of 150 cm wide fabricM (34–36” bust): 3.7 m of 115 cm wide fabric or 3 m of 150 cm wide fabricS (31–32” bust): 3.6 m of 115 cm wide fabric or 3 m of 150 cm wide fabricXS (29–30” bust): 3.6 m of 115 cm wide fabric or 3 m of 150 cm wide fabric \nSpace is limited. If you register and can no longer attend\, please let us know so we can offer your spot to someone on the wait-list.
URL:https://wasagabeachpubliclibrary.ca/events/sew-savvy-adults-womens-cross-back-apron-intermediate-level/
LOCATION:Wasaga Beach Public Library\, 544 River Road West\, Wasaga Beach\, ON\, L9Z 2P1\, Canada
CATEGORIES:Adult
ATTACH;FMTTYPE=image/jpeg:https://wasagabeachpubliclibrary.ca/wp-content/uploads/2026/03/7be906bd045c2949f79d8dda8fd19d1d.jpg
END:VEVENT
BEGIN:VEVENT
DTSTART;TZID=America/Toronto:20260415T183000
DTEND;TZID=America/Toronto:20260415T194500
DTSTAMP:20260425T082829
CREATED:20260320T043824Z
LAST-MODIFIED:20260415T050842Z
UID:10006730-1776277800-1776282300@wasagabeachpubliclibrary.ca
SUMMARY:Adult Trivia Night at the Library
DESCRIPTION:Think you know it all? Prove it! Join our Adult Trivia Night for fun\, facts\, and friendly competition.
URL:https://wasagabeachpubliclibrary.ca/events/adult-trivia-night-at-the-library-6/
LOCATION:Wasaga Beach Public Library\, 544 River Road West\, Wasaga Beach\, ON\, L9Z 2P1\, Canada
CATEGORIES:Adult
ATTACH;FMTTYPE=image/jpeg:https://wasagabeachpubliclibrary.ca/wp-content/uploads/2026/03/521cb040f8ce2b353e7d07b7d7b69497.jpg
END:VEVENT
BEGIN:VEVENT
DTSTART;TZID=America/Toronto:20260416T110000
DTEND;TZID=America/Toronto:20260416T120000
DTSTAMP:20260425T082829
CREATED:20260309T172429Z
LAST-MODIFIED:20260416T052249Z
UID:10006708-1776337200-1776340800@wasagabeachpubliclibrary.ca
SUMMARY:1 on 1 Tech Help
DESCRIPTION:1-on-1 appointments to help guide you through your any and all of your technology challenges.
URL:https://wasagabeachpubliclibrary.ca/events/1-on-1-tech-help-108/
LOCATION:Wasaga Beach Public Library\, 544 River Road West\, Wasaga Beach\, ON\, L9Z 2P1\, Canada
CATEGORIES:Adult
ATTACH;FMTTYPE=image/jpeg:https://wasagabeachpubliclibrary.ca/wp-content/uploads/2025/06/3e3410a8c6d2a025683138c630ab83c2.jpg
END:VEVENT
BEGIN:VEVENT
DTSTART;TZID=America/Toronto:20260416T130000
DTEND;TZID=America/Toronto:20260416T140000
DTSTAMP:20260425T082829
CREATED:20251217T012213Z
LAST-MODIFIED:20260416T115315Z
UID:10006219-1776344400-1776348000@wasagabeachpubliclibrary.ca
SUMMARY:Bring Your Own Book Club
DESCRIPTION:Join this “virtual book club” via ZOOM where you BYOB – bring your own book!
URL:https://wasagabeachpubliclibrary.ca/events/bring-your-own-book-club-79/
LOCATION:ON
CATEGORIES:Adult
ATTACH;FMTTYPE=image/jpeg:https://wasagabeachpubliclibrary.ca/wp-content/uploads/2026/01/32b2cdc7667cab5b2f0d65638b25948b.jpg
END:VEVENT
BEGIN:VEVENT
DTSTART;TZID=America/Toronto:20260416T130000
DTEND;TZID=America/Toronto:20260416T140000
DTSTAMP:20260425T082829
CREATED:20260218T054930Z
LAST-MODIFIED:20260416T052250Z
UID:10006657-1776344400-1776348000@wasagabeachpubliclibrary.ca
SUMMARY:Tech Class: Intermediate Android Devices
DESCRIPTION:Are you beyond the basics but not quite an expert when it comes to using your Android device? Then this program is perfect for you.
URL:https://wasagabeachpubliclibrary.ca/events/tech-class-intermediate-android-devices-4/
LOCATION:Wasaga Beach Public Library\, 544 River Road West\, Wasaga Beach\, ON\, L9Z 2P1\, Canada
CATEGORIES:Adult
ATTACH;FMTTYPE=image/jpeg:https://wasagabeachpubliclibrary.ca/wp-content/uploads/2025/02/383e54003e4cc4ee136518d31e0b7db1.jpg
END:VEVENT
BEGIN:VEVENT
DTSTART;TZID=America/Toronto:20260416T140000
DTEND;TZID=America/Toronto:20260416T150000
DTSTAMP:20260425T082829
CREATED:20260323T160829Z
LAST-MODIFIED:20260416T052252Z
UID:10006737-1776348000-1776351600@wasagabeachpubliclibrary.ca
SUMMARY:Georgian Bay: A Pulse Check on our Ecosystem
DESCRIPTION:Join us ahead of Earth Day to learn more about Georgian Bay\, the work of Georgian Bay Forever and how you can help.\n\n\nJoin Nicolaas Love of Georgian Bay Forever for an engaging look at the history and current state of Georgian Bay. This presentation will explore key issues affecting the Bay\, including water quality\, invasive species\, climate change\, and microplastics. Drawing on the latest research\, Nicolaas will highlight the challenges facing this important ecosystem and the work Georgian Bay Forever is doing to help protect it. \nTo learn more\, visit:georgianbayforever.orgFacebook: Georgian Bay ForeverInstagram: @gbayforever
URL:https://wasagabeachpubliclibrary.ca/events/understanding-the-water-ecosystems-and-threats-to-georgian-bay/
LOCATION:Wasaga Beach Public Library\, 544 River Road West\, Wasaga Beach\, ON\, L9Z 2P1\, Canada
CATEGORIES:Adult
ATTACH;FMTTYPE=image/jpeg:https://wasagabeachpubliclibrary.ca/wp-content/uploads/2026/03/ac2b9dc48f3e57117d3dd572d71db45f.jpg
END:VEVENT
BEGIN:VEVENT
DTSTART;TZID=America/Toronto:20260416T183000
DTEND;TZID=America/Toronto:20260416T200000
DTSTAMP:20260425T082829
CREATED:20260323T160832Z
LAST-MODIFIED:20260416T052252Z
UID:10006738-1776364200-1776369600@wasagabeachpubliclibrary.ca
SUMMARY:Intro to Salsa Dancing
DESCRIPTION:Immerse yourself in the Latin culture! Learn to Salsa!
URL:https://wasagabeachpubliclibrary.ca/events/intro-to-salsa-dancing-2/
LOCATION:Wasaga Beach Public Library\, 544 River Road West\, Wasaga Beach\, ON\, L9Z 2P1\, Canada
CATEGORIES:Adult
ATTACH;FMTTYPE=image/jpeg:https://wasagabeachpubliclibrary.ca/wp-content/uploads/2026/03/e55ad7f812b786e86f2f580511b65b0a.jpg
END:VEVENT
BEGIN:VEVENT
DTSTART;TZID=America/Toronto:20260417T130000
DTEND;TZID=America/Toronto:20260417T150000
DTSTAMP:20260425T082829
CREATED:20260218T054953Z
LAST-MODIFIED:20260417T053832Z
UID:10006663-1776430800-1776438000@wasagabeachpubliclibrary.ca
SUMMARY:Make a Fun Fascinator
DESCRIPTION:Make a one of a kind fascinator to sip in style at the Friends of the Library Spring Tea social.\n\n\n📌 Ages: Adults💳 Wasaga Beach Public Library card required for registration. \nPlanning to attend the May 2nd Friends of the Wasaga Beach Public Library fundraiser tea?Channel your inner duchess and make a fascinator fit for royal company. No crown required — just creativity! \nFree. All supplies provided.
URL:https://wasagabeachpubliclibrary.ca/events/make-a-fun-fascinator/
LOCATION:Wasaga Beach Public Library\, 544 River Road West\, Wasaga Beach\, ON\, L9Z 2P1\, Canada
CATEGORIES:Adult
ATTACH;FMTTYPE=image/jpeg:https://wasagabeachpubliclibrary.ca/wp-content/uploads/2026/02/de56835bed8086735f61d5a0703e61d6.jpg
END:VEVENT
BEGIN:VEVENT
DTSTART;TZID=America/Toronto:20260417T150000
DTEND;TZID=America/Toronto:20260417T163000
DTSTAMP:20260425T082829
CREATED:20251127T120615Z
LAST-MODIFIED:20260417T120715Z
UID:10005938-1776438000-1776443400@wasagabeachpubliclibrary.ca
SUMMARY:Friday Afternoon Book Club
DESCRIPTION:Join the fun! Friday Afternoon Book Club usually meets on the 1st & 3rd Fridays of each month. This group is fragrance-free.
URL:https://wasagabeachpubliclibrary.ca/events/friday-afternoon-book-club-73/
LOCATION:Wasaga Beach Public Library\, 544 River Road West\, Wasaga Beach\, ON\, L9Z 2P1\, Canada
CATEGORIES:Adult
ATTACH;FMTTYPE=image/jpeg:https://wasagabeachpubliclibrary.ca/wp-content/uploads/2024/01/34db741846911495712a19821f5b3af0-1.jpg
END:VEVENT
BEGIN:VEVENT
DTSTART;TZID=America/Toronto:20260417T180000
DTEND;TZID=America/Toronto:20260417T194500
DTSTAMP:20260425T082829
CREATED:20260323T160925Z
LAST-MODIFIED:20260417T053832Z
UID:10006740-1776448800-1776455100@wasagabeachpubliclibrary.ca
SUMMARY:Drop In Board Games & Cards for Adults
DESCRIPTION:Love board games and cards?  Drop in for a casual Friday night out just for adults.
URL:https://wasagabeachpubliclibrary.ca/events/drop-in-board-games-cards-for-adults-2/
LOCATION:Wasaga Beach Public Library\, 544 River Road West\, Wasaga Beach\, ON\, L9Z 2P1\, Canada
CATEGORIES:Adult
ATTACH;FMTTYPE=image/jpeg:https://wasagabeachpubliclibrary.ca/wp-content/uploads/2026/03/e01b4ebe88e96b27d0c8db3b5cdfb173.jpg
END:VEVENT
END:VCALENDAR