BEGIN:VCALENDAR
VERSION:2.0
PRODID:-//Wasaga Beach Public Library - ECPv6.15.20//NONSGML v1.0//EN
CALSCALE:GREGORIAN
METHOD:PUBLISH
X-WR-CALNAME:Wasaga Beach Public Library
X-ORIGINAL-URL:https://wasagabeachpubliclibrary.ca
X-WR-CALDESC:Events for Wasaga Beach Public Library
REFRESH-INTERVAL;VALUE=DURATION:PT1H
X-Robots-Tag:noindex
X-PUBLISHED-TTL:PT1H
BEGIN:VTIMEZONE
TZID:America/Toronto
BEGIN:DAYLIGHT
TZOFFSETFROM:-0500
TZOFFSETTO:-0400
TZNAME:EDT
DTSTART:20250309T070000
END:DAYLIGHT
BEGIN:STANDARD
TZOFFSETFROM:-0400
TZOFFSETTO:-0500
TZNAME:EST
DTSTART:20251102T060000
END:STANDARD
BEGIN:DAYLIGHT
TZOFFSETFROM:-0500
TZOFFSETTO:-0400
TZNAME:EDT
DTSTART:20260308T070000
END:DAYLIGHT
BEGIN:STANDARD
TZOFFSETFROM:-0400
TZOFFSETTO:-0500
TZNAME:EST
DTSTART:20261101T060000
END:STANDARD
BEGIN:DAYLIGHT
TZOFFSETFROM:-0500
TZOFFSETTO:-0400
TZNAME:EDT
DTSTART:20270314T070000
END:DAYLIGHT
BEGIN:STANDARD
TZOFFSETFROM:-0400
TZOFFSETTO:-0500
TZNAME:EST
DTSTART:20271107T060000
END:STANDARD
END:VTIMEZONE
BEGIN:VEVENT
DTSTART;TZID=America/Toronto:20260315T100000
DTEND;TZID=America/Toronto:20260315T160000
DTSTAMP:20260420T141237
CREATED:20260218T054938Z
LAST-MODIFIED:20260315T160808Z
UID:10006659-1773568800-1773590400@wasagabeachpubliclibrary.ca
SUMMARY:Pop Up Museum: Bridging Generations & Sharing Stories
DESCRIPTION:Join us as we come together for a day of community storytelling as we celebrate local history and memories of Wasaga Beach\n\n\nThe Wasaga Beach Public Library is proud to bring the community together for the showcase and wrap-up of its 2025/26 project\, Bridging Generations: Preserving Memories\, Building Connections\, funded by the Ontario Government’s Seniors Community Grant. \nThis free public event invites all ages to step back in time and experience a celebration of Wasaga Beach history through a curated gallery\, artifacts\, interactive exhibits\, displays\, and daylong memory sharing. \nOn Sunday\, March 15\, the Library will be transformed into a walk-through historical experience\, featuring a Pop-Up Museum Day\, open from 10:00 AM to 4:00 PM. \nHighlights include:\n\nHands-on stations and activities for children (available all day)\nAll-ages storytelling stations with live historians and memory champions (11:00 AM – 12:30 PM)\n1:00 PM – 3:00 PM – Open Mic Sharing: Stories and Memories of Wasaga BeachA live community storytelling event. Sparked by a memory? Guests are welcome to share a story or two\, if they wish. Registration recommended.\nAnd more throughout the day\n\nRegistration is not required for self-directed Pop-Up Museum visits. \nA limited supply of the 50th Anniversary Edition of Wasaga Saga by Thelma Morrison will also be available at the Library’s Main Circulation Desk.
URL:https://wasagabeachpubliclibrary.ca/events/pop-up-museum-bridging-generations-sharing-stories/
LOCATION:Wasaga Beach Public Library\, 544 River Road West\, Wasaga Beach\, ON\, L9Z 2P1\, Canada
CATEGORIES:Adult,Child & Youth
ATTACH;FMTTYPE=image/jpeg:https://wasagabeachpubliclibrary.ca/wp-content/uploads/2026/02/8202ef5533be3ff20af31ad4098ba706.jpg
END:VEVENT
END:VCALENDAR