BEGIN:VCALENDAR
VERSION:2.0
PRODID:-//Wasaga Beach Public Library - ECPv6.15.20//NONSGML v1.0//EN
CALSCALE:GREGORIAN
METHOD:PUBLISH
X-ORIGINAL-URL:https://wasagabeachpubliclibrary.ca
X-WR-CALDESC:Events for Wasaga Beach Public Library
REFRESH-INTERVAL;VALUE=DURATION:PT1H
X-Robots-Tag:noindex
X-PUBLISHED-TTL:PT1H
BEGIN:VTIMEZONE
TZID:America/Toronto
BEGIN:DAYLIGHT
TZOFFSETFROM:-0500
TZOFFSETTO:-0400
TZNAME:EDT
DTSTART:20240310T070000
END:DAYLIGHT
BEGIN:STANDARD
TZOFFSETFROM:-0400
TZOFFSETTO:-0500
TZNAME:EST
DTSTART:20241103T060000
END:STANDARD
BEGIN:DAYLIGHT
TZOFFSETFROM:-0500
TZOFFSETTO:-0400
TZNAME:EDT
DTSTART:20250309T070000
END:DAYLIGHT
BEGIN:STANDARD
TZOFFSETFROM:-0400
TZOFFSETTO:-0500
TZNAME:EST
DTSTART:20251102T060000
END:STANDARD
BEGIN:DAYLIGHT
TZOFFSETFROM:-0500
TZOFFSETTO:-0400
TZNAME:EDT
DTSTART:20260308T070000
END:DAYLIGHT
BEGIN:STANDARD
TZOFFSETFROM:-0400
TZOFFSETTO:-0500
TZNAME:EST
DTSTART:20261101T060000
END:STANDARD
END:VTIMEZONE
BEGIN:VEVENT
DTSTART;TZID=America/Toronto:20250707T100000
DTEND;TZID=America/Toronto:20250707T113000
DTSTAMP:20260423T080242
CREATED:20250605T035117Z
LAST-MODIFIED:20250707T150626Z
UID:10004381-1751882400-1751887800@wasagabeachpubliclibrary.ca
SUMMARY:Microplastics Investigation Workshop
DESCRIPTION:Discover the impact of microplastics on the ecosystem and human health.\n\n\n📅 Ages: 8-13📌 Wasaga Beach Public Library card required for registration. \nPresented in partnership with Georgian Bay Forever and the Nottawasaga Valley Conservation Authority \nDive into the science of sustainability! This interactive workshop invites children to explore the impact of microplastics on our environment and discover how small changes can lead to big solutions. \nParticipants will use hands-on scientific techniques and real equipment to gather samples\, record data\, and investigate their findings. Through teamwork and creative problem-solving\, kids will develop a deeper understanding of environmental issues and how they can make a difference. \nPlease Note:Participants must arrive on time. Late arrivals may forfeit their spot to a waitlisted participant.
URL:https://wasagabeachpubliclibrary.ca/events/microplastics-investigation-workshop/
LOCATION:Wasaga Beach Public Library\, 544 River Road West\, Wasaga Beach\, ON\, L9Z 2P1\, Canada
CATEGORIES:Child & Youth
ATTACH;FMTTYPE=image/jpeg:https://wasagabeachpubliclibrary.ca/wp-content/uploads/2025/06/969678d569916ba177fbcd186a695e72.jpg
END:VEVENT
BEGIN:VEVENT
DTSTART;TZID=America/Toronto:20250707T103000
DTEND;TZID=America/Toronto:20250707T113000
DTSTAMP:20260423T080242
CREATED:20250331T194414Z
LAST-MODIFIED:20250627T184101Z
UID:10004611-1751884200-1751887800@wasagabeachpubliclibrary.ca
SUMMARY:EarlyON Little Artists - Metis Art
DESCRIPTION:We are excited to welcome Angelia as she joins us today to explores Metis Art and build community together. Angelia is from Simcoe North and is our the EarlyON Indigenous Coordinator through Simcoe North. \nPlease dress for a mess! \n2 years and up. \nPre-screening is also required for each member visiting our program. \nPre-registration is recommended for EarlyON programming as space is limited. \nSign up for your account here: https://www.missioninc.com/cso/simcoe/en-ca/sign-in
URL:https://wasagabeachpubliclibrary.ca/events/earlyon-little-artists-metis-art/2025-07-07/
LOCATION:Wasaga Beach Public Library | Remax Room South\, 544 River Road West\, Wasaga Beach\, Ontario\, L9Z 2X2\, Canada
CATEGORIES:Child & Youth,Community Partners
ORGANIZER;CN="EarlyON":MAILTO:jmoore@e3.ca
END:VEVENT
BEGIN:VEVENT
DTSTART;TZID=America/Toronto:20250708T100000
DTEND;TZID=America/Toronto:20250708T104500
DTSTAMP:20260423T080242
CREATED:20241207T052051Z
LAST-MODIFIED:20250708T105232Z
UID:10002910-1751968800-1751971500@wasagabeachpubliclibrary.ca
SUMMARY:Music & Storytime
DESCRIPTION:Listen\, sing\, and play! Kids (ages 2-6) pick picture books to share\, then join Miss Lesley for music fun with percussion instruments.
URL:https://wasagabeachpubliclibrary.ca/events/music-storytime-101/
LOCATION:Wasaga Beach Public Library\, 544 River Road West\, Wasaga Beach\, ON\, L9Z 2P1\, Canada
CATEGORIES:Child & Youth
ATTACH;FMTTYPE=image/jpeg:https://wasagabeachpubliclibrary.ca/wp-content/uploads/2024/01/5ef3b0e54af8aee0a2e04c07223db1cb.jpg
END:VEVENT
BEGIN:VEVENT
DTSTART;TZID=America/Toronto:20250708T123000
DTEND;TZID=America/Toronto:20250708T133000
DTSTAMP:20260423T080242
CREATED:20250605T035118Z
LAST-MODIFIED:20250707T150626Z
UID:10004382-1751977800-1751981400@wasagabeachpubliclibrary.ca
SUMMARY:Rhythm Explorers: Djembe Drumming for Kids
DESCRIPTION:Join Miss Lesley at WBPL for a weekly program full of fun\, creativity\, and learning for kids ages 8 to 14.
URL:https://wasagabeachpubliclibrary.ca/events/rhythm-explorers-djembe-drumming-for-kids/
LOCATION:Wasaga Beach Public Library\, 544 River Road West\, Wasaga Beach\, ON\, L9Z 2P1\, Canada
CATEGORIES:Child & Youth
ATTACH;FMTTYPE=image/jpeg:https://wasagabeachpubliclibrary.ca/wp-content/uploads/2025/06/ad10bdbbcbd963f1fb4281be70e8c9c8.jpg
END:VEVENT
BEGIN:VEVENT
DTSTART;TZID=America/Toronto:20250708T140000
DTEND;TZID=America/Toronto:20250708T150000
DTSTAMP:20260423T080242
CREATED:20250612T050650Z
LAST-MODIFIED:20250707T150627Z
UID:10004511-1751983200-1751986800@wasagabeachpubliclibrary.ca
SUMMARY:Passport to Creativity
DESCRIPTION:Travel the globe without leaving the craft table!
URL:https://wasagabeachpubliclibrary.ca/events/passport-to-creativity/
LOCATION:Wasaga Beach Public Library\, 544 River Road West\, Wasaga Beach\, ON\, L9Z 2P1\, Canada
CATEGORIES:Child & Youth
ATTACH;FMTTYPE=image/jpeg:https://wasagabeachpubliclibrary.ca/wp-content/uploads/2025/06/f90f68bf4332a762c870f17659b7020b.jpg
END:VEVENT
BEGIN:VEVENT
DTSTART;TZID=America/Toronto:20250708T163000
DTEND;TZID=America/Toronto:20250708T183000
DTSTAMP:20260423T080242
CREATED:20250614T234031Z
LAST-MODIFIED:20250707T150627Z
UID:10004527-1751992200-1751999400@wasagabeachpubliclibrary.ca
SUMMARY:Needle Felting and Kumihima Braiding Name Tag
DESCRIPTION:Join our special Textile Artist Shirley Sutton for a fun-filled evening.\n\n\n📚 A Wasaga Beach Public Library membership is required. \nAges: 10–18 years old \nJoin local textile artist Shirley Sutton for a creative and sustainable workshop that gives new life to discarded fabrics while introducing you to the art of textile crafting! \nIn this hands-on session\, participants will use needle felting and kumihimo braiding to create a one-of-a-kind name tag using upcycled materials. You’ll learn how to safely write your name with yarn on a wool blanket base using a special felting needle\, then braid your own cord from repurposed yarn to wear your eco-friendly name tag proudly. \n📌 All materials provided. WBPL card required.
URL:https://wasagabeachpubliclibrary.ca/events/needle-felting-and-kumihima-braiding-name-tag/
LOCATION:Wasaga Beach Public Library\, 544 River Road West\, Wasaga Beach\, ON\, L9Z 2P1\, Canada
CATEGORIES:Child & Youth
ATTACH;FMTTYPE=image/jpeg:https://wasagabeachpubliclibrary.ca/wp-content/uploads/2025/06/ff002960e235a6a9c5e62ebed5adf37d.jpg
END:VEVENT
BEGIN:VEVENT
DTSTART;TZID=America/Toronto:20250709T103000
DTEND;TZID=America/Toronto:20250709T113000
DTSTAMP:20260423T080242
CREATED:20250605T035121Z
LAST-MODIFIED:20250709T035142Z
UID:10004389-1752057000-1752060600@wasagabeachpubliclibrary.ca
SUMMARY:A Taste of the World: Japanese Sushi
DESCRIPTION:A global food adventure for kids!\n\n\n📚 A Wasaga Beach Public Library membership is required.✅ Registration is required. \nAges: 5–12 years old \nEmbark on a global adventure—no passport required! \nEach week includes: \n\nA spotlight on a different country\nStorytime or fun cultural facts\nA hands-on craft\n\nAges: 5–12 years oldNote: Parents/guardians must remain on library premises. To allow for maximum participation\, seating inside the program room is reserved for children only. Viewing and waiting areas are available nearby.
URL:https://wasagabeachpubliclibrary.ca/events/a-taste-of-the-world-japanese-sushi/
LOCATION:Wasaga Beach Public Library\, 544 River Road West\, Wasaga Beach\, ON\, L9Z 2P1\, Canada
CATEGORIES:Child & Youth
ATTACH;FMTTYPE=image/jpeg:https://wasagabeachpubliclibrary.ca/wp-content/uploads/2025/06/a997b19231d9b03e37d63c09bdfdf826.jpg
END:VEVENT
BEGIN:VEVENT
DTSTART;TZID=America/Toronto:20250709T130000
DTEND;TZID=America/Toronto:20250709T140000
DTSTAMP:20260423T080242
CREATED:20250605T035115Z
LAST-MODIFIED:20250709T110822Z
UID:10004374-1752066000-1752069600@wasagabeachpubliclibrary.ca
SUMMARY:The Lego Lab
DESCRIPTION:Join WBPL this summer\, for a weekly Lego adventure!
URL:https://wasagabeachpubliclibrary.ca/events/the-lego-lab-2/
LOCATION:Wasaga Beach Public Library\, 544 River Road West\, Wasaga Beach\, ON\, L9Z 2P1\, Canada
CATEGORIES:Child & Youth
ATTACH;FMTTYPE=image/jpeg:https://wasagabeachpubliclibrary.ca/wp-content/uploads/2025/06/e0ff98dde54ec175d76c4733c2b42bf1.jpg
END:VEVENT
BEGIN:VEVENT
DTSTART;TZID=America/Toronto:20250710T103000
DTEND;TZID=America/Toronto:20250710T113000
DTSTAMP:20260423T080242
CREATED:20250612T050654Z
LAST-MODIFIED:20250710T040643Z
UID:10004518-1752143400-1752147000@wasagabeachpubliclibrary.ca
SUMMARY:World of Wonders: Summer STEM
DESCRIPTION:Join us weekly as we explore the world through hands-on fun with STEM!
URL:https://wasagabeachpubliclibrary.ca/events/world-of-wonders-summer-stem/
LOCATION:Wasaga Beach Public Library\, 544 River Road West\, Wasaga Beach\, ON\, L9Z 2P1\, Canada
CATEGORIES:Child & Youth
ATTACH;FMTTYPE=image/jpeg:https://wasagabeachpubliclibrary.ca/wp-content/uploads/2025/06/102bf31107d054c2964139dfa709c80e.jpg
END:VEVENT
BEGIN:VEVENT
DTSTART;TZID=America/Toronto:20250710T130000
DTEND;TZID=America/Toronto:20250710T140000
DTSTAMP:20260423T080242
CREATED:20250605T035123Z
LAST-MODIFIED:20250710T040643Z
UID:10004390-1752152400-1752156000@wasagabeachpubliclibrary.ca
SUMMARY:Globetrotting Tales: An Around the World Journey Through Films and Books
DESCRIPTION:Let’s explore the world through films and books!
URL:https://wasagabeachpubliclibrary.ca/events/globetrotting-tales-an-around-the-world-journey-through-films-and-books/
LOCATION:Wasaga Beach Public Library\, 544 River Road West\, Wasaga Beach\, ON\, L9Z 2P1\, Canada
CATEGORIES:Child & Youth
ATTACH;FMTTYPE=image/jpeg:https://wasagabeachpubliclibrary.ca/wp-content/uploads/2025/06/8e0605d3523751ac42f0787a9d833fdd.jpg
END:VEVENT
BEGIN:VEVENT
DTSTART;TZID=America/Toronto:20250711T100000
DTEND;TZID=America/Toronto:20250711T110000
DTSTAMP:20260423T080242
CREATED:20250626T195358Z
LAST-MODIFIED:20250626T195358Z
UID:10004551-1752228000-1752231600@wasagabeachpubliclibrary.ca
SUMMARY:Baby and Me
DESCRIPTION:Join other parents and their babies to meet in an informal\, supportive environment. Enjoy topics of interest\, songs and stories.
URL:https://wasagabeachpubliclibrary.ca/events/baby-and-me-7/2025-07-11/
LOCATION:Wasaga Beach Public Library\, 544 River Road West\, Wasaga Beach\, ON\, L9Z 2P1\, Canada
CATEGORIES:Child & Youth
END:VEVENT
END:VCALENDAR