BEGIN:VCALENDAR
VERSION:2.0
PRODID:-//Wasaga Beach Public Library - ECPv6.15.20//NONSGML v1.0//EN
CALSCALE:GREGORIAN
METHOD:PUBLISH
X-WR-CALNAME:Wasaga Beach Public Library
X-ORIGINAL-URL:https://wasagabeachpubliclibrary.ca
X-WR-CALDESC:Events for Wasaga Beach Public Library
REFRESH-INTERVAL;VALUE=DURATION:PT1H
X-Robots-Tag:noindex
X-PUBLISHED-TTL:PT1H
BEGIN:VTIMEZONE
TZID:America/Toronto
BEGIN:DAYLIGHT
TZOFFSETFROM:-0500
TZOFFSETTO:-0400
TZNAME:EDT
DTSTART:20250309T070000
END:DAYLIGHT
BEGIN:STANDARD
TZOFFSETFROM:-0400
TZOFFSETTO:-0500
TZNAME:EST
DTSTART:20251102T060000
END:STANDARD
BEGIN:DAYLIGHT
TZOFFSETFROM:-0500
TZOFFSETTO:-0400
TZNAME:EDT
DTSTART:20260308T070000
END:DAYLIGHT
BEGIN:STANDARD
TZOFFSETFROM:-0400
TZOFFSETTO:-0500
TZNAME:EST
DTSTART:20261101T060000
END:STANDARD
BEGIN:DAYLIGHT
TZOFFSETFROM:-0500
TZOFFSETTO:-0400
TZNAME:EDT
DTSTART:20270314T070000
END:DAYLIGHT
BEGIN:STANDARD
TZOFFSETFROM:-0400
TZOFFSETTO:-0500
TZNAME:EST
DTSTART:20271107T060000
END:STANDARD
END:VTIMEZONE
BEGIN:VEVENT
DTSTART;TZID=America/Toronto:20260112T103000
DTEND;TZID=America/Toronto:20260112T113000
DTSTAMP:20260423T061011
CREATED:20251203T161329Z
LAST-MODIFIED:20260107T153411Z
UID:10006139-1768213800-1768217400@wasagabeachpubliclibrary.ca
SUMMARY:Little Artists
DESCRIPTION:Ages: 2–6 years! Discover a world of art and sensory play! \nEach week\, you and your child can explore new materials and creative activities designed to spark imagination and fun. Please dress for a mess—creativity can get a little messy! \nRegistration Link:\nhttps://www.missioninc.com/cso/simcoe/en-ca/earlyon/calendar?ho_id_num=182&prov_id_num=149 \n 
URL:https://wasagabeachpubliclibrary.ca/events/little-artists-3/2026-01-12/
LOCATION:Wasaga Beach Public Library\, 544 River Road West\, Wasaga Beach\, ON\, L9Z 2P1\, Canada
CATEGORIES:Child & Youth,Community Partners
ORGANIZER;CN="EarlyON":MAILTO:jmoore@e3.ca
END:VEVENT
BEGIN:VEVENT
DTSTART;TZID=America/Toronto:20260112T133000
DTEND;TZID=America/Toronto:20260112T143000
DTSTAMP:20260423T061011
CREATED:20251203T153814Z
LAST-MODIFIED:20260107T153510Z
UID:10006096-1768224600-1768228200@wasagabeachpubliclibrary.ca
SUMMARY:Baby and Me
DESCRIPTION:Come play\, sing\, and connect with other families! \nJoin us Mondays from 1:30 PM – 2:30 PM for a fun and engaging session for babies 0–12 months and their caregivers. \nPre-register at www.e3.ca
URL:https://wasagabeachpubliclibrary.ca/events/baby-and-me-8/2026-01-12/
LOCATION:Wasaga Beach Public Library\, 544 River Road West\, Wasaga Beach\, ON\, L9Z 2P1\, Canada
CATEGORIES:Child & Youth,Community Partners
ORGANIZER;CN="EarlyON":MAILTO:jmoore@e3.ca
END:VEVENT
BEGIN:VEVENT
DTSTART;TZID=America/Toronto:20260113T100000
DTEND;TZID=America/Toronto:20260113T110000
DTSTAMP:20260423T061011
CREATED:20251217T012248Z
LAST-MODIFIED:20260112T204628Z
UID:10006240-1768298400-1768302000@wasagabeachpubliclibrary.ca
SUMMARY:Music & Storytime
DESCRIPTION:Listen\, sing\, and play! Kids (ages 2-6) pick picture books to share\, then join Miss Lesley for music fun with percussion instruments.
URL:https://wasagabeachpubliclibrary.ca/events/music-storytime-128/
LOCATION:Wasaga Beach Public Library\, 544 River Road West\, Wasaga Beach\, ON\, L9Z 2P1\, Canada
CATEGORIES:Child & Youth
ATTACH;FMTTYPE=image/jpeg:https://wasagabeachpubliclibrary.ca/wp-content/uploads/2026/01/0c5f8158d9e12ed47d756c9254d8727f.jpg
END:VEVENT
BEGIN:VEVENT
DTSTART;TZID=America/Toronto:20260114T103000
DTEND;TZID=America/Toronto:20260114T113000
DTSTAMP:20260423T061011
CREATED:20251209T040711Z
LAST-MODIFIED:20260113T205900Z
UID:10006189-1768386600-1768390200@wasagabeachpubliclibrary.ca
SUMMARY:Caregiver and Cub Book Club
DESCRIPTION:Join WBPL’s Caregiver & Cub Book Club! Monthly Wednesday fun with stories\, crafts & games for toddlers to kindergarten.
URL:https://wasagabeachpubliclibrary.ca/events/caregiver-and-cub-book-club-5/
LOCATION:Wasaga Beach Public Library\, 544 River Road West\, Wasaga Beach\, ON\, L9Z 2P1\, Canada
CATEGORIES:Child & Youth
ATTACH;FMTTYPE=image/jpeg:https://wasagabeachpubliclibrary.ca/wp-content/uploads/2025/12/e265b08c4e1d982b9f1e97a36fd076bd.jpg
END:VEVENT
BEGIN:VEVENT
DTSTART;TZID=America/Toronto:20260115T170000
DTEND;TZID=America/Toronto:20260115T180000
DTSTAMP:20260423T061011
CREATED:20251204T142235Z
LAST-MODIFIED:20260115T144411Z
UID:10006181-1768496400-1768500000@wasagabeachpubliclibrary.ca
SUMMARY:Lego Lab
DESCRIPTION:LEGO Lab at WBPL! Kids in Grades 3–8 build\, invent & solve challenges with LEGO while exploring creativity & teamwork.
URL:https://wasagabeachpubliclibrary.ca/events/lego-lab-5/
LOCATION:Wasaga Beach Public Library\, 544 River Road West\, Wasaga Beach\, ON\, L9Z 2P1\, Canada
CATEGORIES:Child & Youth
ATTACH;FMTTYPE=image/jpeg:https://wasagabeachpubliclibrary.ca/wp-content/uploads/2025/12/5197e57212a98ee3831c8cb9325fb2ee.jpg
END:VEVENT
END:VCALENDAR