BEGIN:VCALENDAR
VERSION:2.0
PRODID:-//Wasaga Beach Public Library - ECPv6.15.20//NONSGML v1.0//EN
CALSCALE:GREGORIAN
METHOD:PUBLISH
X-ORIGINAL-URL:https://wasagabeachpubliclibrary.ca
X-WR-CALDESC:Events for Wasaga Beach Public Library
REFRESH-INTERVAL;VALUE=DURATION:PT1H
X-Robots-Tag:noindex
X-PUBLISHED-TTL:PT1H
BEGIN:VTIMEZONE
TZID:America/Toronto
BEGIN:DAYLIGHT
TZOFFSETFROM:-0500
TZOFFSETTO:-0400
TZNAME:EDT
DTSTART:20230312T070000
END:DAYLIGHT
BEGIN:STANDARD
TZOFFSETFROM:-0400
TZOFFSETTO:-0500
TZNAME:EST
DTSTART:20231105T060000
END:STANDARD
BEGIN:DAYLIGHT
TZOFFSETFROM:-0500
TZOFFSETTO:-0400
TZNAME:EDT
DTSTART:20240310T070000
END:DAYLIGHT
BEGIN:STANDARD
TZOFFSETFROM:-0400
TZOFFSETTO:-0500
TZNAME:EST
DTSTART:20241103T060000
END:STANDARD
BEGIN:DAYLIGHT
TZOFFSETFROM:-0500
TZOFFSETTO:-0400
TZNAME:EDT
DTSTART:20250309T070000
END:DAYLIGHT
BEGIN:STANDARD
TZOFFSETFROM:-0400
TZOFFSETTO:-0500
TZNAME:EST
DTSTART:20251102T060000
END:STANDARD
END:VTIMEZONE
BEGIN:VEVENT
DTSTART;TZID=America/Toronto:20240729T100000
DTEND;TZID=America/Toronto:20240729T110000
DTSTAMP:20260421T075038
CREATED:20240604T184556Z
LAST-MODIFIED:20240604T184621Z
UID:10001996-1722247200-1722250800@wasagabeachpubliclibrary.ca
SUMMARY:Home Horizon Youth Outreach
DESCRIPTION:Our Your S.A.F.E. outreach program works with additional vulnerable youth to identify safe living spaces and provides direction to assist them in regaining control of their lives. Our S.A.F.E. outreach programs serve youth aged 16-29. Since the launch of this program in July 2020\,we have served 127 youth\, with over 1085 service interactions (referrals\, goalsetting\, supplies\, workshops\, etc.)\, many in the Wasaga Beach area. \nThrough our outreach services\, we supply important items such as tents\, sleeping bags\, food\, hygiene products\, grocery gift cards\, masks & sanitizers\, jackets\, hand warmers\, clothes\, and much more. \nThe program also provides support and advocacy for mental health\, physical health (new family doctor)\, legal matters\, financial aid\, rental/tenant advocacy as well as referrals to other housing agencies. \nThe program has been an incredible success to date. It helps one of our most vulnerable populations to avoid falling through the cracks\, providing every individual who come in contact with our outreach worker the chance to feel safe and heard. We work with all marginalized youth regardless of their race\, gender\, sexual orientation\, family situations and socio-economic background. \nOur programs are designed to assist youth struggling with social inequalities with tools that will help them to cope and grow stronger to manage and address any bias they face in life.
URL:https://wasagabeachpubliclibrary.ca/events/home-horizon-youth-outreach/2024-07-29/
LOCATION:Wasaga Beach Public Library\, 544 River Road West\, Wasaga Beach\, ON\, L9Z 2P1\, Canada
CATEGORIES:Community Partners
ATTACH;FMTTYPE=image/jpeg:https://wasagabeachpubliclibrary.ca/wp-content/uploads/2024/06/home-horizon-scaled.jpg
ORGANIZER;CN="Home Horizon":MAILTO:jessica@homehorizon.ca
END:VEVENT
BEGIN:VEVENT
DTSTART;TZID=America/Toronto:20240729T133000
DTEND;TZID=America/Toronto:20240729T150000
DTSTAMP:20260421T075038
CREATED:20240223T015338Z
LAST-MODIFIED:20240728T213728Z
UID:10000852-1722259800-1722265200@wasagabeachpubliclibrary.ca
SUMMARY:Stitch-Talk-Walk
DESCRIPTION:Join us every Monday for a cozy knitting and crochet circle at the library! Get creative\, enjoy conversation\, and take a walk on the track.
URL:https://wasagabeachpubliclibrary.ca/events/stitch-talk-walk-22/
LOCATION:Wasaga Beach Public Library\, 544 River Road West\, Wasaga Beach\, ON\, L9Z 2P1\, Canada
CATEGORIES:Adult
ATTACH;FMTTYPE=image/jpeg:https://wasagabeachpubliclibrary.ca/wp-content/uploads/2024/02/7a403526ce149b2f0c6357b04583705e.jpg
END:VEVENT
BEGIN:VEVENT
DTSTART;TZID=America/Toronto:20240729T163000
DTEND;TZID=America/Toronto:20240729T173000
DTSTAMP:20260421T075038
CREATED:20240711T172351Z
LAST-MODIFIED:20240729T202143Z
UID:10002395-1722270600-1722274200@wasagabeachpubliclibrary.ca
SUMMARY:Intro to 3D Printing for Families
DESCRIPTION:Families can learn together how a 3D printer functions with step-by-step instructions that will help you master your own projects.
URL:https://wasagabeachpubliclibrary.ca/events/intro-to-3d-printing-for-families-8/
LOCATION:Wasaga Beach Public Library\, 544 River Road West\, Wasaga Beach\, ON\, L9Z 2P1\, Canada
CATEGORIES:Child & Youth,Makerspace
ATTACH;FMTTYPE=image/jpeg:https://wasagabeachpubliclibrary.ca/wp-content/uploads/2024/05/ae72fc871523d61937b5b8b910537f71.jpg
END:VEVENT
BEGIN:VEVENT
DTSTART;TZID=America/Toronto:20240730T100000
DTEND;TZID=America/Toronto:20240730T104500
DTSTAMP:20260421T075038
CREATED:20240123T084007Z
LAST-MODIFIED:20240729T215129Z
UID:10000422-1722333600-1722336300@wasagabeachpubliclibrary.ca
SUMMARY:Music & Storytime
DESCRIPTION:Listen to your favourite books\, sing tunes and play along with instruments.
URL:https://wasagabeachpubliclibrary.ca/events/music-storytime-54/
LOCATION:Wasaga Beach Public Library\, 544 River Road West\, Wasaga Beach\, ON\, L9Z 2P1\, Canada
CATEGORIES:Child & Youth
ATTACH;FMTTYPE=image/jpeg:https://wasagabeachpubliclibrary.ca/wp-content/uploads/2024/01/5ef3b0e54af8aee0a2e04c07223db1cb.jpg
END:VEVENT
BEGIN:VEVENT
DTSTART;TZID=America/Toronto:20240730T110000
DTEND;TZID=America/Toronto:20240730T120000
DTSTAMP:20260421T075038
CREATED:20240325T173731Z
LAST-MODIFIED:20240729T215158Z
UID:10001039-1722337200-1722340800@wasagabeachpubliclibrary.ca
SUMMARY:Rhythm of the Beach Drum Circle
DESCRIPTION:Drumming with your hands and getting into the rhythm with the group can be therapeutic\, hypnotic or just plain fun!
URL:https://wasagabeachpubliclibrary.ca/events/rhythm-of-the-beach-drum-circle-26/
LOCATION:Wasaga Beach Public Library\, 544 River Road West\, Wasaga Beach\, ON\, L9Z 2P1\, Canada
CATEGORIES:Adult
ATTACH;FMTTYPE=image/jpeg:https://wasagabeachpubliclibrary.ca/wp-content/uploads/2024/01/8ff99475de3de8b6573bcfdfc5136eff.jpg
END:VEVENT
BEGIN:VEVENT
DTSTART;TZID=America/Toronto:20240730T110000
DTEND;TZID=America/Toronto:20240730T123000
DTSTAMP:20260421T075038
CREATED:20240627T092129Z
LAST-MODIFIED:20240729T215345Z
UID:10002370-1722337200-1722342600@wasagabeachpubliclibrary.ca
SUMMARY:Creative Kids: 3D Print Your Own Keychain!
DESCRIPTION:Unlock the world of 3D printing with our fun and hands-on workshop designed especially for kids!
URL:https://wasagabeachpubliclibrary.ca/events/creative-kids-3d-print-your-own-keychain-4/
LOCATION:Wasaga Beach Public Library\, 544 River Road West\, Wasaga Beach\, ON\, L9Z 2P1\, Canada
CATEGORIES:Child & Youth,Makerspace
ATTACH;FMTTYPE=image/jpeg:https://wasagabeachpubliclibrary.ca/wp-content/uploads/2024/06/12e9ae1c7e7453d335bd1eee77458eb6.jpg
END:VEVENT
BEGIN:VEVENT
DTSTART;TZID=America/Toronto:20240730T130000
DTEND;TZID=America/Toronto:20240730T140000
DTSTAMP:20260421T075038
CREATED:20240602T213756Z
LAST-MODIFIED:20240729T215332Z
UID:10001970-1722344400-1722348000@wasagabeachpubliclibrary.ca
SUMMARY:TD Summer Reading Space Club
DESCRIPTION:Blast off into a world of imagination and exploration with our Summer Reading Space Club.
URL:https://wasagabeachpubliclibrary.ca/events/td-summer-reading-space-club-5/
LOCATION:Wasaga Beach Public Library\, 544 River Road West\, Wasaga Beach\, ON\, L9Z 2P1\, Canada
CATEGORIES:Child & Youth
ATTACH;FMTTYPE=image/jpeg:https://wasagabeachpubliclibrary.ca/wp-content/uploads/2024/06/dad46cb99463fd3cb35ec041c6e205ea.jpg
END:VEVENT
BEGIN:VEVENT
DTSTART;TZID=America/Toronto:20240731T103000
DTEND;TZID=America/Toronto:20240731T111000
DTSTAMP:20260421T075038
CREATED:20240611T210533Z
LAST-MODIFIED:20240731T045140Z
UID:10002057-1722421800-1722424200@wasagabeachpubliclibrary.ca
SUMMARY:Professor Snape’s Magic Show
DESCRIPTION:Don’t miss the fun as Professor Snape captivates the audience with magic and wizardry!\n\n\nExperience an enchanting performance filled with spellbinding tricks and mystical marvels. Perfect for aspiring wizards and magic enthusiasts of all ages\, this show is sure to delight and amaze.  \nJoin us for an unforgettable magical adventure! \nAges 5 – 12 years.
URL:https://wasagabeachpubliclibrary.ca/events/professor-snapes-magic-show/
LOCATION:Wasaga Beach Public Library\, 544 River Road West\, Wasaga Beach\, ON\, L9Z 2P1\, Canada
CATEGORIES:Child & Youth
ATTACH;FMTTYPE=image/jpeg:https://wasagabeachpubliclibrary.ca/wp-content/uploads/2024/06/ecf51a42da67f43d19cdf934401cd2f1.jpg
END:VEVENT
BEGIN:VEVENT
DTSTART;TZID=America/Toronto:20240731T140000
DTEND;TZID=America/Toronto:20240731T150000
DTSTAMP:20260421T075038
CREATED:20240627T092132Z
LAST-MODIFIED:20240731T045139Z
UID:10002374-1722434400-1722438000@wasagabeachpubliclibrary.ca
SUMMARY:Sticker Art: Kids' Workshop
DESCRIPTION:Let your creativity shine at our fun and interactive sticker design workshop!
URL:https://wasagabeachpubliclibrary.ca/events/sticker-art-kids-workshop-4/
LOCATION:Wasaga Beach Public Library\, 544 River Road West\, Wasaga Beach\, ON\, L9Z 2P1\, Canada
CATEGORIES:Child & Youth,Makerspace
ATTACH;FMTTYPE=image/jpeg:https://wasagabeachpubliclibrary.ca/wp-content/uploads/2024/06/d736c266c76cbd7c1972f078ac73d415.jpg
END:VEVENT
BEGIN:VEVENT
DTSTART;TZID=America/Toronto:20240801T100000
DTEND;TZID=America/Toronto:20240801T110000
DTSTAMP:20260421T075038
CREATED:20240522T123553Z
LAST-MODIFIED:20240731T222359Z
UID:10001884-1722506400-1722510000@wasagabeachpubliclibrary.ca
SUMMARY:Storytime Special Guest: Tasneem Dairywala
DESCRIPTION:Join artist\, author and educator Tasneem Dairywala as she reads her most recent picture book release\, The Little Elf Finds His Spark.\n\n\nThe Little Elf Finds His Spark is a modern fairytale celebrating kindness and self-acceptance. It is suitable for children aged 4 to 8\, but readers of all ages can enjoy it. Grab your copy today and enter a world of magic! Stick around after the reading\, as an art activity to follow. \nAs an artist\, author\, and educator\, Tasneem is passionate about creating stories that spark joy and curiosity in young readers. Her five-year-old is her biggest inspiration and motivation for writing books that can shape the minds and hearts of future generations. She lives in Wasaga Beach\, Ontario\, and can be found online at TasneemDairywala.com. \nChildren ages 4 to 8.
URL:https://wasagabeachpubliclibrary.ca/events/storytime-special-guest-tasneem-dairywala-2/
LOCATION:Wasaga Beach Public Library\, 544 River Road West\, Wasaga Beach\, ON\, L9Z 2P1\, Canada
CATEGORIES:Child & Youth
ATTACH;FMTTYPE=image/jpeg:https://wasagabeachpubliclibrary.ca/wp-content/uploads/2024/05/f7b13db1b2e5b26f3ef5ac9f2150cb11.jpg
END:VEVENT
BEGIN:VEVENT
DTSTART;TZID=America/Toronto:20240801T110000
DTEND;TZID=America/Toronto:20240801T123000
DTSTAMP:20260421T075038
CREATED:20240712T235157Z
LAST-MODIFIED:20240731T222359Z
UID:10002405-1722510000-1722515400@wasagabeachpubliclibrary.ca
SUMMARY:Unlock Your Creativity: 3D Print a Keychain for Adults
DESCRIPTION:Discover the fascinating world of 3D printing with our hands-on workshop designed specifically for adults!
URL:https://wasagabeachpubliclibrary.ca/events/unlock-your-creativity-3d-print-a-keychain-for-adults-4/
LOCATION:Wasaga Beach Public Library\, 544 River Road West\, Wasaga Beach\, ON\, L9Z 2P1\, Canada
CATEGORIES:Adult,Makerspace
ATTACH;FMTTYPE=image/jpeg:https://wasagabeachpubliclibrary.ca/wp-content/uploads/2024/07/0bbe6e7f7719b36ab0a84bb2827cafff.jpg
END:VEVENT
BEGIN:VEVENT
DTSTART;TZID=America/Toronto:20240801T130000
DTEND;TZID=America/Toronto:20240801T140000
DTSTAMP:20260421T075038
CREATED:20240602T213806Z
LAST-MODIFIED:20240731T222358Z
UID:10001985-1722517200-1722520800@wasagabeachpubliclibrary.ca
SUMMARY:Summer Crafternoon
DESCRIPTION:Join us as we gather together to explore imaginative ways to upcycle and turn trash into treasures.
URL:https://wasagabeachpubliclibrary.ca/events/summer-crafternoon-5/
LOCATION:Wasaga Beach Public Library\, 544 River Road West\, Wasaga Beach\, ON\, L9Z 2P1\, Canada
CATEGORIES:Child & Youth
ATTACH;FMTTYPE=image/jpeg:https://wasagabeachpubliclibrary.ca/wp-content/uploads/2024/06/b382ae8fb1bfabb5aef2068007da2a19.jpg
END:VEVENT
BEGIN:VEVENT
DTSTART;TZID=America/Toronto:20240801T140000
DTEND;TZID=America/Toronto:20240801T150000
DTSTAMP:20260421T075038
CREATED:20240712T235159Z
LAST-MODIFIED:20240731T222359Z
UID:10002410-1722520800-1722524400@wasagabeachpubliclibrary.ca
SUMMARY:Adult Sticker Design Class
DESCRIPTION:Unleash your creativity in our sticker design workshop for adults!
URL:https://wasagabeachpubliclibrary.ca/events/adult-sticker-design-class-4/
LOCATION:Wasaga Beach Public Library\, 544 River Road West\, Wasaga Beach\, ON\, L9Z 2P1\, Canada
CATEGORIES:Adult,Makerspace
ATTACH;FMTTYPE=image/jpeg:https://wasagabeachpubliclibrary.ca/wp-content/uploads/2024/07/97605ada94c3bfe83699aef1e49500bf.jpg
END:VEVENT
BEGIN:VEVENT
DTSTART;TZID=America/Toronto:20240801T180000
DTEND;TZID=America/Toronto:20240801T190000
DTSTAMP:20260421T075038
CREATED:20240501T205342Z
LAST-MODIFIED:20250904T210014Z
UID:10004843-1722535200-1722538800@wasagabeachpubliclibrary.ca
SUMMARY:English Conversation Circle With Welcome Centre Immigrant Services
DESCRIPTION:English Conversational Circle for Newcomers\nImprove your English skills in a friendly setting hosted by Welcome Centre Immigrant Services. \n\n\nService Coordination by Ian Cowie \n\n\nDirect Line: 289-338-5140\nToll-Free: 1-877-761-1155\nEmail: mobileunit@welcomecentre.ca
URL:https://wasagabeachpubliclibrary.ca/events/english-conversation-circle-with-welcome-centre-immigrant-services/2024-08-01/
LOCATION:Wasaga Beach Public Library\, 544 River Road West\, Wasaga Beach\, ON\, L9Z 2P1\, Canada
CATEGORIES:Community Partners
ATTACH;FMTTYPE=image/jpeg:https://wasagabeachpubliclibrary.ca/wp-content/uploads/2024/05/immigrant-welome-centre-scaled.jpg
END:VEVENT
BEGIN:VEVENT
DTSTART;TZID=America/Toronto:20240802T100000
DTEND;TZID=America/Toronto:20240802T110000
DTSTAMP:20260421T075038
CREATED:20240605T161106Z
LAST-MODIFIED:20240920T134803Z
UID:10002027-1722592800-1722596400@wasagabeachpubliclibrary.ca
SUMMARY:EarlyON Baby and Me
DESCRIPTION:Baby and Me \nJoin other parents and their babies to meet in an informal\, supportive environment. Each week a topic of interest is presented along with songs and stories. \nPre-Registration is recommended for this program: https://www.missioninc.com/cso/simcoe/en-ca/earlyon/options
URL:https://wasagabeachpubliclibrary.ca/events/earlyon-baby-and-me-9/2024-08-02/
LOCATION:Wasaga Beach Public Library\, 544 River Road West\, Wasaga Beach\, ON\, L9Z 2P1\, Canada
CATEGORIES:Child & Youth,Community Partners
ATTACH;FMTTYPE=image/png:https://wasagabeachpubliclibrary.ca/wp-content/uploads/2024/06/e3logo-1.png
ORGANIZER;CN="EarlyON":MAILTO:jmoore@e3.ca
END:VEVENT
BEGIN:VEVENT
DTSTART;TZID=America/Toronto:20240802T130000
DTEND;TZID=America/Toronto:20240802T140000
DTSTAMP:20260421T075038
CREATED:20240712T235202Z
LAST-MODIFIED:20240801T223912Z
UID:10002414-1722603600-1722607200@wasagabeachpubliclibrary.ca
SUMMARY:Recycled Abstract Mask Making
DESCRIPTION:Join us for our Recycled Abstract Mask Making workshop\, where children can blend their creativity with recycled materials!\n\n\nDiscover the joy of creativity in our recycled abstract mask making wokshop for kids! In this hands on session\, kids wil explore their imagination as they transform ordinay cardboard into one of a kind masks. It’s a fun-filled opportunity for kids to express themsleves artistically while making a positive impact on the planet! \n \nAges 10 and up.  \nRegistration required.
URL:https://wasagabeachpubliclibrary.ca/events/recycled-abstract-mask-making/
LOCATION:Wasaga Beach Public Library\, 544 River Road West\, Wasaga Beach\, ON\, L9Z 2P1\, Canada
CATEGORIES:Child & Youth,Makerspace
ATTACH;FMTTYPE=image/jpeg:https://wasagabeachpubliclibrary.ca/wp-content/uploads/2024/07/4f6e6a1ca8472a80ba4ceb7829c397a5.jpg
END:VEVENT
END:VCALENDAR